Workbook

Sheet Grafy

Sheet Statistiky
B1: Vzdálenost | E1: Doba | H1: Průměrná rychlost | K1: Nastoupané metry | N1: km na jednu vyjížďku | O1: Kolik mě stojí km jízdy | U1: Pořadí | V1: Rok | W1: km
A2: Rok | B2: Bez Elišky | C2: S Eliškou | D2: Celkem | E2: Bez Elišky | F2: S Eliškou | G2: Celkem | H2: Bez Elišky | I2: S Eliškou | J2: Celkem | K2: Bez Elišky | L2: S Eliškou | M2: Celkem | U2: 1 | V2: 2020 | W2: =D12 -> 3296.05
A3: 2011 | B3: =SUM('2011'!C1:C48) -> 1690.22 | C3: - | D3: =B3 -> 1690.22 | E3: =SUM('2011'!E13:E48) -> 1.9761806 | F3: - | G3: =E3 -> 1.9761806 | H3: =AVERAGE('2011'!D13:D48) -> 21.634167 | I3: - | J3: =H3 -> 21.634167 | K3: - | L3: - | M3: =K3 -> - | N3: - | O3: - | Q3: Cesta kolem světa | U3: 2 | V3: 2023 | W3: =$D$15 -> 2868.16
A4: 2012 | B4: ='2012'!$C$50 -> 2220.53 | C4: - | D4: =B4 -> 2220.53 | E4: =SUM('2012'!E1:E48) -> 4.3607176 | F4: - | G4: =E4 -> 4.3607176 | H4: =AVERAGE('2012'!D1:D48) -> 20.97717 | I4: - | J4: =H4 -> 20.97717 | K4: - | L4: - | M4: =K4 -> - | N4: - | O4: - | Q4: Vzdálenost k pokoření | R4: =40075-R5 -> 5621.9 | U4: 3 | V4: 2018 | W4: =$B$10 -> 2865.69
A5: 2013 | B5: =SUM('2013'!C2:C34) -> 1626.93 | C5: - | D5: =B5 -> 1626.93 | E5: =SUM('2013'!E2:E34) -> 3.4778704 | F5: - | G5: =E5 -> 3.4778704 | H5: =AVERAGE('2013'!D2:D34) -> 19.492188 | I5: - | J5: =H5 -> 19.492188 | K5: =SUM('2013'!G12:G34) -> 11385 | L5: - | M5: =K5 -> 11385 | N5: - | O5: - | Q5: Pokořená vzdálenost | R5: =D18 -> 34453.1 | U5: 4 | V5: 2019 | W5: =D11 -> 2816.11
A6: 2014 | B6: =SUM('2014'!B2:B66) -> 2580.55 | C6: - | D6: =B6 -> 2580.55 | E6: =SUM('2014'!C2:C66) -> 5.5386806 | F6: - | G6: =E6 -> 5.5386806 | H6: =AVERAGE('2014'!D2:D66) -> 19.324914 | I6: - | J6: =H6 -> 19.324914 | K6: =SUM('2014'!E2:E53) -> 24437 | L6: - | M6: =K6 -> 24437 | N6: ='2014'!B82/'2014'!C82 -> 43.009167 | O6: - | Q6: Délka rovníku | R6: =SUM(R4:R5) -> 40075 | U6: 5 | V6: 2022 | W6: =$D$14 -> 2771.79
A7: 2015 | B7: =SUM('2015'!B2:B67) -> 1708.24 | C7: - | D7: =B7 -> 1708.24 | E7: =SUM('2015'!C2:C67) -> 5.4506481 | F7: - | G7: =E7 -> 5.4506481 | H7: =AVERAGE('2015'!D2:D67) -> 19.150192 | I7: - | J7: =H7 -> 19.150192 | K7: =SUM('2015'!E2:E70) -> 18623 | L7: - | M7: =K7 -> 18623 | N7: ='2015'!B80/'2015'!C80 -> 31.058909 | O7: - | Q7: Pokoření Everestu | R7: =R8/8848.86 -> 38.491512 | U7: 6 | V7: 2024 | W7: =$D$16 -> 2624.93
A8: 2016 | B8: =SUM('2016'!D2:D66) -> 2001.82 | C8: - | D8: =B8 -> 2001.82 | E8: =SUM('2016'!E2:E70) -> 9.0383565 | F8: - | G8: =E8 -> 9.0383565 | H8: =AVERAGE('2016'!F2:F66) -> 18.516129 | I8: - | J8: =H8 -> 18.516129 | K8: =SUM('2016'!G2:G70) -> 21711 | L8: - | M8: =K8 -> 21711 | N8: ='2016'!C83/'2016'!D83 -> 32.363492 | O8: ='2016'!I67/B8 -> 3.4653465 | Q8: Pokořeno výškových metrů | R8: =M18 -> 340606 | U8: 7 | V8: 2014 | W8: =$B$6 -> 2580.55
A9: 2017 | B9: =SUM('2017'!D2:D66) -> 1660.56 | C9: - | D9: =B9 -> 1660.56 | E9: =SUM('2017'!E2:E66) -> 6.0966667 | F9: - | G9: =E9 -> 6.0966667 | H9: =AVERAGE('2017'!F2:F66) -> 19.443333 | I9: - | J9: =H9 -> 19.443333 | K9: =SUM('2017'!G2:G66) -> 19000 | L9: - | M9: =K9 -> 19000 | N9: ='2017'!C83/'2017'!D83 -> 30.751111 | O9: ='2017'!I67/B9 -> 4.3473286 | Q9: Průměrně km za rok | R9: =D18/COUNT(D3:D17) -> 2296.8733 | U9: 8 | V9: 2012 | W9: =$B$4 -> 2220.53
A10: 2018 | B10: ='2018'!D112 -> 2865.69 | C10: - | D10: =B10 -> 2865.69 | E10: ='2018'!E112 -> 6.1419329 | F10: - | G10: =E10 -> 6.1419329 | H10: ='2018'!F112 -> 20.106845 | I10: - | J10: =H10 -> 20.106845 | K10: ='2018'!G112 -> 31182 | L10: - | M10: =K10 -> 31182 | N10: ='2018'!C128/'2018'!D128 -> 27.822233 | O10: ='2018'!I113 -> 2.3558026 | Q10: Celkem dní na kole | R10: =G18/24 -> 3.5040302 | U10: 9 | V10: 2021 | W10: =$D$13 -> 2145.97
A11: 2019 | B11: ='2019'!D133 -> 2386.13 | C11: ='2019'!K6 -> 429.98 | D11: =SUM(B11:C11) -> 2816.11 | E11: ='2019'!E133 -> 5.1867014 | F11: ='2019'!L6 -> 1.1868981 | G11: =SUM(E11:F11) -> 6.3735995 | H11: ='2019'!F133 -> 20.270316 | I11: ='2019'!M6 -> 14.755 | J11: =AVERAGE(H11:I11) -> 17.512658 | K11: ='2019'!G133 -> 26587 | L11: ='2019'!N6 -> 4316 | M11: =SUM(K11:L11) -> 30903 | N11: ='2019'!E149/'2019'!F149 -> 24.353053 | O11: ='2019'!I134 -> 0.66635095 | U11: 10 | V11: 2016 | W11: =$B$8 -> 2001.82
A12: 2020 | B12: =SUM('2020'!D135) -> 2972.9 | C12: ='2020'!K6 -> 323.15 | D12: =SUM(B12:C12) -> 3296.05 | E12: =SUM('2020'!E135) -> 6.3516088 | F12: ='2020'!L6 -> 0.8630787 | G12: =SUM(E12:F12) -> 7.2146875 | H12: ='2020'!F135 -> 20.405139 | I12: ='2020'!M6 -> 15.0525 | J12: =AVERAGE(H12:I12) -> 17.728819 | K12: ='2020'!G135 -> 36162 | L12: ='2020'!N6 -> 3064 | M12: =SUM(K12:L12) -> 39226 | N12: ='2020'!C151/'2020'!D151 -> 25.099385 | O12: ='2020'!I136 -> 0.55871371 | U12: 11 | V12: 2015 | W12: =$B$7 -> 1708.24
A13: 2021 | B13: =SUM('2021'!D135) -> 1990.76 | C13: ='2021'!G151 -> 155.21 | D13: =SUM(B13:C13) -> 2145.97 | E13: =SUM('2021'!E135) -> 4.6303472 | F13: ='2021'!L6 -> 0.69256944 | G13: =SUM(E13:F13) -> 5.3229167 | H13: ='2021'!F135 -> 19.383 | I13: ='2021'!M6 -> 9.296 | J13: =AVERAGE(H13:I13) -> 14.3395 | K13: ='2021'!G135 -> 25985 | L13: ='2021'!N6 -> 1546 | M13: =SUM(K13:L13) -> 27531 | N13: ='2021'!C151/'2021'!D151 -> 26.824625 | O13: ='2021'!I136 -> 3.7814704 | U13: 12 | V13: 2011 | W13: =$B$3 -> 1690.22
A14: 2022 | B14: ='2022'!D141 -> 2597.42 | C14: ='2022'!G157 -> 174.37 | D14: =SUM(B14:C14) -> 2771.79 | E14: ='2022'!E141 -> 5.8147338 | F14: ='2022'!M5 -> 0.74070602 | G14: =SUM(E14:F14) -> 6.5554398 | H14: ='2022'!F141 -> 19.63679 | I14: ='2022'!N5 -> 10.0425 | J14: =AVERAGE(H14:I14) -> 14.839645 | K14: ='2022'!G141 -> 32658 | L14: ='2022'!O5 -> 1148 | M14: =SUM(K14:L14) -> 33806 | N14: ='2022'!C157/'2022'!D157 -> 31.143708 | O14: ='2022'!I142 -> 2.8836307 | U14: 13 | V14: 2017 | W14: =$B$9 -> 1660.56
A15: 2023 | B15: ='2023'!D141 -> 2639.61 | C15: ='2023'!G157 -> 228.55 | D15: =SUM(B15:C15) -> 2868.16 | E15: ='2023'!E141 -> 5.695162 | F15: ='2023'!F163 -> 0.90422454 | G15: =SUM(E15:F15) -> 6.5993866 | H15: ='2023'!$F$141 -> 20.092874 | I15: ='2023'!G163 -> 10.48 | J15: =AVERAGE(H15:I15) -> 15.286437 | K15: ='2023'!$G$141 -> 32369 | L15: ='2023'!H163 -> 1861 | M15: =SUM(K15:L15) -> 34230 | N15: ='2023'!$C$157/'2023'!$D$157 -> 28.6816 | O15: ='2023'!I142 -> 0 | U15: 14 | V15: 2013 | W15: =$B$5 -> 1626.93
A16: 2024 | B16: ='2024'!$D$141 -> 2154.43 | C16: ='2024'!$G$157 -> 470.5 | D16: =SUM($B$16:$C$16) -> 2624.93 | E16: ='2024'!$E$141 -> 4.7013426 | F16: ='2024'!$F$163 -> 1.6392824 | G16: =SUM($E$16:$F$16) -> 6.340625 | H16: ='2024'!$F$141 -> 19.81 | I16: ='2024'!$G$163 -> 11.546842 | J16: =AVERAGE(H16:I16) -> 15.678421 | K16: ='2024'!$G$141 -> 25971 | L16: ='2024'!$H$163 -> 4261 | M16: =SUM(K16:L16) -> 30232 | N16: ='2024'!$C$157/'2024'!$D$157 -> 30.881529 | O16: ='2024'!$I$142 -> 1.2526048 | U16: 15 | V16: 2025 | W16: =D17 -> 1575.55
A17: 2025 | B17: ='2025'!$D$139 -> 1437.01 | C17: ='2025'!$G$155 -> 138.54 | D17: =SUM($B$17:$C$17) -> 1575.55 | E17: ='2025'!$E$139 -> 3.0704282 | F17: ='2025'!$F$161 -> 0.53858796 | G17: =SUM($E$17:$F$17) -> 3.6090162 | H17: ='2025'!$F$139 -> 20.161282 | I17: ='2025'!$G$161 -> 11.165 | J17: =AVERAGE(H17:I17) -> 15.663141 | K17: ='2025'!$G$139 -> 16333 | L17: ='2025'!$H$161 -> 2007 | M17: =SUM(K17:L17) -> 18340 | N17: ='2025'!$C$155/'2025'!$D$155 -> 32.154082 | O17: ='2025'!$I$140 -> 2.106566
A18: Celkem | B18: =SUM(B3:B17) -> 32532.8 | C18: =SUM(C11:C17) -> 1920.3 | D18: =SUM(D3:D17) -> 34453.1 | E18: =SUM(E3:E17) -> 77.531377 | F18: =SUM(F11:F17) -> 6.5653472 | G18: =SUM(G3:G17) -> 84.096725 | H18: =AVERAGE(H3:H17) -> 19.893623 | I18: =AVERAGE(I11:I17) -> 11.762549 | J18: =AVERAGE(J3:J17) -> 17.979571 | K18: =SUM(K5:K17) -> 322403 | L18: =SUM(L11:L17) -> 18203 | M18: =SUM(M5:M17) -> 340606 | N18: =AVERAGE(N6,N7,N8,N9,N10,N11,N12,N13,N14,N15,N16,N17) -> 30.345241 | O18: =AVERAGE(O8:O11,O12,O13,O14,O15,O16,O17) -> 2.1417814

Sheet 2025
A1: Datum | B1: Popis | C1: Umístění | D1: vzdálenost | E1: čas | F1: průměrná rychlost | G1: nastoupané metry | H1: Eliška (e ) | I1: Za co | J1: Cena opravy atd.
A2: 45726 | D2: 29.6 | E2: 0.059108796 | F2: 20.87 | G2: 224 | I2: zadní kolo | J2: 3319
A3: 45728 | D3: 30.6 | E3: 0.060150463 | F3: 20.82 | G3: 297
A4: 45734 | D4: 33.42 | E4: 0.067766204 | F4: 20.5 | G4: 273
A5: 45740 | D5: 28.89 | E5: 0.056122685 | F5: 21.45 | G5: 255
A6: 45754 | D6: 30.09 | E6: 0.059675926 | F6: 21.01 | G6: 316
A7: 45755 | D7: 30.13 | E7: 0.061793981 | F7: 20.31 | G7: 338
A8: 45756 | D8: 29.12 | E8: 0.056099537 | F8: 21.63 | G8: 257
A9: 45758 | D9: 62.02 | E9: 0.12570602 | F9: 20.55 | G9: 643
A10: 45759 | D10: 6.53 | E10: 0.029328704 | F10: 9.27 | G10: 81 | H10: e
A11: 45760 | D11: 8.15 | E11: 0.034016204 | F11: 9.99 | G11: 92 | H11: e
A12: 45761 | D12: 34.75 | E12: 0.08130787 | F12: 17.8 | G12: 356 | H12: částečně s Eliškou
A13: 45762 | D13: 40.65 | E13: 0.076689815 | F13: 22.08 | G13: 413
A14: 45769 | D14: 45.76 | E14: 0.10127315 | F14: 18.83 | G14: 469 | H14: částečně s Eliškou
A15: 45770 | D15: 34.69 | E15: 0.075601852 | F15: 19.12 | G15: 356
A16: 45775 | D16: 44.26 | E16: 0.096087963 | F16: 19.19 | G16: 443
A17: 45776 | D17: 55.32 | E17: 0.110625 | F17: 20.83 | G17: 631
A18: 45777 | D18: 29.89 | E18: 0.059664352 | F18: 20.87 | G18: 291
A19: 45778 | D19: 19.27 | E19: 0.072673611 | F19: 11.05 | G19: 375 | H19: e
A20: 45779 | D20: 28.25 | E20: 0.12280093 | F20: 9.85 | G20: 529 | H20: e
A21: 45780 | D21: 5.04 | E21: 0.019178241 | F21: 10.95 | G21: 119
A22: 45783 | D22: 29.22 | E22: 0.05662037 | F22: 21.5 | G22: 240
A23: 45784 | D23: 40.22 | E23: 0.075185185 | F23: 22.29 | G23: 385
A24: 45785 | D24: 64.25 | E24: 0.15890046 | F24: 16.84 | G24: 1431
A25: 45787 | D25: 41.05 | E25: 0.085671296 | F25: 19.96 | G25: 406
A26: 45787 | D26: 9.74 | E26: 0.029965278 | F26: 13.55 | G26: 89 | H26: e
A27: 45788 | D27: 29.29 | E27: 0.11605324 | F27: 10.51 | G27: 376 | H27: e
A28: 45789 | D28: 30.2 | E28: 0.054548611 | F28: 23.06 | G28: 375
A29: 45791 | D29: 38.97 | E29: 0.072303241 | F29: 22.46 | G29: 374
A30: 45795 | D30: 8.6 | E30: 0.033032407 | F30: 10.85 | G30: 97 | H30: e
A31: 45796 | D31: 30.89 | E31: 0.061377315 | F31: 20.97 | G31: 310
A32: 45797 | D32: 41.22 | E32: 0.081215278 | F32: 21.15 | G32: 493
A33: 45798 | D33: 39.09 | E33: 0.071944444 | F33: 22.64 | G33: 384
A34: 45809 | D34: 38.46 | E34: 0.11741898 | F34: 13.65 | G34: 981
A35: 45811 | D35: 40.74 | E35: 0.076319444 | F35: 22.24 | G35: 395
A36: 45812 | D36: 46.64 | E36: 0.087685185 | F36: 22.16 | G36: 408
A37: 45813 | D37: 38.44 | E37: 0.072650463 | F37: 22.04 | G37: 341
A38: 45817 | D38: 41.1 | E38: 0.078472222 | F38: 21.4 | G38: 395
A39: 45819 | D39: 29.83 | E39: 0.0584375 | F39: 21.27 | G39: 267
A40: 45820 | D40: 33.75 | E40: 0.072835648 | F40: 19.3 | G40: 358
A41: 45822 | B41: Ztracené kobylky 2025 | C41: 7MD/93 celkem | D41: 58.34 | E41: 0.2353125 | F41: 13.4 | G41: 1184
A42: 45825 | D42: 30.71 | E42: 0.061018519 | F42: 20.97 | G42: 262
A43: 45825 | D43: 8.13 | E43: 0.026990741 | F43: 12.55 | G43: 92 | H43: e
A44: 45826 | D44: 49.58 | E44: 0.1002662 | F44: 20.6 | G44: 498
A45: 45827 | D45: 33.84 | E45: 0.071585648 | F45: 19.69 | G45: 306
A46: 45827 | D46: 10.64 | E46: 0.044108796 | F46: 10.05 | G46: 189 | H46: e
A47: 45827 | D47: 18.24 | E47: 0.038333333 | F47: 19.82 | G47: 290
A48: 45828 | D48: 25.5 | E48: 0.049224537 | F48: 21.63 | G48: 254
A49: 45830 | D49: 9.94 | E49: 0.029618056 | F49: 13.98 | G49: 87 | H49: e
A50: 45832 | D50: 32.5 | E50: 0.06625 | F50: 20.44 | G50: 315
A139: Celkem | D139: =SUM(D2:D138 )-G155 -> 1437.01 | E139: =SUM(E2:E138)-F161 -> 3.0704282 | F139: =AVERAGEIF(H2:H138,"<>e",F2:F138) -> 20.161282 | G139: =SUM(G2:G138)-H161 -> 16333 | H139: Celkem | I139: =SUM(J2:J118) -> 3319
I140: =I139/C155 -> 2.106566
C141: Celkově | E141: Bez Elišky | G141: S Eliškou
C142: Počet kilometrů | D142: Počet výjezdů | E142: Počet kilometrů | F142: Počet výjezdů | G142: Počet kilometrů | H142: Počet výjezdů
B143: Leden | C143: =SUMIFS($D$2:$D$138,$A$2:$A$138,">="&F164,$A$2:$A$138,"<="&G164) -> 0 | D143: =COUNTIFS($A$2:$A$138,">="&F164,$A$2:$A$138,"<="&G164) -> 0 | E143: =SUMIFS($D$2:$D$138,$A$2:$A$138,"<="&G164,H2:H138,"") -> 0 | F143: =COUNTIFS($A$2:$A$138,">="&F164,$A$2:$A$138,"<="&G164,H2:H138,"") -> 0 | G143: =SUMIFS($D$2:$D$138,$A$2:$A$138,"<="&G164,H2:H138,"e") -> 0 | H143: =COUNTIFS($A$2:$A$138,">="&F164,$A$2:$A$138,"<="&G164,$H$2:$H$138,"e") -> 0
B144: Únor | C144: =SUMIFS($D$2:$D$138,$A$2:$A$138,">="&F165,$A$2:$A$138,"<="&G165) -> 0 | D144: =COUNTIFS($A$2:$A$138,">="&F165,$A$2:$A$138,"<="&G165) -> 0 | E144: =SUMIFS($D$2:$D$138,$A$2:$A$138,">="&F165,$A$2:$A$138,"<="&G165,$H$2:$H$138,"") -> 0 | F144: =COUNTIFS($A$2:$A$138,">="&F165,$A$2:$A$138,"<="&G165,$H$2:$H$138,"") -> 0 | G144: =SUMIFS($D$2:$D$138,$A$2:$A$138,">="&F165,$A$2:$A$138,"<="&G165,$H$2:$H$138,"e") -> 0 | H144: =COUNTIFS($A$2:$A$138,">="&F165,$A$2:$A$138,"<="&G165,$H$2:$H$138,"e") -> 0
B145: Březen | C145: =SUMIFS($D$2:$D$138,$A$2:$A$138,">="&F166,$A$2:$A$138,"<="&G166) -> 122.51 | D145: =COUNTIFS($A$2:$A$138,">="&F166,$A$2:$A$138,"<="&G166) -> 4 | E145: =SUMIFS($D$2:$D$138,$A$2:$A$138,">="&F166,$A$2:$A$138,"<="&G166,$H$2:$H$138,"") -> 122.51 | F145: =COUNTIFS($A$2:$A$138,">="&F166,$A$2:$A$138,"<="&G166,$H$2:$H$138,"") -> 4 | G145: =SUMIFS($D$2:$D$138,$A$2:$A$138,">="&F166,$A$2:$A$138,"<="&G166,$H$2:$H$138,"e") -> 0 | H145: =COUNTIFS($A$2:$A$138,">="&F166,$A$2:$A$138,"<="&G166,$H$2:$H$138,"e") -> 0
B146: Duben | C146: =SUMIFS($D$2:$D$138,$A$2:$A$138,">="&F167,$A$2:$A$138,"<="&G167) -> 451.36 | D146: =COUNTIFS($A$2:$A$138,">="&F167,$A$2:$A$138,"<="&G167) -> 13 | E146: =SUMIFS($D$2:$D$138,$A$2:$A$138,">="&F167,$A$2:$A$138,"<="&G167,$H$2:$H$138,"") -> 356.17 | F146: =COUNTIFS($A$2:$A$138,">="&F167,$A$2:$A$138,"<="&G167,$H$2:$H$138,"") -> 9 | G146: =SUMIFS($D$2:$D$138,$A$2:$A$138,">="&F167,$A$2:$A$138,"<="&G167,$H$2:$H$138,"e") -> 14.68 | H146: =COUNTIFS($A$2:$A$138,">="&F167,$A$2:$A$138,"<="&G167,$H$2:$H$138,"e") -> 2
B147: Květen | C147: =SUMIFS($D$2:$D$138,$A$2:$A$138,">="&F168,$A$2:$A$138,"<="&G168) -> 455.3 | D147: =COUNTIFS($A$2:$A$138,">="&F168,$A$2:$A$138,"<="&G168) -> 15 | E147: =SUMIFS($D$2:$D$138,$A$2:$A$138,">="&F168,$A$2:$A$138,"<="&G168,$H$2:$H$138,"") -> 360.15 | F147: =COUNTIFS($A$2:$A$138,">="&F168,$A$2:$A$138,"<="&G168,$H$2:$H$138,"") -> 10 | G147: =SUMIFS($D$2:$D$138,$A$2:$A$138,">="&F168,$A$2:$A$138,"<="&G168,$H$2:$H$138,"e") -> 95.15 | H147: =COUNTIFS($A$2:$A$138,">="&F168,$A$2:$A$138,"<="&G168,$H$2:$H$138,"e") -> 5
B148: Červen | C148: =SUMIFS($D$2:$D$138,$A$2:$A$138,">="&F169,$A$2:$A$138,"<="&G169) -> 546.38 | D148: =COUNTIFS($A$2:$A$138,">="&F169,$A$2:$A$138,"<="&G169) -> 17 | E148: =SUMIFS($D$2:$D$138,$A$2:$A$138,">="&F169,$A$2:$A$138,"<="&G169,$H$2:$H$138,"") -> 517.67 | F148: =COUNTIFS($A$2:$A$138,">="&F169,$A$2:$A$138,"<="&G169,$H$2:$H$138,"") -> 14 | G148: =SUMIFS($D$2:$D$138,$A$2:$A$138,">="&F169,$A$2:$A$138,"<="&G169,$H$2:$H$138,"e") -> 28.71 | H148: =COUNTIFS($A$2:$A$138,">="&F169,$A$2:$A$138,"<="&G169,$H$2:$H$138,"e") -> 3
B149: Červenec | C149: =SUMIFS($D$2:$D$138,$A$2:$A$138,">="&F170,$A$2:$A$138,"<="&G170) -> 0 | D149: =COUNTIFS($A$2:$A$138,">="&F170,$A$2:$A$138,"<="&G170) -> 0 | E149: =SUMIFS($D$2:$D$138,$A$2:$A$138,">="&F170,$A$2:$A$138,"<="&G170,$H$2:$H$138,"") -> 0 | F149: =COUNTIFS($A$2:$A$138,">="&F170,$A$2:$A$138,"<="&G170,$H$2:$H$138,"") -> 0 | G149: =SUMIFS($D$2:$D$138,$A$2:$A$138,">="&F170,$A$2:$A$138,"<="&G170,$H$2:$H$138,"e") -> 0 | H149: =COUNTIFS($A$2:$A$138,">="&F170,$A$2:$A$138,"<="&G170,$H$2:$H$138,"e") -> 0
B150: Srpen | C150: =SUMIFS($D$2:$D$138,$A$2:$A$138,">="&F171,$A$2:$A$138,"<="&G171) -> 0 | D150: =COUNTIFS($A$2:$A$138,">="&F171,$A$2:$A$138,"<="&G171) -> 0 | E150: =SUMIFS($D$2:$D$138,$A$2:$A$138,">="&F171,$A$2:$A$138,"<="&G171,$H$2:$H$138,"") -> 0 | F150: =COUNTIFS($A$2:$A$138,">="&F171,$A$2:$A$138,"<="&G171,$H$2:$H$138,"") -> 0 | G150: =SUMIFS($D$2:$D$138,$A$2:$A$138,">="&F171,$A$2:$A$138,"<="&G171,$H$2:$H$138,"e") -> 0 | H150: =COUNTIFS($A$2:$A$138,">="&F171,$A$2:$A$138,"<="&G171,$H$2:$H$138,"e") -> 0
B151: Září | C151: =SUMIFS($D$2:$D$138,$A$2:$A$138,">="&F172,$A$2:$A$138,"<="&G172) -> 0 | D151: =COUNTIFS($A$2:$A$138,">="&F172,$A$2:$A$138,"<="&G172) -> 0 | E151: =SUMIFS($D$2:$D$138,$A$2:$A$138,">="&F172,$A$2:$A$138,"<="&G172,$H$2:$H$138,"") -> 0 | F151: =COUNTIFS($A$2:$A$138,">="&F172,$A$2:$A$138,"<="&G172,$H$2:$H$138,"") -> 0 | G151: =SUMIFS($D$2:$D$138,$A$2:$A$138,">="&F172,$A$2:$A$138,"<="&G172,$H$2:$H$138,"e") -> 0 | H151: =COUNTIFS($A$2:$A$138,">="&F172,$A$2:$A$138,"<="&G172,$H$2:$H$138,"e") -> 0
B152: Říjen | C152: =SUMIFS($D$2:$D$138,$A$2:$A$138,">="&F173,$A$2:$A$138,"<="&G173) -> 0 | D152: =COUNTIFS($A$2:$A$138,">="&F173,$A$2:$A$138,"<="&G173) -> 0 | E152: =SUMIFS($D$2:$D$138,$A$2:$A$138,">="&F173,$A$2:$A$138,"<="&G173,$H$2:$H$138,"") -> 0 | F152: =COUNTIFS($A$2:$A$138,">="&F173,$A$2:$A$138,"<="&G173,$H$2:$H$138,"") -> 0 | G152: =SUMIFS($D$2:$D$138,$A$2:$A$138,">="&F173,$A$2:$A$138,"<="&G173,$H$2:$H$138,"e") -> 0 | H152: =COUNTIFS($A$2:$A$138,">="&F173,$A$2:$A$138,"<="&G173,$H$2:$H$138,"e") -> 0
B153: Listopad | C153: =SUMIFS($D$2:$D$138,$A$2:$A$138,">="&F174,$A$2:$A$138,"<="&G174) -> 0 | D153: =COUNTIFS($A$2:$A$138,">="&F174,$A$2:$A$138,"<="&G174) -> 0 | E153: =SUMIFS($D$2:$D$138,$A$2:$A$138,">="&F174,$A$2:$A$138,"<="&G174,$H$2:$H$138,"") -> 0 | F153: =COUNTIFS($A$2:$A$138,">="&F174,$A$2:$A$138,"<="&G174,$H$2:$H$138,"") -> 0 | G153: =SUMIFS($D$2:$D$138,$A$2:$A$138,">="&F174,$A$2:$A$138,"<="&G174,$H$2:$H$138,"e") -> 0 | H153: =COUNTIFS($A$2:$A$138,">="&F174,$A$2:$A$138,"<="&G174,$H$2:$H$138,"e") -> 0
B154: Prosinec | C154: =SUMIFS($D$2:$D$138,$A$2:$A$138,">="&F175,$A$2:$A$138,"<="&G175) -> 0 | D154: =COUNTIFS($A$2:$A$138,">="&F175,$A$2:$A$138,"<="&G175) -> 0 | E154: =SUMIFS($D$2:$D$138,$A$2:$A$138,">="&F175,$A$2:$A$138,"<="&G175,$H$2:$H$138,"") -> 0 | F154: =COUNTIFS($A$2:$A$138,">="&F175,$A$2:$A$138,"<="&G175,$H$2:$H$138,"") -> 0 | G154: =SUMIFS($D$2:$D$138,$A$2:$A$138,">="&F175,$A$2:$A$138,"<="&G175,$H$2:$H$138,"e") -> 0 | H154: =COUNTIFS($A$2:$A$138,">="&F175,$A$2:$A$138,"<="&G175,$H$2:$H$138,"e") -> 0
B155: Celkem | C155: =SUM(C143:C154) -> 1575.55 | D155: =SUM(D143:D154) -> 49 | E155: =SUM(E143:E154) -> 1356.5 | F155: =SUM(F143:F154) -> 37 | G155: =SUM(G143:G154) -> 138.54 | H155: =SUM(H143:H154) -> 10
B159: Pod 500 metrů | C159: =AVERAGEIFS(F2:F138,G2:G138,"<500",H2:H138,"") -> 20.762188 | E159: Cyklo s Eliškou
B160: Mezi 500 a 1000 metry | C160: =AVERAGEIFS(F2:F138,G2:G138,">500",G2:G138,"<1000",H2:H138,"<>e") -> 18.343333 | E160: vzdálenost | F160: čas | G160: průměrná rychlost | H160: nastoupané metry
B161: Nad 1000 metrů | C161: =AVERAGEIFS(F2:F138,G2:G138,">1000") -> 15.12 | E161: =SUMIFS(D2:D138,H2:H138,"e") -> 138.54 | F161: =SUMIFS(E2:E138,H2:$H$138,"e") -> 0.53858796 | G161: =AVERAGEIF(H2:H138,"e",F2:F138) -> 11.165 | H161: =SUMIFS(G2:G138,$H2:H$138,"e") -> 2007
B163: Délka cesty | C163: Počet | E163: 2024 | F163: První den v měsíci | G163: Poslední den v měsíci
B164: do 10 km | C164: =COUNTIFS($D$2:$D$138,"<10") -> 7 | E164: Leden | F164: 45658 | G164: 45688
B165: nad 10 km | C165: =COUNTIFS($D$2:$D$138,">=10",$D$2:$D$138,"<=20") -> 3 | E165: Únor | F165: 45689 | G165: 45716
B166: nad 20 km | C166: =COUNTIFS($D$2:$D$138,">=20",$D$2:$D$138,"<=30") -> 9 | E166: Březen | F166: 45717 | G166: 45747
B167: nad 30 km | C167: =COUNTIFS($D$2:$D$138,">=30",$D$2:$D$138,"<=40") -> 16 | E167: Duben | F167: 45748 | G167: 45777
B168: nad 40 km | C168: =COUNTIFS($D$2:$D$138,">=40",$D$2:$D$138,"<=50") -> 10 | E168: Květen | F168: 45778 | G168: 45808
B169: nad 50 km | C169: =COUNTIFS($D$2:$D$138,">=50",$D$2:$D$138,"<=60") -> 2 | E169: Červen | F169: 45809 | G169: 45838
B170: nad 60 km | C170: =COUNTIFS($D$2:$D$138,">=60",$D$2:$D$138,"<=70") -> 2 | E170: Červenec | F170: 45839 | G170: 45869
B171: nad 70 km | C171: =COUNTIFS($D$2:$D$138,">=70",$D$2:$D$138,"<=80") -> 0 | E171: Srpen | F171: 45870 | G171: 45900
B172: nad 80 km | C172: =COUNTIFS($D$2:$D$138,">=80",$D$2:$D$138,"<=90") -> 0 | E172: Září | F172: 45901 | G172: 45930
B173: nad 90 km | C173: =COUNTIFS($D$2:$D$138,">=90",$D$2:$D$138,"<=100") -> 0 | E173: Říjen | F173: 45931 | G173: 45961
B174: nad 100 km | C174: =COUNTIFS($D$2:$D$138,">=100",$D$2:$D$138,"<=110") -> 0 | E174: Listopad | F174: 45962 | G174: 45991
B175: nad 110 km | C175: =COUNTIFS($D$2:$D$138,">=110",$D$2:$D$138,"<=150") -> 0 | E175: Prosinec | F175: 45992 | G175: 46022
C176: =SUM(C164:C175) -> 49

Sheet 2024
A1: Datum | B1: Popis | C1: Umístění | D1: vzdálenost | E1: čas | F1: průměrná rychlost | G1: nastoupané metry | H1: Eliška (e ) | I1: Za co | J1: Cena opravy atd.
A2: 45334 | D2: 19.18 | E2: 0.040891204 | F2: 19.55 | G2: 212 | I2: brzdový kotouč (SM-RT66) | J2: 399
A3: 45335 | D3: 27.4 | E3: 0.055706019 | F3: 20.49 | G3: 309 | I3: brzdový kotouč (SM-RT66) | J3: 399
A4: 45337 | D4: 19.79 | E4: 0.044490741 | F4: 18.53 | G4: 235 | I4: velký převodník | J4: 1240
A5: 45341 | D5: 24.34 | E5: 0.0490625 | F5: 20.67 | G5: 256 | I5: malý převodník | J5: 400
A6: 45342 | D6: 25.32 | E6: 0.050532407 | F6: 20.88 | G6: 286 | I6: plášt | J6: 850
A7: 45345 | D7: 13.37 | E7: 0.030717593 | F7: 18.14 | G7: 164
A8: 45348 | D8: 24.72 | E8: 0.04962963 | F8: 20.76 | G8: 245
A9: 45349 | D9: 28 | E9: 0.05837963 | F9: 19.98 | G9: 327
A10: 45355 | D10: 25.04 | E10: 0.051215278 | F10: 20.37 | G10: 270
A11: 45358 | D11: 24.34 | E11: 0.048611111 | F11: 20.86 | G11: 256
A12: 45362 | D12: 31.91 | E12: 0.065706019 | F12: 20.23 | G12: 440
A13: 45364 | D13: 18.98 | E13: 0.038368056 | F13: 20.61 | G13: 220
A14: 45365 | D14: 33.01 | E14: 0.062465278 | F14: 22.02 | G14: 358
A15: 45366 | D15: 9.14 | E15: 0.0209375 | F15: 18.2 | G15: 145
A16: 45368 | D16: 16.7 | E16: 0.044652778 | F16: 15.58 | G16: 352
A17: 45370 | D17: 31.25 | E17: 0.068877315 | F17: 18.9 | G17: 405
A18: 45384 | D18: 21.83 | E18: 0.045821759 | F18: 19.85 | G18: 282
A19: 45385 | D19: 25.09 | E19: 0.049328704 | F19: 21.19 | G19: 253
A20: 45387 | D20: 4.72 | E20: 0.023263889 | F20: 8.45 | G20: 88 | H20: e
A21: 45389 | D21: 17.1 | E21: 0.075891204 | F21: 9.39 | G21: 275 | H21: e
A22: 45393 | D22: 51.47 | E22: 0.10384259 | F22: 20.63 | G22: 625
A23: 45394 | D23: 15.35 | E23: 0.034652778 | F23: 18.46 | G23: 243
A24: 45394 | D24: 13.15 | E24: 0.050358796 | F24: 10.88 | G24: 162 | H24: e
A25: 45396 | D25: 26.18 | E25: 0.096134259 | F25: 11.35 | G25: 229 | H25: e
A26: 45397 | D26: 20.51 | E26: 0.042939815 | F26: 19.9 | G26: 246
A27: 45399 | D27: 25.4 | E27: 0.050115741 | F27: 21.12 | G27: 289
A28: 45410 | D28: 13.19 | E28: 1:16::24 | F28: 10.36 | G28: 216 | H28: e
A29: 45413 | D29: 33.88 | E29: 0.11866898 | F29: 11.89 | G29: 328 | H29: e
A30: 45414 | D30: 24.3 | E30: 0.045138889 | F30: 22.43 | G30: 243
A31: 45415 | D31: 17.06 | E31: 0.033981481 | F31: 20.92 | G31: 184
A32: 45418 | D32: 19.97 | E32: 0.040706019 | F32: 20.44 | G32: 246
A33: 45435 | D33: 28.14 | E33: 0.055393519 | F33: 21.17 | G33: 340
A34: 45441 | D34: 26.99 | E34: 0.051064815 | F34: 22.07 | G34: 247
A35: 45441 | D35: 9.08 | E35: 0.037361111 | F35: 10.13 | G35: 141 | H35: e
A36: 45446 | D36: 30.3 | E36: 0.058726852 | F36: 21.49 | G36: 298
A37: 45449 | D37: 25.54 | E37: 0.096435185 | F37: 11.03 | G37: 80 | H37: e
A38: 45450 | D38: 35.48 | E38: 0.12700231 | F38: 11.64 | G38: 218 | H38: e
A39: 45451 | D39: 45.44 | E39: 0.16665509 | F39: 11.36 | G39: 165 | H39: e
A40: 45458 | B40: Ztracené kobylky 2024 | C40: 10 MD/69 celkem | D40: 51.93 | E40: 0.18028935 | F40: 12.04 | G40: 1154
A41: 45460 | D41: 26.96 | E41: 0.048553241 | F41: 23.14 | G41: 247
A42: 45462 | D42: 26.96 | E42: 0.048136574 | F42: 23.34 | G42: 238
A43: 45463 | D43: 20.39 | E43: 0.040613426 | F43: 20.91 | G43: 236
A44: 45465 | D44: 74.39 | E44: 0.16268519 | F44: 19.05 | G44: 943
A45: 45466 | D45: 35.73 | E45: 0.082152778 | F45: 18.12 | G45: 789
A46: 45467 | D46: 41.34 | E46: 0.076145833 | F46: 22.37 | G46: 483
A47: 45469 | D47: 27.97 | E47: 0.05337963 | F47: 21.83 | G47: 278
A48: 45470 | D48: 18.99 | E48: 0.035115741 | F48: 22.55 | G48: 131
A49: 45471 | D49: 17.16 | E49: 0.038923611 | F49: 18.36 | G49: 222
A50: 45475 | D50: 51.76 | E50: 0.11756944 | F50: 18.34 | G50: 631
A51: 45477 | D51: 27.25 | E51: 0.0534375 | F51: 21.83 | G51: 278
A52: 45488 | D52: 20.16 | E52: 0.042650463 | F52: 19.7 | G52: 230
... A54: 45490 | D54: 74.11 | E54: 0.16193287 | F54: 19.07 | G54: 926
A55: 45492 | B55: S holkama na těžko z Okořína do Oldřichova | D55: 37.38 | E55: 0.16412037 | F55: 9.49 | G55: 503 | H55: e
A56: 45493 | D56: 37.81 | E56: 0.15171296 | F56: 10.38 | G56: 310 | H56: e
A57: 45494 | D57: 5.72 | E57: 0.021076389 | F57: 11.31 | G57: 38 | H57: e
A58: 45495 | D58: 22.56 | E58: 0.071180556 | F58: 13.21 | G58: 183 | H58: e
A59: 45496 | D59: 32.5 | E59: 0.10001157 | F59: 13.35 | G59: 292 | H59: e
A60: 45497 | D60: 44.52 | E60: 0.13405093 | F60: 13.83 | G60: 448 | H60: e
A61: 45498 | D61: 23.74 | E61: 0.071342593 | F61: 13.86 | G61: 202 | H61: e
A62: 45499 | D62: 20.15 | E62: 0.052118056 | F62: 16.11 | G62: 199 | H62: e
A63: 45503 | D63: 20.74 | E63: 0.048159722 | F63: 17.95 | G63: 228
A64: 45504 | D64: 52.41 | E64: 0.11508102 | F64: 18.97 | G64: 565
A65: 45509 | D65: 22.55 | E65: 0.044826389 | F65: 20.96 | G65: 237
A66: 45510 | D66: 30.16 | E66: 0.061064815 | F66: 20.57 | G66: 266
A67: 45511 | D67: 31.91 | E67: 0.065798611 | F67: 20.2 | G67: 279
A68: 45512 | D68: 33.48 | E68: 0.072314815 | F68: 19.29 | G68: 322
A69: 45513 | D69: 23.36 | E69: 0.048020833 | F69: 20.27 | G69: 297
A70: 45527 | D70: 22.36 | E70: 0.081898148 | F70: 11.37 | G70: 184 | H70: e
A71: 45531 | D71: 33.35 | E71: 0.065115741 | F71: 21.34 | G71: 238
A72: 45532 | D72: 51.67 | E72: 0.11565972 | F72: 18.61 | G72: 627
A73: 45541 | B73: Tour de Drážďany | D73: 61.12 | E73: 0.14548611 | F73: 17.5 | G73: 602
A74: 45542 | D74: 78.68 | E74: 0.17975694 | F74: 18.23 | G74: 429
A75: 45543 | D75: 71.13 | E75: 0.1615625 | F75: 18.34 | G75: 348
A76: 45553 | D76: 37.35 | E76: 0.089895833 | F76: 18.92 | G76: 459
A77: 45556 | D77: 75.85 | E77: 0.16483796 | F77: 18.92 | G77: 1109
A78: 45560 | D78: 25.23 | E78: 0.051909722 | F78: 20.25 | G78: 198
A79: 45563 | B79: Podzimní Ztracené kobylky | D79: 55.56 | E79: 0.16751157 | F79: 15.34 | G79: 1684
A80: 45571 | D80: 37.79 | E80: 0.085763889 | F80: 18.36 | G80: 548
A81: 45573 | D81: 28.88 | E81: 0.059803241 | F81: 20.12 | G81: 264
A82: 45579 | D82: 28.34 | E82: 0.058113426 | F82: 20.32 | G82: 275
A83: 45581 | D83: 29.19 | E83: 0.061203704 | F83: 19.87 | G83: 290
A84: 45587 | D84: 29.27 | E84: 0.059780093 | F84: 20.4 | G84: 288
A85: 45589 | D85: 29.04 | E85: 0.056168981 | F85: 21.54 | G85: 281
A86: 45605 | D86: 56.52 | E86: 0.15462963 | F86: 15.23 | G86: 1188
A141: Celkem | D141: =SUM(D2:D140 )-G157 -> 2154.43 | E141: =SUM(E2:E140)-F163 -> 4.7013426 | F141: =AVERAGEIF(H2:H140,"<>e",F2:F140) -> 19.81 | G141: =SUM(G2:G140)-H163 -> 25971 | H141: Celkem | I141: =SUM(J2:J120) -> 3288
I142: =I141/C157 -> 1.2526048
C143: Celkově | E143: Bez Elišky | G143: S Eliškou
C144: Počet kilometrů | D144: Počet výjezdů | E144: Počet kilometrů | F144: Počet výjezdů | G144: Počet kilometrů | H144: Počet výjezdů
B145: Leden | C145: =SUMIFS($D$2:$D$140,$A$2:$A$140,">="&F166,$A$2:$A$140,"<="&G166) -> 0 | D145: =COUNTIFS($A$2:$A$140,">="&F166,$A$2:$A$140,"<="&G166) -> 0 | E145: =SUMIFS($D$2:$D$140,$A$2:$A$140,"<="&G166,H2:H140,"") -> 0 | F145: =COUNTIFS($A$2:$A$140,">="&F166,$A$2:$A$140,"<="&G166,H2:H140,"") -> 0 | G145: =SUMIFS($D$2:$D$140,$A$2:$A$140,"<="&G166,H2:H140,"e") -> 0 | H145: =COUNTIFS($A$2:$A$140,">="&F166,$A$2:$A$140,"<="&G166,$H$2:$H$140,"e") -> 0
B146: Únor | C146: =SUMIFS($D$2:$D$140,$A$2:$A$140,">="&F167,$A$2:$A$140,"<="&G167) -> 182.12 | D146: =COUNTIFS($A$2:$A$140,">="&F167,$A$2:$A$140,"<="&G167) -> 8 | E146: =SUMIFS($D$2:$D$140,$A$2:$A$140,">="&F167,$A$2:$A$140,"<="&G167,$H$2:$H$140,"") -> 182.12 | F146: =COUNTIFS($A$2:$A$140,">="&F167,$A$2:$A$140,"<="&G167,$H$2:$H$140,"") -> 8 | G146: =SUMIFS($D$2:$D$140,$A$2:$A$140,">="&F167,$A$2:$A$140,"<="&G167,$H$2:$H$140,"e") -> 0 | H146: =COUNTIFS($A$2:$A$140,">="&F167,$A$2:$A$140,"<="&G167,$H$2:$H$140,"e") -> 0
B147: Březen | C147: =SUMIFS($D$2:$D$140,$A$2:$A$140,">="&F168,$A$2:$A$140,"<="&G168) -> 190.37 | D147: =COUNTIFS($A$2:$A$140,">="&F168,$A$2:$A$140,"<="&G168) -> 8 | E147: =SUMIFS($D$2:$D$140,$A$2:$A$140,">="&F168,$A$2:$A$140,"<="&G168,$H$2:$H$140,"") -> 190.37 | F147: =COUNTIFS($A$2:$A$140,">="&F168,$A$2:$A$140,"<="&G168,$H$2:$H$140,"") -> 8 | G147: =SUMIFS($D$2:$D$140,$A$2:$A$140,">="&F168,$A$2:$A$140,"<="&G168,$H$2:$H$140,"e") -> 0 | H147: =COUNTIFS($A$2:$A$140,">="&F168,$A$2:$A$140,"<="&G168,$H$2:$H$140,"e") -> 0
B148: Duben | C148: =SUMIFS($D$2:$D$140,$A$2:$A$140,">="&F169,$A$2:$A$140,"<="&G169) -> 233.99 | D148: =COUNTIFS($A$2:$A$140,">="&F169,$A$2:$A$140,"<="&G169) -> 11 | E148: =SUMIFS($D$2:$D$140,$A$2:$A$140,">="&F169,$A$2:$A$140,"<="&G169,$H$2:$H$140,"") -> 159.65 | F148: =COUNTIFS($A$2:$A$140,">="&F169,$A$2:$A$140,"<="&G169,$H$2:$H$140,"") -> 6 | G148: =SUMIFS($D$2:$D$140,$A$2:$A$140,">="&F169,$A$2:$A$140,"<="&G169,$H$2:$H$140,"e") -> 74.34 | H148: =COUNTIFS($A$2:$A$140,">="&F169,$A$2:$A$140,"<="&G169,$H$2:$H$140,"e") -> 5
B149: Květen | C149: =SUMIFS($D$2:$D$140,$A$2:$A$140,">="&F170,$A$2:$A$140,"<="&G170) -> 159.42 | D149: =COUNTIFS($A$2:$A$140,">="&F170,$A$2:$A$140,"<="&G170) -> 7 | E149: =SUMIFS($D$2:$D$140,$A$2:$A$140,">="&F170,$A$2:$A$140,"<="&G170,$H$2:$H$140,"") -> 116.46 | F149: =COUNTIFS($A$2:$A$140,">="&F170,$A$2:$A$140,"<="&G170,$H$2:$H$140,"") -> 5 | G149: =SUMIFS($D$2:$D$140,$A$2:$A$140,">="&F170,$A$2:$A$140,"<="&G170,$H$2:$H$140,"e") -> 42.96 | H149: =COUNTIFS($A$2:$A$140,">="&F170,$A$2:$A$140,"<="&G170,$H$2:$H$140,"e") -> 2
B150: Červen | C150: =SUMIFS($D$2:$D$140,$A$2:$A$140,">="&F171,$A$2:$A$140,"<="&G171) -> 478.58 | D150: =COUNTIFS($A$2:$A$140,">="&F171,$A$2:$A$140,"<="&G171) -> 14 | E150: =SUMIFS($D$2:$D$140,$A$2:$A$140,">="&F171,$A$2:$A$140,"<="&G171,$H$2:$H$140,"") -> 372.12 | F150: =COUNTIFS($A$2:$A$140,">="&F171,$A$2:$A$140,"<="&G171,$H$2:$H$140,"") -> 11 | G150: =SUMIFS($D$2:$D$140,$A$2:$A$140,">="&F171,$A$2:$A$140,"<="&G171,$H$2:$H$140,"e") -> 106.46 | H150: =COUNTIFS($A$2:$A$140,">="&F171,$A$2:$A$140,"<="&G171,$H$2:$H$140,"e") -> 3
B151: Červenec | C151: =SUMIFS($D$2:$D$140,$A$2:$A$140,">="&F172,$A$2:$A$140,"<="&G172) -> 487.66 | D151: =COUNTIFS($A$2:$A$140,">="&F172,$A$2:$A$140,"<="&G172) -> 15 | E151: =SUMIFS($D$2:$D$140,$A$2:$A$140,">="&F172,$A$2:$A$140,"<="&G172,$H$2:$H$140,"") -> 263.28 | F151: =COUNTIFS($A$2:$A$140,">="&F172,$A$2:$A$140,"<="&G172,$H$2:$H$140,"") -> 7 | G151: =SUMIFS($D$2:$D$140,$A$2:$A$140,">="&F172,$A$2:$A$140,"<="&G172,$H$2:$H$140,"e") -> 224.38 | H151: =COUNTIFS($A$2:$A$140,">="&F172,$A$2:$A$140,"<="&G172,$H$2:$H$140,"e") -> 8
B152: Srpen | C152: =SUMIFS($D$2:$D$140,$A$2:$A$140,">="&F173,$A$2:$A$140,"<="&G173) -> 248.84 | D152: =COUNTIFS($A$2:$A$140,">="&F173,$A$2:$A$140,"<="&G173) -> 8 | E152: =SUMIFS($D$2:$D$140,$A$2:$A$140,">="&F173,$A$2:$A$140,"<="&G173,$H$2:$H$140,"") -> 226.48 | F152: =COUNTIFS($A$2:$A$140,">="&F173,$A$2:$A$140,"<="&G173,$H$2:$H$140,"") -> 7 | G152: =SUMIFS($D$2:$D$140,$A$2:$A$140,">="&F173,$A$2:$A$140,"<="&G173,$H$2:$H$140,"e") -> 22.36 | H152: =COUNTIFS($A$2:$A$140,">="&F173,$A$2:$A$140,"<="&G173,$H$2:$H$140,"e") -> 1
B153: Září | C153: =SUMIFS($D$2:$D$140,$A$2:$A$140,">="&F174,$A$2:$A$140,"<="&G174) -> 404.92 | D153: =COUNTIFS($A$2:$A$140,">="&F174,$A$2:$A$140,"<="&G174) -> 7 | E153: =SUMIFS($D$2:$D$140,$A$2:$A$140,">="&F174,$A$2:$A$140,"<="&G174,$H$2:$H$140,"") -> 404.92 | F153: =COUNTIFS($A$2:$A$140,">="&F174,$A$2:$A$140,"<="&G174,$H$2:$H$140,"") -> 7 | G153: =SUMIFS($D$2:$D$140,$A$2:$A$140,">="&F174,$A$2:$A$140,"<="&G174,$H$2:$H$140,"e") -> 0 | H153: =COUNTIFS($A$2:$A$140,">="&F174,$A$2:$A$140,"<="&G174,$H$2:$H$140,"e") -> 0
B154: Říjen | C154: =SUMIFS($D$2:$D$140,$A$2:$A$140,">="&F175,$A$2:$A$140,"<="&G175) -> 182.51 | D154: =COUNTIFS($A$2:$A$140,">="&F175,$A$2:$A$140,"<="&G175) -> 6 | E154: =SUMIFS($D$2:$D$140,$A$2:$A$140,">="&F175,$A$2:$A$140,"<="&G175,$H$2:$H$140,"") -> 182.51 | F154: =COUNTIFS($A$2:$A$140,">="&F175,$A$2:$A$140,"<="&G175,$H$2:$H$140,"") -> 6 | G154: =SUMIFS($D$2:$D$140,$A$2:$A$140,">="&F175,$A$2:$A$140,"<="&G175,$H$2:$H$140,"e") -> 0 | H154: =COUNTIFS($A$2:$A$140,">="&F175,$A$2:$A$140,"<="&G175,$H$2:$H$140,"e") -> 0
B155: Listopad | C155: =SUMIFS($D$2:$D$140,$A$2:$A$140,">="&F176,$A$2:$A$140,"<="&G176) -> 56.52 | D155: =COUNTIFS($A$2:$A$140,">="&F176,$A$2:$A$140,"<="&G176) -> 1 | E155: =SUMIFS($D$2:$D$140,$A$2:$A$140,">="&F176,$A$2:$A$140,"<="&G176,$H$2:$H$140,"") -> 56.52 | F155: =COUNTIFS($A$2:$A$140,">="&F176,$A$2:$A$140,"<="&G176,$H$2:$H$140,"") -> 1 | G155: =SUMIFS($D$2:$D$140,$A$2:$A$140,">="&F176,$A$2:$A$140,"<="&G176,$H$2:$H$140,"e") -> 0 | H155: =COUNTIFS($A$2:$A$140,">="&F176,$A$2:$A$140,"<="&G176,$H$2:$H$140,"e") -> 0
...

Sheet 2023
A1: Datum | B1: Popis | C1: Umístění | D1: vzdálenost | E1: čas | F1: průměrná rychlost | G1: nastoupané metry | H1: Eliška (e ) | I1: Za co | J1: Cena opravy atd.
A2: 44929 | D2: 19.27 | E2: 0.042268519 | F2: 18.99 | G2: 258
A3: 44930 | D3: 18.5 | E3: 0.037592593 | F3: 20.51 | G3: 233
A4: 44931 | D4: 19.41 | E4: 0.047708333 | F4: 16.95 | G4: 241
A5: 44937 | D5: 20.21 | E5: 0.03943287 | F5: 21.35 | G5: 220
A6: 44938 | D6: 15.79 | E6: 0.036064815 | F6: 18.24 | G6: 231
A7: 44946 | D7: 19.56 | E7: 0.040949074 | F7: 19.91 | G7: 266
A8: 44979 | D8: 28.39 | E8: 0.056574074 | F8: 20.92 | G8: 357
A9: 44980 | D9: 29.56 | E9: 0.059224537 | F9: 20.8 | G9: 386
A10: 44998 | D10: 23.67 | E10: 0.045381944 | F10: 21.73 | G10: 246
A11: 44999 | D11: 19.36 | E11: 0.040208333 | F11: 20.06 | G11: 250
A12: 45000 | D12: 25.2 | E12: 0.051666667 | F12: 20.32 | G12: 335
A13: 45001 | D13: 28.64 | E13: 0.061967593 | F13: 19.26 | G13: 371
... A19: 45036 | D19: 23.86 | E19: 0.046655093 | F19: 21.3 | G19: 246
A20: 45038 | D20: 26.34 | E20: 0.09869213 | F20: 11.12 | G20: 114 | H20: e
A21: 45046 | D21: 55.98 | E21: 0.12265046 | F21: 19.02 | G21: 690
A22: 45047 | D22: 10.42 | E22: 0.050474537 | F22: 8.6 | G22: 99 | H22: e
A23: 45050 | D23: 29.32 | E23: 0.058611111 | F23: 20.84 | G23: 371
A24: 45051 | D24: 12.58 | E24: 0.026990741 | F24: 19.42 | G24: 139
A25: 45055 | D25: 49 | E25: 0.10990741 | F25: 18.57 | G25: 556
A26: 45057 | D26: 18.46 | E26: 0.036423611 | F26: 21.12 | G26: 211
A27: 45062 | D27: 19.41 | E27: 0.039282407 | F27: 20.59 | G27: 244
A28: 45063 | D28: 23.69 | E28: 0.046956019 | F28: 21.02 | G28: 237
A29: 45068 | D29: 43.49 | E29: 0.091331019 | F29: 19.84 | G29: 389
A30: 45069 | D30: 27.47 | E30: 0.055648148 | F30: 20.57 | G30: 322
A31: 45071 | D31: 37.19 | E31: 0.072835648 | F31: 21.27 | G31: 460
A32: 45074 | D32: 37.3 | E32: 0.0803125 | F32: 19.35 | G32: 513
A33: 45076 | D33: 37.46 | E33: 0.072569444 | F33: 21.51 | G33: 419
A34: 45077 | D34: 27.62 | E34: 0.05412037 | F34: 21.26 | G34: 336
... A38: 45085 | D38: 32.05 | E38: 0.070393519 | F38: 18.97 | G38: 404
A39: 45087 | B39: Ztracené kobylky 2023 | C39: 12 MM/50 celkem | D39: 69.23 | E39: 0.18554398 | F39: 15.5 | G39: 1643
A40: 45088 | D40: 26.05 | E40: 0.079409722 | F40: 13.66 | G40: 574
A41: 45089 | D41: 23.76 | E41: 0.045347222 | F41: 21.83 | G41: 233
A42: 45094 | D42: 14.28 | E42: 0.071747685 | F42: 8.29 | G42: 140 | H42: e
A43: 45094 | D43: 34.3 | E43: 0.064780093 | F43: 22.06 | G43: 374
A44: 45095 | D44: 22.45 | E44: 0.095405093 | F44: 9.8 | G44: 150 | H44: e
A45: 45105 | D45: 23.96 | E45: 0.044363426 | F45: 22.5 | G45: 239
A46: 45106 | D46: 44.78 | E46: 0.09349537 | F46: 19.24 | G46: 564
A47: 45111 | B47: Tour de Východ 2023 | D47: 29.44 | E47: 0.077141204 | F47: 15.9 | G47: 219
A48: 45112 | D48: 84.71 | E48: 0.2215162 | F48: 15.93 | G48: 812
A49: 45113 | D49: 78.92 | E49: 0.25113426 | F49: 13.09 | G49: 1808
A50: 45114 | D50: 99.95 | E50: 0.26953704 | F50: 15.45 | G50: 1699
A51: 45115 | D51: 72.89 | E51: 0.18121528 | F51: 16.76 | G51: 747
A52: 45134 | D52: 19.27 | E52: 0.037916667 | F52: 21.17 | G52: 252
A53: 45140 | D53: 25.31 | E53: 0.050636574 | F53: 20.83 | G53: 318
A54: 45141 | D54: 16.24 | E54: 0.032731481 | F54: 20.67 | G54: 195
A55: 45141 | D55: 8.7 | E55: 0.038263889 | F55: 9.47 | G55: 124 | H55: e
A56: 45142 | D56: 34.42 | E56: 0.068622685 | F56: 20.9 | G56: 443
A57: 45148 | D57: 24.38 | E57: 0.047037037 | F57: 21.59 | G57: 239
A58: 45148 | D58: 19.41 | E58: 0.037164352 | F58: 21.76 | G58: 233
A59: 45150 | D59: 71.8 | E59: 0.14443287 | F59: 20.57 | G59: 690
A60: 45150 | D60: 5.65 | E60: 0.019143519 | F60: 12.31 | G60: 39 | H60: e
A61: 45151 | D61: 7.98 | E61: 0.028715278 | F61: 11.59 | G61: 112 | H61: e
A62: 45152 | D62: 62.21 | E62: 0.11079861 | F62: 23.39 | G62: 347
A63: 45154 | D63: 18.85 | E63: 0.045405093 | F63: 17.3 | G63: 209
A64: 45155 | D64: 28.89 | E64: 0.057696759 | F64: 20.9 | G64: 250
A65: 45156 | D65: 18.15 | E65: 0.03505787 | F65: 21.6 | G65: 180
A66: 45160 | D66: 19.09 | E66: 0.072430556 | F66: 11 | G66: 318 | H66: e
A67: 45169 | D67: 67.53 | E67: 0.14173611 | F67: 19.85 | G67: 758
A68: 45173 | D68: 24.06 | E68: 0.043159722 | F68: 23.23 | G68: 234
A69: 45175 | D69: 23.89 | E69: 0.04443287 | F69: 22.4 | G69: 236
A70: 45175 | D70: 12.99 | E70: 0.054409722 | F70: 9.94 | G70: 186 | H70: e
A71: 45176 | D71: 19.61 | E71: 0.037199074 | F71: 21.96 | G71: 245
A72: 45180 | D72: 39.54 | E72: 0.07775463 | F72: 21.19 | G72: 346
A73: 45181 | D73: 18.7 | E73: 0.036458333 | F73: 21.38 | G73: 211
A74: 45181 | D74: 12.31 | E74: 0.05 | F74: 10.26 | G74: 210 | H74: e
A75: 45183 | D75: 21.62 | E75: 0.082650463 | F75: 10.9 | G75: 69 | H75: e
A76: 45184 | D76: 29.62 | E76: 0.1190625 | F76: 10.39 | G76: 168 | H76: e
A77: 45185 | D77: 37.1 | E77: 0.12322917 | F77: 12.57 | G77: 132 | H77: e
A78: 45187 | D78: 15.6 | E78: 0.029155093 | F78: 22.29 | G78: 152
A79: 45188 | D79: 21.79 | E79: 0.042430556 | F79: 21.4 | G79: 238
A80: 45190 | D80: 48.14 | E80: 0.095694444 | F80: 20.96 | G80: 574
A81: 45193 | D81: 30.42 | E81: 0.067256944 | F81: 18.84 | G81: 399
A82: 45196 | D82: 28.26 | E82: 0.066388889 | F82: 17.73 | G82: 433
A83: 45197 | D83: 37.28 | E83: 0.090138889 | F83: 17.23 | G83: 562
A84: 45198 | D84: 15.61 | E84: 0.031481481 | F84: 20.67 | G84: 209
A85: 45201 | D85: 18.31 | E85: 0.035717593 | F85: 21.36 | G85: 206
A86: 45202 | D86: 14.84 | E86: 0.031041667 | F86: 19.93 | G86: 184
A87: 45204 | D87: 18.35 | E87: 0.036655093 | F87: 20.85 | G87: 218
A88: 45209 | D88: 23.63 | E88: 0.044641204 | F88: 22.06 | G88: 232
A89: 45210 | D89: 28.62 | E89: 0.055092593 | F89: 21.64 | G89: 353
... A101: 45279 | D101: 24.22 | E101: 0.050578704 | F101: 19.95 | G101: 280
A141: Celkem | D141: =SUM(D2:D140 )-G157 -> 2639.61 | E141: =SUM(E2:E140)-F163 -> 5.695162 | F141: =AVERAGEIF(H2:H140,"<>e",F2:F140) -> 20.092874 | G141: =SUM(G2:G140)-H163 -> 32369 | H141: Celkem | I141: =SUM(J2:J120) -> 0
I142: =I141/D141 -> 0
C143: Celkově | E143: Bez Elišky | G143: S Eliškou
C144: Počet kilometrů | D144: Počet výjezdů | E144: Počet kilometrů | F144: Počet výjezdů | G144: Počet kilometrů | H144: Počet výjezdů
B145: Leden | C145: =SUMIFS($D$2:$D$140,$A$2:$A$140,">="&F166,$A$2:$A$140,"<="&G166) -> 112.74 | D145: =COUNTIFS($A$2:$A$140,">="&F166,$A$2:$A$140,"<="&G166) -> 6 | E145: =SUMIFS($D$2:$D$140,$A$2:$A$140,"<="&G166,H2:H140,"") -> 112.74 | F145: =COUNTIFS($A$2:$A$140,">="&F166,$A$2:$A$140,"<="&G166,H2:H140,"") -> 6 | G145: =SUMIFS($D$2:$D$140,$A$2:$A$140,"<="&G166,H2:H140,"e") -> 0 | H145: =COUNTIFS($A$2:$A$140,">="&F166,$A$2:$A$140,"<="&G166,$H$2:$H$140,"e") -> 0
B146: Únor | C146: =SUMIFS($D$2:$D$140,$A$2:$A$140,">="&F167,$A$2:$A$140,"<="&G167) -> 57.95 | D146: =COUNTIFS($A$2:$A$140,">="&F167,$A$2:$A$140,"<="&G167) -> 2 | E146: =SUMIFS($D$2:$D$140,$A$2:$A$140,">="&F167,$A$2:$A$140,"<="&G167,$H$2:$H$140,"") -> 57.95 | F146: =COUNTIFS($A$2:$A$140,">="&F167,$A$2:$A$140,"<="&G167,$H$2:$H$140,"") -> 2 | G146: =SUMIFS($D$2:$D$140,$A$2:$A$140,">="&F167,$A$2:$A$140,"<="&G167,$H$2:$H$140,"e") -> 0 | H146: =COUNTIFS($A$2:$A$140,">="&F167,$A$2:$A$140,"<="&G167,$H$2:$H$140,"e") -> 0
B147: Březen | C147: =SUMIFS($D$2:$D$140,$A$2:$A$140,">="&F168,$A$2:$A$140,"<="&G168) -> 178.71 | D147: =COUNTIFS($A$2:$A$140,">="&F168,$A$2:$A$140,"<="&G168) -> 7 | E147: =SUMIFS($D$2:$D$140,$A$2:$A$140,">="&F168,$A$2:$A$140,"<="&G168,$H$2:$H$140,"") -> 178.71 | F147: =COUNTIFS($A$2:$A$140,">="&F168,$A$2:$A$140,"<="&G168,$H$2:$H$140,"") -> 7 | G147: =SUMIFS($D$2:$D$140,$A$2:$A$140,">="&F168,$A$2:$A$140,"<="&G168,$H$2:$H$140,"e") -> 0 | H147: =COUNTIFS($A$2:$A$140,">="&F168,$A$2:$A$140,"<="&G168,$H$2:$H$140,"e") -> 0
B148: Duben | C148: =SUMIFS($D$2:$D$140,$A$2:$A$140,">="&F169,$A$2:$A$140,"<="&G169) -> 158.46 | D148: =COUNTIFS($A$2:$A$140,">="&F169,$A$2:$A$140,"<="&G169) -> 5 | E148: =SUMIFS($D$2:$D$140,$A$2:$A$140,">="&F169,$A$2:$A$140,"<="&G169,$H$2:$H$140,"") -> 132.12 | F148: =COUNTIFS($A$2:$A$140,">="&F169,$A$2:$A$140,"<="&G169,$H$2:$H$140,"") -> 4 | G148: =SUMIFS($D$2:$D$140,$A$2:$A$140,">="&F169,$A$2:$A$140,"<="&G169,$H$2:$H$140,"e") -> 26.34 | H148: =COUNTIFS($A$2:$A$140,">="&F169,$A$2:$A$140,"<="&G169,$H$2:$H$140,"e") -> 1
B149: Květen | C149: =SUMIFS($D$2:$D$140,$A$2:$A$140,">="&F170,$A$2:$A$140,"<="&G170) -> 373.41 | D149: =COUNTIFS($A$2:$A$140,">="&F170,$A$2:$A$140,"<="&G170) -> 13 | E149: =SUMIFS($D$2:$D$140,$A$2:$A$140,">="&F170,$A$2:$A$140,"<="&G170,$H$2:$H$140,"") -> 362.99 | F149: =COUNTIFS($A$2:$A$140,">="&F170,$A$2:$A$140,"<="&G170,$H$2:$H$140,"") -> 12 | G149: =SUMIFS($D$2:$D$140,$A$2:$A$140,">="&F170,$A$2:$A$140,"<="&G170,$H$2:$H$140,"e") -> 10.42 | H149: =COUNTIFS($A$2:$A$140,">="&F170,$A$2:$A$140,"<="&G170,$H$2:$H$140,"e") -> 1
B150: Červen | C150: =SUMIFS($D$2:$D$140,$A$2:$A$140,">="&F171,$A$2:$A$140,"<="&G171) -> 343.44 | D150: =COUNTIFS($A$2:$A$140,">="&F171,$A$2:$A$140,"<="&G171) -> 12 | E150: =SUMIFS($D$2:$D$140,$A$2:$A$140,">="&F171,$A$2:$A$140,"<="&G171,$H$2:$H$140,"") -> 306.71 | F150: =COUNTIFS($A$2:$A$140,">="&F171,$A$2:$A$140,"<="&G171,$H$2:$H$140,"") -> 10 | G150: =SUMIFS($D$2:$D$140,$A$2:$A$140,">="&F171,$A$2:$A$140,"<="&G171,$H$2:$H$140,"e") -> 36.73 | H150: =COUNTIFS($A$2:$A$140,">="&F171,$A$2:$A$140,"<="&G171,$H$2:$H$140,"e") -> 2
B151: Červenec | C151: =SUMIFS($D$2:$D$140,$A$2:$A$140,">="&F172,$A$2:$A$140,"<="&G172) -> 385.18 | D151: =COUNTIFS($A$2:$A$140,">="&F172,$A$2:$A$140,"<="&G172) -> 6 | E151: =SUMIFS($D$2:$D$140,$A$2:$A$140,">="&F172,$A$2:$A$140,"<="&G172,$H$2:$H$140,"") -> 385.18 | F151: =COUNTIFS($A$2:$A$140,">="&F172,$A$2:$A$140,"<="&G172,$H$2:$H$140,"") -> 6 | G151: =SUMIFS($D$2:$D$140,$A$2:$A$140,">="&F172,$A$2:$A$140,"<="&G172,$H$2:$H$140,"e") -> 0 | H151: =COUNTIFS($A$2:$A$140,">="&F172,$A$2:$A$140,"<="&G172,$H$2:$H$140,"e") -> 0
B152: Srpen | C152: =SUMIFS($D$2:$D$140,$A$2:$A$140,">="&F173,$A$2:$A$140,"<="&G173) -> 428.61 | D152: =COUNTIFS($A$2:$A$140,">="&F173,$A$2:$A$140,"<="&G173) -> 15 | E152: =SUMIFS($D$2:$D$140,$A$2:$A$140,">="&F173,$A$2:$A$140,"<="&G173,$H$2:$H$140,"") -> 387.19 | F152: =COUNTIFS($A$2:$A$140,">="&F173,$A$2:$A$140,"<="&G173,$H$2:$H$140,"") -> 11 | G152: =SUMIFS($D$2:$D$140,$A$2:$A$140,">="&F173,$A$2:$A$140,"<="&G173,$H$2:$H$140,"e") -> 41.42 | H152: =COUNTIFS($A$2:$A$140,">="&F173,$A$2:$A$140,"<="&G173,$H$2:$H$140,"e") -> 4
B153: Září | C153: =SUMIFS($D$2:$D$140,$A$2:$A$140,">="&F174,$A$2:$A$140,"<="&G174) -> 436.54 | D153: =COUNTIFS($A$2:$A$140,">="&F174,$A$2:$A$140,"<="&G174) -> 17 | E153: =SUMIFS($D$2:$D$140,$A$2:$A$140,">="&F174,$A$2:$A$140,"<="&G174,$H$2:$H$140,"") -> 322.9 | F153: =COUNTIFS($A$2:$A$140,">="&F174,$A$2:$A$140,"<="&G174,$H$2:$H$140,"") -> 12 | G153: =SUMIFS($D$2:$D$140,$A$2:$A$140,">="&F174,$A$2:$A$140,"<="&G174,$H$2:$H$140,"e") -> 113.64 | H153: =COUNTIFS($A$2:$A$140,">="&F174,$A$2:$A$140,"<="&G174,$H$2:$H$140,"e") -> 5
B154: Říjen | C154: =SUMIFS($D$2:$D$140,$A$2:$A$140,">="&F175,$A$2:$A$140,"<="&G175) -> 212.68 | D154: =COUNTIFS($A$2:$A$140,">="&F175,$A$2:$A$140,"<="&G175) -> 10 | E154: =SUMIFS($D$2:$D$140,$A$2:$A$140,">="&F175,$A$2:$A$140,"<="&G175,$H$2:$H$140,"") -> 212.68 | F154: =COUNTIFS($A$2:$A$140,">="&F175,$A$2:$A$140,"<="&G175,$H$2:$H$140,"") -> 10 | G154: =SUMIFS($D$2:$D$140,$A$2:$A$140,">="&F175,$A$2:$A$140,"<="&G175,$H$2:$H$140,"e") -> 0 | H154: =COUNTIFS($A$2:$A$140,">="&F175,$A$2:$A$140,"<="&G175,$H$2:$H$140,"e") -> 0
B155: Listopad | C155: =SUMIFS($D$2:$D$140,$A$2:$A$140,">="&F176,$A$2:$A$140,"<="&G176) -> 156.22 | D155: =COUNTIFS($A$2:$A$140,">="&F176,$A$2:$A$140,"<="&G176) -> 6 | E155: =SUMIFS($D$2:$D$140,$A$2:$A$140,">="&F176,$A$2:$A$140,"<="&G176,$H$2:$H$140,"") -> 156.22 | F155: =COUNTIFS($A$2:$A$140,">="&F176,$A$2:$A$140,"<="&G176,$H$2:$H$140,"") -> 6 | G155: =SUMIFS($D$2:$D$140,$A$2:$A$140,">="&F176,$A$2:$A$140,"<="&G176,$H$2:$H$140,"e") -> 0 | H155: =COUNTIFS($A$2:$A$140,">="&F176,$A$2:$A$140,"<="&G176,$H$2:$H$140,"e") -> 0
B156: Prosinec | C156: =SUMIFS($D$2:$D$140,$A$2:$A$140,">="&F177,$A$2:$A$140,"<="&G177) -> 24.22 | D156: =COUNTIFS($A$2:$A$140,">="&F177,$A$2:$A$140,"<="&G177) -> 1 | E156: =SUMIFS($D$2:$D$140,$A$2:$A$140,">="&F177,$A$2:$A$140,"<="&G177,$H$2:$H$140,"") -> 24.22 | F156: =COUNTIFS($A$2:$A$140,">="&F177,$A$2:$A$140,"<="&G177,$H$2:$H$140,"") -> 1 | G156: =SUMIFS($D$2:$D$140,$A$2:$A$140,">="&F177,$A$2:$A$140,"<="&G177,$H$2:$H$140,"e") -> 0 | H156: =COUNTIFS($A$2:$A$140,">="&F177,$A$2:$A$140,"<="&G177,$H$2:$H$140,"e") -> 0
B157: Celkem | C157: =SUM(C145:C156) -> 2868.16 | D157: =SUM(D145:D156) -> 100 | E157: =SUM(E145:E156) -> 2639.61 | F157: =SUM(F145:F156) -> 87 | G157: =SUM(G145:G156) -> 228.55 | H157: =SUM(H145:H156) -> 13
B161: Pod 500 metrů | C161: =AVERAGEIFS(F2:F140,G2:G140,"<500",H2:H140,"") -> 20.586667 | E161: Cyklo s Eliškou
...

Sheet 2022
A1: Datum | B1: Popis | C1: Umístění | D1: vzdálenost | E1: čas | F1: průměrná rychlost | G1: nastoupané metry | H1: Eliška (e ) | I1: Za co | J1: Cena opravy atd.
A2: 44567 | D2: 19.34 | E2: 0.042974537 | F2: 18.75 | G2: 240 | I2: kalhoty na kolo | J2: 1490
A3: 44571 | D3: 19.35 | E3: 0.042916667 | F3: 18.79 | G3: 232 | I3: sevis kola Endorphine | J3: 4500 | L3: Cyklo s Eliškou
A4: 44572 | D4: 19.2 | E4: 0.04037037 | F4: 19.83 | G4: 245 | I4: Rideko | J4: 1500 | L4: vzdálenost | M4: čas | N4: průměrná rychlost | O4: nastoupané metry
A5: 44574 | D5: 39.4 | E5: 0.080347222 | F5: 20.43 | G5: 302 | L5: =SUMIFS(D1:D133,H1:H133,"e") -> 174.37 | M5: =SUMIFS(E2:E133,$H2:H$133,"e") -> 0.74070602 | N5: =AVERAGEIF(H2:H134,"e",F2:F134) -> 10.0425 | O5: =SUMIFS(G2:G134,$H2:H$134,"e") -> 1148
A6: 44592 | D6: 24.71 | E6: 0.049780093 | F6: 20.68 | G6: 267
A7: 44602 | D7: 23.58 | E7: 0.049837963 | F7: 19.72 | G7: 161
A8: 44606 | D8: 33.06 | E8: 0.066875 | F8: 20.6 | G8: 364
A9: 44608 | D9: 20.18 | E9: 0.03994213 | F9: 21.05 | G9: 199
A10: 44614 | D10: 23.86 | E10: 0.044756944 | F10: 22.22 | G10: 214
A11: 44616 | D11: 26.22 | E11: 0.055185185 | F11: 19.79 | G11: 206
A12: 44620 | D12: 21.13 | E12: 0.043634259 | F12: 20.17 | G12: 249
A13: 44635 | D13: 18.46 | E13: 0.037303241 | F13: 20.62 | G13: 202
A14: 44636 | D14: 33.1 | E14: 0.064201389 | F14: 21.48 | G14: 350
A15: 44637 | D15: 53.75 | E15: 0.11148148 | F15: 20.09 | G15: 271
A16: 44648 | D16: 52.98 | E16: 0.1097338 | F16: 20.11 | G16: 616
A17: 44649 | D17: 18.21 | E17: 0.0359375 | F17: 21.11 | G17: 197
... A38: 44718 | D38: 17.97 | E38: 0.04193287 | F38: 17.85 | G38: 178
A39: 44723 | B39: Ztracené kobylky 2021 | D39: 73.25 | E39: 0.23814815 | F39: 15.4 | G39: 1095
A40: 44729 | D40: 36.73 | E40: 0.077766204 | F40: 19.7 | G40: 824
A41: 44730 | D41: 18.6 | E41: 0.051851852 | F41: 15 | G41: 96 | H41: e
A42: 44728 | D42: 25 | E42: 0.045740741 | F42: 22.8 | G42: 261
A43: 44732 | D43: 21.3 | E43: 0.038310185 | F43: 23.2 | G43: 208
A44: 44746 | D44: 15.7 | E44: 0.029074074 | F44: 22.5 | G44: 183
A45: 44750 | B45: Tour de Sever 2022 Liberec->Cvikov->Šluknov->Hřensko->Děčín->Teplice ->Most -> Okořín | D45: 43.37 | E45: 0.1172338 | F45: 15.41 | G45: 621
A46: 44751 | D46: 76.23 | E46: 0.21270833 | F46: 14.93 | G46: 1387
A47: 44752 | D47: 100.59 | E47: 0.28246528 | F47: 14.83 | G47: 1725
A48: 44753 | D48: 78.07 | E48: 0.22108796 | F48: 14.71 | G48: 1135
A49: 44754 | D49: 75.61 | E49: 0.21518519 | F49: 14.64 | G49: 1280
A50: 44767 | D50: 8.56 | E50: 0.021168981 | F50: 16.85 | G50: 124
A51: 44770 | D51: 15.77 | E51: 0.072997685 | F51: 9 | G51: 239 | H51: e
A52: 44774 | D52: 24.77 | E52: 0.044571759 | F52: 23.16 | G52: 234
A53: 44775 | D53: 27.73 | E53: 0.053055556 | F53: 21.78 | G53: 281
A54: 44776 | D54: 64.37 | E54: 0.12929398 | F54: 20.74 | G54: 734
A55: 44777 | D55: 22.6 | E55: 0.0475 | F55: 19.83 | G55: 245
A56: 44781 | D56: 24.75 | E56: 0.049791667 | F56: 20.72 | G56: 171
A57: 44784 | D57: 51.77 | E57: 0.12796296 | F57: 16.85 | G57: 518
A58: 44788 | D58: 13.75 | E58: 0.029027778 | F58: 19.75 | G58: 149
A59: 44791 | D59: 63.46 | E59: 0.14800926 | F59: 17.86 | G59: 648
A60: 44799 | D60: 17.85 | E60: 0.08005787 | F60: 9.29 | G60: 215 | H60: e
A61: 44802 | D61: 15.83 | E61: 0.030868056 | F61: 21.37 | G61: 191
A62: 44803 | D62: 30.32 | E62: 0.13143519 | F62: 9.61 | G62: 196 | H62: e
A63: 44805 | D63: 20.79 | E63: 0.046423611 | F63: 18.66 | G63: 231
A64: 44806 | D64: 26.31 | E64: 0.051238426 | F64: 21.4 | G64: 275
A65: 44808 | D65: 14.44 | E65: 0.066099537 | F65: 9.1 | G65: 176 | H65: e
A66: 44811 | D66: 63.7 | E66: 0.12672454 | F66: 20.94 | G66: 714
A67: 44812 | D67: 15.68 | E67: 0.032951389 | F67: 19.82 | G67: 196
A68: 44820 | D68: 68.06 | E68: 0.15636574 | F68: 18.13 | G68: 800
A69: 44825 | D69: 19.67 | E69: 0.043576389 | F69: 18.81 | G69: 225
A70: 44826 | D70: 21.3 | E70: 0.10525463 | F70: 8.43 | G70: 50 | H70: e
A71: 44827 | D71: 23.36 | E71: 0.10693287 | F71: 9.1 | G71: 104 | H71: e
A72: 44828 | D72: 32.73 | E72: 0.12607639 | F72: 10.81 | G72: 72 | H72: e
A73: 44833 | D73: 19.6 | E73: 0.043171296 | F73: 17.5 | G73: 210
A74: 44834 | D74: 19.38 | E74: 0.039039352 | F74: 20.68 | G74: 213
A75: 44841 | D75: 13.74 | E75: 0.039780093 | F75: 14.39 | G75: 336
A76: 44842 | D76: 64.66 | E76: 0.11912037 | F76: 22.61 | G76: 1235
A77: 44845 | D77: 22.1 | E77: 0.052777778 | F77: 16.4 | G77: 280
A78: 44846 | D78: 18.48 | E78: 0.034328704 | F78: 22.43 | G78: 191
A79: 44851 | D79: 19.38 | E79: 0.039328704 | F79: 20.53 | G79: 221
A80: 44852 | D80: 15.74 | E80: 0.033194444 | F80: 20.18 | G80: 203
A81: 44853 | D81: 18.53 | E81: 0.034606481 | F81: 22.32 | G81: 190
A82: 44854 | D82: 19.48 | E82: 0.039328704 | F82: 20.64 | G82: 230
A83: 44856 | D83: 54.1 | E83: 0.11630787 | F83: 19.38 | G83: 565
A84: 44859 | D84: 30.21 | E84: 0.062013889 | F84: 20.3 | G84: 367
... A90: 44879 | D90: 13.01 | E90: 0.028530093 | F90: 18.99 | G90: 157
A141: Celkem | D141: =SUM(D2:D140 )-G157 -> 2597.42 | E141: =SUM(E2:E140)-F163 -> 5.8147338 | F141: =AVERAGEIF(H2:H140,"<>e",F2:F140) -> 19.63679 | G141: =SUM(G2:G140)-H163 -> 32658 | H141: Celkem | I141: =SUM(J2:J120) -> 7490
I142: =I141/D141 -> 2.8836307
C143: Celkově | E143: Bez Elišky | G143: S Eliškou
C144: Počet kilometrů | D144: Počet výjezdů | E144: Počet kilometrů | F144: Počet výjezdů | G144: Počet kilometrů | H144: Počet výjezdů
B145: Leden | C145: =SUMIFS($D$2:$D$140,$A$2:$A$140,">="&F166,$A$2:$A$140,"<="&G166) -> 122 | D145: =COUNTIFS($A$2:$A$140,">="&F166,$A$2:$A$140,"<="&G166) -> 5 | E145: =SUMIFS($D$2:$D$140,$A$2:$A$140,"<="&G166,H2:H140,"") -> 122 | F145: =COUNTIFS($A$2:$A$140,">="&F166,$A$2:$A$140,"<="&G166,H2:H140,"") -> 5 | G145: =SUMIFS($D$2:$D$140,$A$2:$A$140,"<="&G166,H2:H140,"e") -> 0 | H145: =COUNTIFS($A$2:$A$140,">="&F166,$A$2:$A$140,"<="&G166,$H$2:$H$140,"e") -> 0
B146: Únor | C146: =SUMIFS($D$2:$D$140,$A$2:$A$140,">="&F167,$A$2:$A$140,"<="&G167) -> 148.03 | D146: =COUNTIFS($A$2:$A$140,">="&F167,$A$2:$A$140,"<="&G167) -> 6 | E146: =SUMIFS($D$2:$D$140,$A$2:$A$140,">="&F167,$A$2:$A$140,"<="&G167,$H$2:$H$140,"") -> 148.03 | F146: =COUNTIFS($A$2:$A$140,">="&F167,$A$2:$A$140,"<="&G167,$H$2:$H$140,"") -> 6 | G146: =SUMIFS($D$2:$D$140,$A$2:$A$140,">="&F167,$A$2:$A$140,"<="&G167,$H$2:$H$140,"e") -> 0 | H146: =COUNTIFS($A$2:$A$140,">="&F167,$A$2:$A$140,"<="&G167,$H$2:$H$140,"e") -> 0
B147: Březen | C147: =SUMIFS($D$2:$D$140,$A$2:$A$140,">="&F168,$A$2:$A$140,"<="&G168) -> 176.5 | D147: =COUNTIFS($A$2:$A$140,">="&F168,$A$2:$A$140,"<="&G168) -> 5 | E147: =SUMIFS($D$2:$D$140,$A$2:$A$140,">="&F168,$A$2:$A$140,"<="&G168,$H$2:$H$140,"") -> 176.5 | F147: =COUNTIFS($A$2:$A$140,">="&F168,$A$2:$A$140,"<="&G168,$H$2:$H$140,"") -> 5 | G147: =SUMIFS($D$2:$D$140,$A$2:$A$140,">="&F168,$A$2:$A$140,"<="&G168,$H$2:$H$140,"e") -> 0 | H147: =COUNTIFS($A$2:$A$140,">="&F168,$A$2:$A$140,"<="&G168,$H$2:$H$140,"e") -> 0
B148: Duben | C148: =SUMIFS($D$2:$D$140,$A$2:$A$140,">="&F169,$A$2:$A$140,"<="&G169) -> 174.72 | D148: =COUNTIFS($A$2:$A$140,">="&F169,$A$2:$A$140,"<="&G169) -> 8 | E148: =SUMIFS($D$2:$D$140,$A$2:$A$140,">="&F169,$A$2:$A$140,"<="&G169,$H$2:$H$140,"") -> 174.72 | F148: =COUNTIFS($A$2:$A$140,">="&F169,$A$2:$A$140,"<="&G169,$H$2:$H$140,"") -> 8 | G148: =SUMIFS($D$2:$D$140,$A$2:$A$140,">="&F169,$A$2:$A$140,"<="&G169,$H$2:$H$140,"e") -> 0 | H148: =COUNTIFS($A$2:$A$140,">="&F169,$A$2:$A$140,"<="&G169,$H$2:$H$140,"e") -> 0
B149: Květen | C149: =SUMIFS($D$2:$D$140,$A$2:$A$140,">="&F170,$A$2:$A$140,"<="&G170) -> 325.62 | D149: =COUNTIFS($A$2:$A$140,">="&F170,$A$2:$A$140,"<="&G170) -> 10 | E149: =SUMIFS($D$2:$D$140,$A$2:$A$140,">="&F170,$A$2:$A$140,"<="&G170,$H$2:$H$140,"") -> 325.62 | F149: =COUNTIFS($A$2:$A$140,">="&F170,$A$2:$A$140,"<="&G170,$H$2:$H$140,"") -> 10 | G149: =SUMIFS($D$2:$D$140,$A$2:$A$140,">="&F170,$A$2:$A$140,"<="&G170,$H$2:$H$140,"e") -> 0 | H149: =COUNTIFS($A$2:$A$140,">="&F170,$A$2:$A$140,"<="&G170,$H$2:$H$140,"e") -> 0
B150: Červen | C150: =SUMIFS($D$2:$D$140,$A$2:$A$140,">="&F171,$A$2:$A$140,"<="&G171) -> 237.9 | D150: =COUNTIFS($A$2:$A$140,">="&F171,$A$2:$A$140,"<="&G171) -> 8 | E150: =SUMIFS($D$2:$D$140,$A$2:$A$140,">="&F171,$A$2:$A$140,"<="&G171,$H$2:$H$140,"") -> 219.3 | F150: =COUNTIFS($A$2:$A$140,">="&F171,$A$2:$A$140,"<="&G171,$H$2:$H$140,"") -> 7 | G150: =SUMIFS($D$2:$D$140,$A$2:$A$140,">="&F171,$A$2:$A$140,"<="&G171,$H$2:$H$140,"e") -> 18.6 | H150: =COUNTIFS($A$2:$A$140,">="&F171,$A$2:$A$140,"<="&G171,$H$2:$H$140,"e") -> 1
B151: Červenec | C151: =SUMIFS($D$2:$D$140,$A$2:$A$140,">="&F172,$A$2:$A$140,"<="&G172) -> 413.9 | D151: =COUNTIFS($A$2:$A$140,">="&F172,$A$2:$A$140,"<="&G172) -> 8 | E151: =SUMIFS($D$2:$D$140,$A$2:$A$140,">="&F172,$A$2:$A$140,"<="&G172,$H$2:$H$140,"") -> 398.13 | F151: =COUNTIFS($A$2:$A$140,">="&F172,$A$2:$A$140,"<="&G172,$H$2:$H$140,"") -> 7 | G151: =SUMIFS($D$2:$D$140,$A$2:$A$140,">="&F172,$A$2:$A$140,"<="&G172,$H$2:$H$140,"e") -> 15.77 | H151: =COUNTIFS($A$2:$A$140,">="&F172,$A$2:$A$140,"<="&G172,$H$2:$H$140,"e") -> 1
B152: Srpen | C152: =SUMIFS($D$2:$D$140,$A$2:$A$140,">="&F173,$A$2:$A$140,"<="&G173) -> 357.2 | D152: =COUNTIFS($A$2:$A$140,">="&F173,$A$2:$A$140,"<="&G173) -> 11 | E152: =SUMIFS($D$2:$D$140,$A$2:$A$140,">="&F173,$A$2:$A$140,"<="&G173,$H$2:$H$140,"") -> 309.03 | F152: =COUNTIFS($A$2:$A$140,">="&F173,$A$2:$A$140,"<="&G173,$H$2:$H$140,"") -> 9 | G152: =SUMIFS($D$2:$D$140,$A$2:$A$140,">="&F173,$A$2:$A$140,"<="&G173,$H$2:$H$140,"e") -> 48.17 | H152: =COUNTIFS($A$2:$A$140,">="&F173,$A$2:$A$140,"<="&G173,$H$2:$H$140,"e") -> 2
B153: Září | C153: =SUMIFS($D$2:$D$140,$A$2:$A$140,">="&F174,$A$2:$A$140,"<="&G174) -> 345.02 | D153: =COUNTIFS($A$2:$A$140,">="&F174,$A$2:$A$140,"<="&G174) -> 12 | E153: =SUMIFS($D$2:$D$140,$A$2:$A$140,">="&F174,$A$2:$A$140,"<="&G174,$H$2:$H$140,"") -> 253.19 | F153: =COUNTIFS($A$2:$A$140,">="&F174,$A$2:$A$140,"<="&G174,$H$2:$H$140,"") -> 8 | G153: =SUMIFS($D$2:$D$140,$A$2:$A$140,">="&F174,$A$2:$A$140,"<="&G174,$H$2:$H$140,"e") -> 91.83 | H153: =COUNTIFS($A$2:$A$140,">="&F174,$A$2:$A$140,"<="&G174,$H$2:$H$140,"e") -> 4
B154: Říjen | C154: =SUMIFS($D$2:$D$140,$A$2:$A$140,">="&F175,$A$2:$A$140,"<="&G175) -> 297.33 | D154: =COUNTIFS($A$2:$A$140,">="&F175,$A$2:$A$140,"<="&G175) -> 11 | E154: =SUMIFS($D$2:$D$140,$A$2:$A$140,">="&F175,$A$2:$A$140,"<="&G175,$H$2:$H$140,"") -> 297.33 | F154: =COUNTIFS($A$2:$A$140,">="&F175,$A$2:$A$140,"<="&G175,$H$2:$H$140,"") -> 11 | G154: =SUMIFS($D$2:$D$140,$A$2:$A$140,">="&F175,$A$2:$A$140,"<="&G175,$H$2:$H$140,"e") -> 0 | H154: =COUNTIFS($A$2:$A$140,">="&F175,$A$2:$A$140,"<="&G175,$H$2:$H$140,"e") -> 0
B155: Listopad | C155: =SUMIFS($D$2:$D$140,$A$2:$A$140,">="&F176,$A$2:$A$140,"<="&G176) -> 173.57 | D155: =COUNTIFS($A$2:$A$140,">="&F176,$A$2:$A$140,"<="&G176) -> 5 | E155: =SUMIFS($D$2:$D$140,$A$2:$A$140,">="&F176,$A$2:$A$140,"<="&G176,$H$2:$H$140,"") -> 173.57 | F155: =COUNTIFS($A$2:$A$140,">="&F176,$A$2:$A$140,"<="&G176,$H$2:$H$140,"") -> 5 | G155: =SUMIFS($D$2:$D$140,$A$2:$A$140,">="&F176,$A$2:$A$140,"<="&G176,$H$2:$H$140,"e") -> 0 | H155: =COUNTIFS($A$2:$A$140,">="&F176,$A$2:$A$140,"<="&G176,$H$2:$H$140,"e") -> 0
B156: Prosinec | C156: =SUMIFS($D$2:$D$140,$A$2:$A$140,">="&F177,$A$2:$A$140,"<="&G177) -> 0 | D156: =COUNTIFS($A$2:$A$140,">="&F177,$A$2:$A$140,"<="&G177) -> 0 | E156: =SUMIFS($D$2:$D$140,$A$2:$A$140,">="&F177,$A$2:$A$140,"<="&G177,$H$2:$H$140,"") -> 0 | F156: =COUNTIFS($A$2:$A$140,">="&F177,$A$2:$A$140,"<="&G177,$H$2:$H$140,"") -> 0 | G156: =SUMIFS($D$2:$D$140,$A$2:$A$140,">="&F177,$A$2:$A$140,"<="&G177,$H$2:$H$140,"e") -> 0 | H156: =COUNTIFS($A$2:$A$140,">="&F177,$A$2:$A$140,"<="&G177,$H$2:$H$140,"e") -> 0
B157: Celkem | C157: =SUM(C145:C156) -> 2771.79 | D157: =SUM(D145:D156) -> 89 | E157: =SUM(E145:E156) -> 2597.42 | F157: =SUM(F145:F156) -> 81 | G157: =SUM(G145:G156) -> 174.37 | H157: =SUM(H145:H156) -> 8
B161: Pod 500 metrů | C161: =AVERAGEIFS(F2:F140,G2:G140,"<500",H2:H140,"") -> 20.176935 | E161: Cyklo s Eliškou
B162: Mezi 500 a 1000 metry | C162: =AVERAGEIFS(F2:F140,G2:G140,">500",G2:G140,"<1000",H2:H140,"<>e") -> 18.862727 | E162: vzdálenost | F162: čas | G162: průměrná rychlost | H162: nastoupané metry
B163: Nad 1000 metrů | C163: =AVERAGEIFS(F2:F140,G2:G140,">1000") -> 16.515 | E163: =SUMIFS(D2:D140,H2:H140,"e") -> 174.37 | F163: =SUMIFS(E2:E140,H2:$H$140,"e") -> 0.74070602 | G163: =AVERAGEIF(H2:H140,"e",F2:F140) -> 10.0425 | H163: =SUMIFS(G2:G140,$H2:H$140,"e") -> 1148
B165: Délka cesty | C165: Počet | E165: 2022 | F165: První den v měsíci | G165: Poslední den v měsíci
B166: do 10 km | C166: =COUNTIFS($D$2:$D$140,"<10") -> 1 | E166: Leden | F166: 44562 | G166: 44592
B167: nad 10 km | C167: =COUNTIFS($D$2:$D$140,">=10",$D$2:$D$140,"<=20") -> 32 | E167: Únor | F167: 44593 | G167: 44620
B168: nad 20 km | C168: =COUNTIFS($D$2:$D$140,">=20",$D$2:$D$140,"<=30") -> 28 | E168: Březen | F168: 44621 | G168: 44651
B169: nad 30 km | C169: =COUNTIFS($D$2:$D$140,">=30",$D$2:$D$140,"<=40") -> 8 | E169: Duben | F169: 44652 | G169: 44681
B170: nad 40 km | C170: =COUNTIFS($D$2:$D$140,">=40",$D$2:$D$140,"<=50") -> 3 | E170: Květen | F170: 44682 | G170: 44712
B171: nad 50 km | C171: =COUNTIFS($D$2:$D$140,">=50",$D$2:$D$140,"<=60") -> 6 | E171: Červen | F171: 44713 | G171: 44742
B172: nad 60 km | C172: =COUNTIFS($D$2:$D$140,">=60",$D$2:$D$140,"<=70") -> 5 | E172: Červenec | F172: 44743 | G172: 44773
B173: nad 70 km | C173: =COUNTIFS($D$2:$D$140,">=70",$D$2:$D$140,"<=80") -> 4 | E173: Srpen | F173: 44774 | G173: 44804
B174: nad 80 km | C174: =COUNTIFS($D$2:$D$140,">=80",$D$2:$D$140,"<=90") -> 1 | E174: Září | F174: 44805 | G174: 44834
B175: nad 90 km | C175: =COUNTIFS($D$2:$D$140,">=90",$D$2:$D$140,"<=100") -> 0 | E175: Říjen | F175: 44835 | G175: 44865
B176: nad 100 km | C176: =COUNTIFS($D$2:$D$140,">=100",$D$2:$D$140,"<=110") -> 1 | E176: Listopad | F176: 44866 | G176: 44895
B177: nad 110 km | C177: =COUNTIFS($D$2:$D$140,">=110",$D$2:$D$140,"<=150") -> 0 | E177: Prosinec | F177: 44896 | G177: 44926
C178: =SUM(C166:C177) -> 89

Sheet 2021
A1: Datum | B1: Popis | C1: Umístění | D1: vzdálenost | E1: čas | F1: průměrná rychlost | G1: nastoupané metry | H1: Za co | I1: Cena opravy atd.
A2: 44284 | D2: 14.11 | E2: 0.030740741 | F2: 19.13 | G2: 256 | H2: servis | I2: 3500 | K2: e = s Eliškou
A3: 44288 | D3: 80.19 | E3: 0.17965278 | F3: 18.6 | G3: 1065 | H3: tretry | I3: 3100
A4: 44300 | D4: 25.76 | E4: 0.05712963 | F4: 18.79 | G4: 298 | H4: kufry | I4: 278 | K4: Cyklo s Eliškou
A5: 44302 | D5: 14.79 | E5: 0.030347222 | F5: 20.3 | G5: 160 | H5: servis | I5: 650 | K5: vzdálenost | L5: čas | M5: průměrná rychlost | N5: nastoupané metry
A6: 44313 | D6: 28.16 | E6: 0.054050926 | F6: 21.71 | G6: 298 | K6: =SUMIFS(D2:D134,H2:H134,"e") -> 155.21 | L6: =SUMIFS(E2:E134,H2:$H$134,"e") -> 0.69256944 | M6: =AVERAGEIF(H2:H134,"e",F2:F134) -> 9.296 | N6: =SUMIFS(G2:G134,$H2:H$134,"e") -> 1546
A7: 44315 | D7: 21.22 | E7: 0.039363426 | F7: 22.46 | G7: 248
A8: 44319 | D8: 19.96 | E8: 0.03880787 | F8: 21.44 | G8: 300
A9: 44321 | D9: 21.1 | E9: 0.041423611 | F9: 21.23 | G9: 248 | K9: 44285
A10: 44326 | D10: 94.77 | E10: 0.24826389 | F10: 15.9 | G10: 1582
A11: 44332 | D11: 14.62 | E11: 0.062465278 | F11: 9.75 | G11: 128 | H11: e
A12: 44333 | D12: 23.41 | E12: 0.049710648 | F12: 19.62 | G12: 246
A13: 44334 | D13: 20.3 | E13: 0.043518519 | F13: 19.43 | G13: 243
A14: 44336 | D14: 12.85 | E14: 0.027962963 | F14: 19.16 | G14: 153
A15: 44343 | D15: 20.67 | E15: 0.042951389 | F15: 20.05 | G15: 239
A16: 44345 | D16: 47.47 | E16: 0.10238426 | F16: 19.31 | G16: 618
A17: 44346 | D17: 11.67 | E17: 0.050902778 | F17: 9.55 | G17: 126 | H17: e
A18: 44347 | D18: 18.53 | E18: 0.03599537 | F18: 21.44 | G18: 201
A19: 44348 | D19: 19.77 | E19: 0.039976852 | F19: 20.6 | G19: 231
A20: 44350 | D20: 21.64 | E20: 0.045266204 | F20: 19.92 | G20: 276
A21: 44354 | D21: 15.15 | E21: 0.031400463 | F21: 20.1 | G21: 173
A22: 44355 | D22: 24.39 | E22: 0.055636574 | F22: 18.27 | G22: 309
A23: 44356 | D23: 17.08 | E23: 0.036550926 | F23: 19.47 | G23: 235
A24: 44359 | B24: Ztracené kobylky 2021 | C24: 12 | D24: 74.16 | E24: 0.24556713 | F24: 12.6 | G24: 1349
A25: 44360 | D25: 8.74 | E25: 0.044340278 | F25: 8.22 | G25: 129 | H25: e
A26: 44361 | D26: 22.4 | E26: 0.045486111 | F26: 20.52 | G26: 283
A27: 44363 | D27: 22.38 | E27: 0.04537037 | F27: 20.56 | G27: 271
A28: 44364 | D28: 27.31 | E28: 0.056655093 | F28: 20.09 | G28: 245
A29: 44367 | D29: 21.57 | E29: 0.04025463 | F29: 22.32 | G29: 134
A30: 44368 | D30: 23.25 | E30: 0.051481481 | F30: 18.82 | G30: 246
A31: 44375 | D31: 31.41 | E31: 0.066979167 | F31: 19.54 | G31: 437
A32: 44377 | D32: 22.02 | E32: 0.049895833 | F32: 18.39 | G32: 273
A33: 44382 | D33: 19.52 | E33: 0.051550926 | F33: 15.77 | G33: 85
A34: 44383 | B34: Tour de Jeseníky 2021 Hradec Králové->Jeseník->Ostrava | D34: 81.79 | E34: 0.22372685 | F34: 15.23 | G34: 984
A35: 44384 | D35: 84.94 | E35: 0.245 | F35: 14.44 | G35: 1402
A36: 44385 | D36: 77.46 | E36: 0.23993056 | F36: 13.45 | G36: 1542
A37: 44386 | D37: 78.05 | E37: 0.21738426 | F37: 14.96 | G37: 714
A38: 44386 | D38: 6.45 | E38: 0.020069444 | F38: 13.4 | G38: 108
A39: 44387 | D39: 43.61 | E39: 0.14070602 | F39: 12.91 | G39: 339
A40: 44389 | D40: 12.87 | E40: 0.026157407 | F40: 20.5 | G40: 142
A41: 44390 | D41: 18.7 | E41: 0.03900463 | F41: 19.97 | G41: 179
A42: 44392 | D42: 16.86 | E42: 0.035300926 | F42: 19.9 | G42: 199
A43: 44396 | D43: 19.35 | E43: 0.036157407 | F43: 22.31 | G43: 213
A44: 44397 | D44: 35.94 | E44: 0.082222222 | F44: 18.21 | G44: 232
A45: 44398 | D45: 21.58 | E45: 0.041446759 | F45: 21.69 | G45: 230
A46: 44417 | D46: 12.32 | E46: 0.032164352 | F46: 16 | G46: 150
A47: 44455 | D47: 22.36 | E47: 0.043518519 | F47: 21.4 | G47: 260
A48: 44427 | D48: 29.91 | E48: 0.059328704 | F48: 21.01 | G48: 309 | J48: 24.7
A49: 44429 | B49: Ježíškova cesta | D49: 18.24 | E49: 0.07130787 | F49: 10.7 | G49: 240 | H49: e | J49: 19.9
A50: 44431 | D50: 27.53 | E50: 0.050902778 | F50: 22.3 | G50: 275 | J50: =AVERAGE(J48:J49) -> 22.3
A51: 44433 | D51: 24.98 | E51: 0.046076389 | F51: 22.6 | G51: 218
A52: 44438 | D52: 25.76 | E52: 0.047997685 | F52: 22.4 | G52: 193
A53: 44440 | D53: 11.6. | E53: 0.024282407 | F53: 19.87 | G53: 154
A54: 44442 | D54: 19.34 | E54: 0.038773148 | F54: 20.79 | G54: 232
A55: 44443 | D55: 13.21 | E55: 0.067280093 | F55: 8.18 | G55: 210 | H55: e
A56: 44444 | D56: 21.49 | E56: 0.083854167 | F56: 10.68 | G56: 130 | H56: e
A57: 44445 | D57: 24.89 | E57: 0.067604167 | F57: 15.34 | G57: 328
A58: 44447 | D58: 20.9 | E58: 0.040960648 | F58: 21.26 | G58: 226
A59: 44448 | D59: 23.77 | E59: 0.043518519 | F59: 22.76 | G59: 221
A60: 44452 | B60: Dovolená ve Skalné a návštěva Kristý | D60: 18.4 | E60: 0.073761574 | F60: 10.39 | G60: 180 | H60: e
A61: 44453 | D61: 18.4 | E61: 0.087905093 | F61: 8.72 | G61: 178 | H61: e
A62: 44456 | D62: 17.06 | E62: 0.081400463 | F62: 8.73 | G62: 166 | H62: e
A63: 44457 | D63: 13.38 | E63: 0.069351852 | F63: 8.04 | G63: 59 | H63: e
A64: 44459 | D64: 22.11 | E64: 0.043680556 | F64: 21.09 | G64: 281
A65: 44460 | D65: 18.43 | E65: 0.035821759 | F65: 21.44 | G65: 191
A66: 44462 | D66: 19.41 | E66: 0.038356481 | F66: 21.09 | G66: 232
A67: 44464 | D67: 10.11 | E67: 0.022569444 | F67: 18.68 | G67: 225
A68: 44464 | B68: Zlaťák (1:30:11 oficiální čas, 13. v kategorii do 40 let | D68: 20.4 | E68: 0.063078704 | F68: 13.47 | G68: 969
A69: 44464 | D69: 19.93 | E69: 0.034212963 | F69: 24.27 | G69: 182
A70: 44469 | D70: 57.34 | E70: 0.11405093 | F70: 20.95 | G70: 588
A71: 44473 | D71: 27.61 | E71: 0.053738426 | F71: 21.41 | G71: 299
A72: 44474 | D72: 27.43 | E72: 0.051597222 | F72: 22.5 | G72: 299
A73: 44477 | B73: na registraci | D73: 14.96 | E73: 0.03619213 | F73: 17.23 | G73: 358
A74: 44478 | B74: na závod | D74: 10.58 | E74: 0.024525463 | F74: 17.98
A75: 44478 | B75: CT author cup - 669 celkově a 219 kategorie MA | D75: 64.61 | E75: 0.12037037 | F75: 22.36 | G75: 1250
A76: 44478 | D76: 7.73 | E76: 0.016840278 | F76: 19.14 | G76: 150
A77: 44503 | D77: 18.66 | E77: 0.038518519 | F77: 20.19 | G77: 217
A78: 44518 | D78: 31.31 | E78: 0.06431713 | F78: 20.28 | G78: 332
A79: 44524 | D79: 31.75 | E79: 0.072708333 | F79: 18.19 | G79: 484
A80: 44536 | D80: 18.6 | E80: 0.039467593 | F80: 19.64 | G80: 200
A81: 44550 | D81: 15.09 | E81: 0.03369213 | F81: 18.66 | G81: 176
A135: Celkem | D135: =SUM(D2:D134 )-K6 -> 1990.76 | E135: =SUM(E2:E134)-L6 -> 4.6303472 | F135: =AVERAGEIF(H2:H134,"<>e",F2:F134) -> 19.383 | G135: =SUM(G2:G134)-N6 -> 25985 | H135: Celkem | I135: =SUM(I2:I114) -> 7528
I136: =I135/D135 -> 3.7814704
C137: Celkově | E137: Bez Elišky | G137: S Eliškou
C138: Počet kilometrů | D138: Počet výjezdů | E138: Počet kilometrů | F138: Počet výjezdů | G138: Počet kilometrů | H138: Počet výjezdů
B139: Leden | C139: =SUMIFS($D$2:$D$114,$A$2:$A$114,"<=31.1.2021") -> 0 | D139: =COUNTIFS($A$2:$A$114,">=1.1.2021",$A$2:$A$114,"<=31.1.2021") -> 0 | E139: =SUMIFS($D$2:$D$114,$A$2:$A$114,"<=31.1.2021") -> 0 | F139: =COUNTIFS($A$2:$A$114,">=1.1.2021",$A$2:$A$114,"<=31.1.2021",$H$2:$H$114,"") -> 0 | G139: =SUMIFS($D$2:$D$114,$A$2:$A$114,"<1.2.2020",H1:H113,"e") -> 0 | H139: =COUNTIFS($A$2:$A$114,">=1.1.2020",$A$2:$A$114,"<=31.1.2020",$H$2:$H$114,"e") -> 0
B140: Únor | C140: =SUMIFS($D$2:$D$114,$A$2:$A$114,"<29.2.2021")-SUMIFS($D$2:$D$54,$A$2:$A$54,"<1.2.2021") -> 0 | D140: =COUNTIFS($A$2:$A$114,">=1.2.2021",$A$2:$A$114,"<=28.2.2021") -> 0 | E140: =SUMIFS($D$2:$D$114,$A$2:$A$114,"<1.3.2021",H2:H114,"")-SUMIFS($D$2:$D$114,$A$2:$A$114,"<1.2.2021",H2:H114,"") -> 0 | F140: =COUNTIFS($A$2:$A$114,">=1.2.2020",$A$2:$A$114,"<=28.2.2020",$H$2:$H$114,"") -> 0 | G140: =SUMIFS($D$2:$D$114,$A$2:$A$114,"<1.3.2020",H2:H114,"e")-SUMIFS($D$2:$D$114,$A$2:$A$114,"<1.2.2020",H2:H114,"e") -> 0 | H140: =COUNTIFS($A$2:$A$114,">=1.2.2020",$A$2:$A$114,"<=28.2.2020",$H$2:$H$114,"e") -> 0
B141: Březen | C141: =SUMIFS($D$2:$D$114,$A$2:$A$114,"<1.4.2021")-SUMIFS($D$2:$D$54,$A$2:$A$54,"<K9") -> 14.11 | D141: =COUNTIFS($A$2:$A$114,">=1.3.2021",$A$2:$A$114,"<=31.3.2021") -> 1 | E141: =SUMIFS($D$2:$D$114,$A$2:$A$114,"<1.4.2021",H2:H114,"")-SUMIFS($D$2:$D$114,$A$2:$A$114,"<1.3.2021",H2:H114,"") -> 0 | F141: =COUNTIFS($A$2:$A$114,">=1.3.2021",$A$2:$A$114,"<=31.3.2021",$H$2:$H$114,"") -> 0 | G141: =SUMIFS($D$2:$D$114,$A$2:$A$114,"<1.4.2021",H2:H114,"e")-SUMIFS($D$2:$D$114,$A$2:$A$114,"<1.3.2021",H2:H114,"e") -> 0 | H141: =COUNTIFS($A$2:$A$114,">=1.3.2020",$A$2:$A$114,"<=31.3.2020",$H$2:$H$114,"e") -> 0
B142: Duben | C142: =SUMIFS($D$2:$D$54,$A$2:$A$54,"<1.5.2021")-SUMIFS($D$2:$D$54,$A$2:$A$54,"<1.4.2021") -> 170.12 | D142: =COUNTIFS($A$2:$A$114,">=1.4.2021",$A$2:$A$114,"<=30.4.2021") -> 5 | E142: =SUMIFS($D$2:$D$114,$A$2:$A$114,"<1.5.2021",H2:H114,"")-SUMIFS($D$2:$D$114,$A$2:$A$114,"<1.4.2021",H2:H114,"") -> 49.38 | F142: =COUNTIFS($A$2:$A$114,">=1.4.2021",$A$2:$A$114,"<=30.4.2021",$H$2:$H$114,"") -> 2 | G142: =SUMIFS($D$2:$D$114,$A$2:$A$114,"<1.5.2021",H2:H114,"e")-SUMIFS($D$2:$D$114,$A$2:$A$114,"<1.4.2021",H2:H114,"e") -> 0 | H142: =COUNTIFS($A$2:$A$114,">=1.4.2020",$A$2:$A$114,"<=30.4.2020",$H$2:$H$114,"e") -> 0
B143: Květen | C143: =SUMIFS($D$2:$D$54,$A$2:$A$54,"<1.6.2021")-SUMIFS($D$2:$D$54,$A$2:$A$54,"<1.5.2021") -> 305.35 | D143: =COUNTIFS($A$2:$A$114,">=1.5.2021",$A$2:$A$114,"<=31.5.2021") -> 11 | E143: =SUMIFS($D$2:$D$114,$A$2:$A$114,"<1.6.2021",H2:H114,"")-SUMIFS($D$2:$D$114,$A$2:$A$114,"<1.5.2021",H2:H114,"") -> 279.06 | F143: =COUNTIFS($A$2:$A$114,">=1.5.2021",$A$2:$A$114,"<=31.5.2021",$H$2:$H$114,"") -> 9 | G143: =SUMIFS($D$2:$D$114,$A$2:$A$114,"<1.6.2021",H2:H114,"e")-SUMIFS($D$2:$D$114,$A$2:$A$114,"<1.5.2021",H2:H114,"e") -> 26.29 | H143: =COUNTIFS($A$2:$A$114,">=1.5.2021",$A$2:$A$114,"<=31.5.2021",$H$2:$H$114,"e") -> 2
B144: Červen | C144: =SUMIFS($D$2:$D$70,$A$2:$A$70,"<1.7.2021")-SUMIFS($D$2:$D$70,$A$2:$A$70,"<1.6.2021") -> 351.27 | D144: =COUNTIFS($A$2:$A$114,">=1.6.2021",$A$2:$A$114,"<=30.6.2021") -> 14 | E144: =SUMIFS($D$2:$D$114,$A$2:$A$114,"<1.7.2021",H2:H114,"")-SUMIFS($D$2:$D$114,$A$2:$A$114,"<1.6.2021",H2:H114,"") -> 342.53 | F144: =COUNTIFS($A$2:$A$114,">=1.6.2021",$A$2:$A$114,"<=30.6.2021",$H$2:$H$114,"") -> 13 | G144: =SUMIFS($D$2:$D$114,$A$2:$A$114,"<1.7.2021",H2:H114,"e")-SUMIFS($D$2:$D$114,$A$2:$A$114,"<1.6.2021",H2:H114,"e") -> 8.74 | H144: =COUNTIFS($A$2:$A$114,">=1.6.2021",$A$2:$A$114,"<=30.6.2021",$H$2:$H$114,"e") -> 1
B145: Červenec | C145: =SUMIFS($D$2:$D$82,$A$2:$A$82,"<1.8.2021")-SUMIFS($D$2:$D$82,$A$2:$A$82,"<1.7.2021") -> 517.12 | D145: =COUNTIFS($A$2:$A$114,">=1.7.2021",$A$2:$A$114,"<=31.7.2021") -> 13 | E145: =SUMIFS($D$2:$D$114,$A$2:$A$114,"<1.8.2021",$H$2:$H$114,"")-SUMIFS($D$2:$D$114,$A$2:$A$114,"<1.7.2021",$H$2:$H$114,"") -> 517.12 | F145: =COUNTIFS($A$2:$A$114,">=1.7.2021",$A$2:$A$114,"<=31.7.2021",$H$2:$H$114,"") -> 13 | G145: =SUMIFS($D$2:$D$114,$A$2:$A$114,"<1.8.2021",$H$2:$H$114,"e")-SUMIFS($D$2:$D$114,$A$2:$A$114,"<1.7.2021",$H$2:$H$114,"e") -> 0 | H145: =COUNTIFS($A$2:$A$114,">=1.7.2021",$A$2:$A$114,"<=31.7.2021",$H$2:$H$114,"e") -> 0
B146: Srpen | C146: =SUMIFS($D$2:$D$134,$A$2:$A$134,"<1.9.2021")-SUMIFS($D$2:$D$134,$A$2:$A$134,"<1.8.2021") -> 138.74 | D146: =COUNTIFS($A$2:$A$134,">=1.8.2021",$A$2:$A$134,"<=31.8.2021") -> 6 | E146: =SUMIFS($D$2:$D$114,$A$2:$A$114,"<1.9.2021",$H$2:$H$114,"")-SUMIFS($D$2:$D$114,$A$2:$A$114,"<1.8.2021",$H$2:$H$114,"") -> 120.5 | F146: =COUNTIFS($A$2:$A$114,">=1.8.2021",$A$2:$A$114,"<=31.8.2021",$H$2:$H$114,"") -> 5 | G146: =SUMIFS($D$2:$D$114,$A$2:$A$114,"<1.9.2021",$H$2:$H$114,"e")-SUMIFS($D$2:$D$114,$A$2:$A$114,"<1.8.2021",$H$2:$H$114,"e") -> 18.24 | H146: =COUNTIFS($A$2:$A$114,">=1.8.2021",$A$2:$A$114,"<=31.8.2021",$H$2:$H$114,"e") -> 1
B147: Září | C147: =SUMIFS($D$2:$D$134,$A$2:$A$134,"<1.10.2021")-SUMIFS($D$2:$D$134,$A$2:$A$134,"<1.9.2021") -> 380.93 | D147: =COUNTIFS($A$2:$A$134,">=1.9.2021",$A$2:$A$134,"<=30.9.2021") -> 19 | E147: =SUMIFS($D$2:$D$114,$A$2:$A$114,"<1.10.2021",$H$2:$H$114,"")-SUMIFS($D$2:$D$114,$A$2:$A$114,"<1.9.2021",$H$2:$H$114,"") -> 278.99 | F147: =COUNTIFS($A$2:$A$134,">=1.9.2021",$A$2:$A$134,"<=30.9.2021",$H$2:$H$134,"") -> 13 | G147: =SUMIFS($D$2:$D$134,$A$2:$A$134,"<1.10.2021",$H$2:$H$134,"e")-SUMIFS($D$2:$D$134,$A$2:$A$134,"<1.9.2021",$H$2:$H$134,"e") -> 101.94 | H147: =COUNTIFS($A$2:$A$134,">=1.9.2021",$A$2:$A$134,"<=30.9.2021",$H$2:$H$134,"e") -> 6
B148: Říjen | C148: =SUMIFS($D$2:$D$134,$A$2:$A$134,"<31.10.2021")-SUMIFS($D$2:$D$134,$A$2:$A$134,"<1.10.2021") -> 152.92 | D148: =COUNTIFS($A$2:$A$134,">=1.10.2021",$A$2:$A$134,"<=31.10.2021") -> 6 | E148: =SUMIFS($D$2:$D$134,$A$2:$A$134,"<1.11.2021",$H$2:$H$134,"")-SUMIFS($D$2:$D$134,$A$2:$A$134,"<1.10.2021",$H$2:$H$134,"") -> 152.92 | F148: =COUNTIFS($A$2:$A$134,">=1.10.2021",$A$2:$A$134,"<=31.10.2021",$H$2:$H$134,"") -> 6 | G148: =SUMIFS($D$2:$D$134,$A$2:$A$134,"<1.11.2021",$H$2:$H$134,"e")-SUMIFS($D$2:$D$134,$A$2:$A$134,"<1.10.2021",$H$2:$H$134,"e") -> 0 | H148: =COUNTIFS($A$2:$A$134,">=1.10.2021",$A$2:$A$134,"<=31.10.2021",$H$2:$H$134,"e") -> 0
B149: Listopad | C149: =SUMIFS($D$2:$D$134,$A$2:$A$134,"<30.11.2021")-SUMIFS($D$2:$D$134,$A$2:$A$134,"<1.11.2021") -> 81.72 | D149: =COUNTIFS($A$2:$A$134,">=1.11.2021",$A$2:$A$134,"<=30.11.2021") -> 3 | E149: =SUMIFS($D$2:$D$134,$A$2:$A$134,"<1.12.2021",$H$2:$H$134,"")-SUMIFS($D$2:$D$134,$A$2:$A$134,"<1.11.2021",$H$2:$H$134,"") -> 81.72 | F149: =COUNTIFS($A$2:$A$134,">=1.11.2021",$A$2:$A$134,"<=30.11.2021",$H$2:$H$134,"") -> 3 | G149: =SUMIFS($D$2:$D$134,$A$2:$A$134,"<1.12.2020",$H$2:$H$134,"e")-SUMIFS($D$2:$D$134,$A$2:$A$134,"<1.11.2020",$H$2:$H$134,"e") -> 0 | H149: =COUNTIFS($A$2:$A$134,">=1.11.2021",$A$2:$A$134,"<=30.11.2021",$H$2:$H$134,"e") -> 0
B150: Prosinec | C150: =SUMIFS($D$2:$D$134,$A$2:$A$134,"<31.12.2021")-SUMIFS($D$2:$D$134,$A$2:$A$134,"<1.12.2021") -> 33.69 | D150: =COUNTIFS($A$2:$A$134,">=1.12.2021",$A$2:$A$134,"<=31.12.2021") -> 2 | E150: =SUMIFS($D$2:$D$134,$A$2:$A$134,"<31.12.2021",$H$2:$H$134,"")-SUMIFS($D$2:$D$134,$A$2:$A$134,"<1.12.2021",$H$2:$H$134,"") -> 33.69 | F150: =COUNTIFS($A$2:$A$134,">=1.12.2021",$A$2:$A$134,"<=31.12.2021",$H$2:$H$134,"") -> 2 | G150: =SUMIFS($D$2:$D$134,$A$2:$A$134,"<31.12.2020",$H$2:$H$134,"e")-SUMIFS($D$2:$D$134,$A$2:$A$134,"<1.12.2020",$H$2:$H$134,"e") -> 0 | H150: =COUNTIFS($A$2:$A$134,">=1.12.2021",$A$2:$A$134,"<=31.12.2021",$H$2:$H$134,"e") -> 0
B151: Celkem | C151: =SUM(C139:C150) -> 2145.97 | D151: =SUM(D139:D150) -> 80 | E151: =SUM(E139:E150) -> 1855.91 | F151: =SUM(F139:F150) -> 66 | G151: =SUM(G139:G150) -> 155.21 | H151: =SUM(H139:H150) -> 10
B155: Pod 500 metrů | C155: =AVERAGEIFS(F2:F134,G2:G134,"<500",H2:H134,"<>e") -> 19.957931
B156: Mezi 500 a 1000 metry | C156: =AVERAGEIFS(F2:F134,G2:G134,">500",G2:G134,"<1000",H2:H134,"<>e") -> 16.784
...

Sheet 2020
A1: Datum | B1: Popis | C1: Umístění | D1: vzdálenost | E1: čas | F1: průměrná rychlost | G1: nastoupané metry | H1: Za co | I1: Cena opravy atd.
A2: 43840 | D2: 9.76 | E2: 0.022106481 | F2: 18.39 | G2: 122 | I2: 800 | K2: e = s Eliškou
A3: 43843 | D3: 15.2 | E3: 0.030613426 | F3: 20.6 | G3: 236 | H3: řetez a výživa | I3: 861
A4: 43844 | D4: 16.04 | E4: 0.031747685 | F4: 21.06 | G4: 206 | K4: Cyklo s Eliškou
A5: 43846 | D5: 16.35 | E5: 0.03431713 | F5: 19.85 | G5: 202 | K5: vzdálenost | L5: čas | M5: průměrná rychlost | N5: nastoupané metry
A6: 43847 | D6: 16.76 | E6: 0.035381944 | F6: 19.73 | G6: 215 | K6: =SUMIFS(D2:D134,H2:H134,"e") -> 323.15 | L6: =SUMIFS(E2:E134,H2:$H$134,"e") -> 0.8630787 | M6: =AVERAGEIF(H2:H134,"e",F2:F134) -> 15.0525 | N6: =SUMIFS(G2:G134,$H2:H$134,"e") -> 3064
A7: 43872 | D7: 13.94 | E7: 0.031597222 | F7: 18.38 | G7: 165
A8: 43874 | D8: 16.14 | E8: 0.034618056 | F8: 19.43 | G8: 210
A9: 43878 | D9: 18.36 | E9: 0.037303241 | F9: 20.5 | G9: 210
A10: 43879 | D10: 24.34 | E10: 0.046724537 | F10: 21.71 | G10: 260
A11: 43892 | D11: 16.2 | E11: 0.032719907 | F11: 20.63 | G11: 204
A12: 43894 | D12: 17.7 | E12: 0.038564815 | F12: 19.35 | G12: 305
A13: 43895 | D13: 21.76 | E13: 0.04443287 | F13: 20.37 | G13: 233
A14: 43908 | D14: 25.54 | E14: 0.067523148 | F14: 15.76 | G14: 411
A15: 43909 | D15: 45.57 | E15: 0.10699074 | F15: 17.74 | G15: 583
A16: 43915 | D16: 29.08 | E16: 0.076018519 | F16: 15.94 | G16: 614
A17: 43928 | D17: 45.04 | E17: 0.10621528 | F17: 17.67 | G17: 553
A18: 43930 | D18: 39.3 | E18: 0.095104167 | F18: 17.22 | G18: 518
A19: 43933 | D19: 44.69 | E19: 0.11054398 | F19: 16.84 | G19: 604 | H19: e
A20: 43937 | D20: 57.93 | E20: 0.13652778 | F20: 17.68 | G20: 689
A21: 43938 | D21: 30.98 | E21: 0.067002315 | F21: 19.27 | G21: 399
A22: 43941 | D22: 23.28 | E22: 0.056238426 | F22: 17.25 | G22: 357
A23: 43942 | D23: 21.63 | E23: 0.041736111 | F23: 21.63 | G23: 215
A24: 43943 | D24: 17.18 | E24: 0.034826389 | F24: 20.56 | G24: 211
A25: 43944 | D25: 56.16 | E25: 0.13118056 | F25: 17.83 | G25: 674
A26: 43948 | D26: 21.44 | E26: 0.043703704 | F26: 20.44 | G26: 219
A27: 43949 | D27: 30.83 | E27: 0.073645833 | F27: 17.44 | G27: 427
A28: 43955 | D28: 20.71 | E28: 0.041354167 | F28: 20.86 | G28: 170
A29: 43958 | D29: 31.57 | E29: 0.0609375 | F29: 21.59 | G29: 281
A30: 43962 | D30: 23.28 | E30: 0.054710648 | F30: 17.73 | G30: 458
A31: 43963 | D31: 11.61 | E31: 0.025162037 | F31: 18.97 | G31: 178
... A47: 43995 | D47: 32.72 | E47: 0.061643519 | F47: 22.11 | G47: 306
A48: 43997 | D48: 10.84 | E48: 0.034409722 | F48: 13.1 | G48: 72 | H48: e
A49: 43999 | B49: Tour de Krkonoše | D49: 100.32 | E49: 0.33569444 | F49: 12.45 | G49: 2779
A50: 44000 | D50: 82.68 | E50: 0.24392361 | F50: 14.12 | G50: 1405
A51: 44001 | D51: 45.73 | E51: 0.13381944 | F51: 14.23 | G51: 815
A52: 44004 | D52: 16.22 | E52: 0.031030093 | F52: 21.78 | G52: 187
A53: 44005 | D53: 26.48 | E53: 0.045636574 | F53: 24.17 | G53: 188
A54: 44006 | D54: 24.39 | E54: 0.041875 | F54: 24.27 | G54: 168
A55: 44012 | D55: 13.13 | E55: 0.030509259 | F55: 17.93 | G55: 146
A56: 44013 | D56: 23.8 | E56: 0.047488426 | F56: 20.88 | G56: 281
A57: 44019 | D57: 36.74 | E57: 0.070358796 | F57: 21.76 | G57: 239
A58: 44020 | D58: 26.55 | E58: 0.047395833 | F58: 23.35 | G58: 189
A59: 44021 | D59: 31.53 | E59: 0.059884259 | F59: 21.93 | G59: 227
A60: 44022 | D60: 16.21 | E60: 0.032048611 | F60: 21.07 | G60: 189
A61: 44022 | D61: 7.32 | E61: 0.020497685 | F61: 14.88 | G61: 146 | H61: e
A62: 44026 | D62: 28.13 | E62: 0.061064815 | F62: 19.19 | G62: 278
A63: 44027 | D63: 26.39 | E63: 0.04625 | F63: 23.77 | G63: 184
A64: 44029 | D64: 16.24 | E64: 0.032233796 | F64: 21.01 | G64: 191
A65: 44030 | D65: 51.23 | E65: 0.10892361 | F65: 19.59 | G65: 267 | H65: e
A66: 44032 | D66: 21.62 | E66: 0.039328704 | F66: 22.92 | G66: 208
A67: 44033 | D67: 27 | E67: 0.047581019 | F67: 26.65 | G67: 204
A68: 44035 | D68: 9.7 | E68: 0.022314815 | F68: 18.12 | G68: 142
A69: 44036 | D69: 16.11 | E69: 0.044085648 | F69: 15.22 | G69: 256 | H69: e
A70: 44037 | D70: 45.43 | E70: 0.10533565 | F70: 17.97 | G70: 539 | H70: e
A71: 44039 | D71: 24.95 | E71: 0.043912037 | F71: 23.68 | G71: 176
A72: 44040 | D72: 31.78 | E72: 0.06193287 | F72: 21.38 | G72: 343
A73: 44041 | D73: 24.91 | E73: 0.049837963 | F73: 20.82 | G73: 261
A74: 44042 | D74: 26.27 | E74: 0.046400463 | F74: 23.6 | G74: 183
A75: 44043 | D75: 13.33 | E75: 0.026712963 | F75: 20.8 | G75: 145
A76: 44049 | B76: Tour de Jižní Čechy (T+K+E+H+L) | D76: 48.04 | E76: 0.13793981 | F76: 14.51 | G76: 171 | H76: e
A77: 44050 | D77: 5.56 | E77: 0.010648148 | F77: 21.8 | G77: 16
A78: 44051 | D78: 29.93 | E78: 0.085335648 | F78: 14.61 | G78: 70 | H78: e
A79: 44053 | D79: 17.22 | E79: 0.034756944 | F79: 20.65 | G79: 189
A80: 44054 | D80: 25.14 | E80: 0.046319444 | F80: 22.61 | G80: 191
A81: 44055 | D81: 24.99 | E81: 0.044618056 | F81: 23.34 | G81: 280
A82: 44056 | D82: 17.46 | E82: 0.045671296 | F82: 15.93 | G82: 276 | H82: e
A83: 44061 | D83: 25.14 | E83: 0.045439815 | F83: 23.05 | G83: 194
A84: 44062 | D84: 30.22 | E84: 0.065324074 | F84: 19.28 | G84: 165
A85: 44063 | D85: 26.3 | E85: 0.045185185 | F85: 24.25 | G85: 179
A86: 44067 | D86: 76.23 | E86: 0.14863426 | F86: 21.37 | G86: 738
A87: 44068 | D87: 16.91 | E87: 0.032233796 | F87: 21.86 | G87: 169
A88: 44069 | D88: 13.22 | E88: 0.026145833 | F88: 21.08 | G88: 159
A89: 44070 | D89: 11.79 | E89: 0.041435185 | F89: 11.86 | G89: 140 | H89: e
A90: 44071 | D90: 17.28 | E90: 0.054293981 | F90: 13.26 | G90: 147 | H90: e
A91: 44072 | D91: 36.41 | E91: 0.080289352 | F91: 18.89 | G91: 759
A92: 44076 | D92: 17.15 | E92: 0.032997685 | F92: 21.66 | G92: 174
A93: 44077 | D93: 13.21 | E93: 0.026712963 | F93: 20.6 | G93: 146
A94: 44078 | D94: 15.73 | E94: 0.030914352 | F94: 21.21 | G94: 192
A95: 44080 | D95: 22.3 | E95: 0.042291667 | F95: 21.97 | G95: 239
A96: 44080 | B96: Transbrody 2020 (00:57:24 oficiální čas, 17 v kategorii M19) | C96: 48 | D96: 20.74 | E96: 0.040034722 | F96: 21.59 | G96: 344
A97: 44080 | D97: 25.17 | E97: 0.052905093 | F97: 19.82 | G97: 243
A98: 44081 | D98: 16.07 | E98: 0.032303241 | F98: 20.72 | G98: 187
A99: 44082 | D99: 19.76 | E99: 0.038645833 | F99: 21.3 | G99: 211
A100: 44083 | D100: 17 | E100: 0.032997685 | F100: 21.47 | G100: 168
A101: 44085 | D101: 20.23 | E101: 0.041655093 | F101: 20.23 | G101: 228
A102: 44087 | D102: 23.03 | E102: 0.074606481 | F102: 12.86 | G102: 376 | H102: e
A103: 44088 | D103: 17.61 | E103: 0.037048611 | F103: 19.81 | G103: 172
A104: 44089 | D104: 13.24 | E104: 0.026018519 | F104: 21.2 | G104: 140
A105: 44090 | D105: 24.17 | E105: 0.049328704 | F105: 20.42 | G105: 225
A106: 44091 | D106: 13.21 | E106: 0.02775463 | F106: 19.83 | G106: 144
A107: 44093 | D107: 7.36 | E107: 0.015706019 | F107: 19.53 | G107: 137
A108: 44093 | B108: Zlaťák (1:28:23 oficiální čas, 13. v kategorii do 40 let | C108: 31/47 | D108: 20.95 | E108: 0.061435185 | F108: 14.21 | G108: 971
A109: 44093 | D109: 20.53 | E109: 0.033321759 | F109: 25.68 | G109: 186
A110: 44095 | D110: 13.25 | E110: 0.026030093 | F110: 21.22 | G110: 147
A111: 44096 | D111: 19.58 | E111: 0.036377315 | F111: 22.43 | G111: 225
A112: 44097 | D112: 20.61 | E112: 0.040069444 | F112: 21.43 | G112: 225
A113: 44098 | D113: 55 | E113: 0.10769676 | F113: 21.28 | G113: 305
A114: 44103 | D114: 12.28 | E114: 0.030393519 | F114: 16.84 | G114: 143
A115: 44104 | D115: 19.97 | E115: 0.036574074 | F115: 22.76 | G115: 220
...

Sheet 2019
A1: Datum | B1: Popis | C1: Umístění | D1: vzdálenost | E1: čas | F1: průměrná rychlost | G1: nastoupané metry | H1: Za co | I1: Cena opravy atd.
A2: 43512 | D2: 11.9 | E2: 0.034027778 | F2: 14.6 | G2: 177 | I2: 665 | K2: e = s Eliškou
A3: 43514 | D3: 15.6 | E3: 0.035590278 | F3: 18.27 | G3: 177 | H3: Seřízení ložisek | I3: 925
A4: 43515 | D4: 13.84 | E4: 0.029872685 | F4: 19.31 | G4: 132 | K4: Cyklo s Eliškou
A5: 43524 | D5: 20.7 | E5: 0.042094907 | F5: 20.49 | G5: 206 | K5: vzdálenost | L5: čas | M5: průměrná rychlost | N5: nastoupané metry
A6: 43528 | D6: 20.69 | E6: 0.04224537 | F6: 20.41 | G6: 218 | K6: =SUMIFS(D2:D132,H2:H132,"e") -> 429.98 | L6: =SUMIFS(E2:E132,H2:$H$132,"e") -> 1.1868981 | M6: =AVERAGEIF(H2:H132,"e",F2:F132) -> 14.755 | N6: =SUMIFS(G2:G132,$H2:H$132,"e") -> 4316
A7: 43529 | D7: 19.47 | E7: 0.041631944 | F7: 19.49 | G7: 212
A8: 43530 | D8: 20.67 | E8: 0.041608796 | F8: 20.7 | G8: 213
A9: 43531 | D9: 22.8 | E9: 0.045439815 | F9: 20.91 | G9: 210
A10: 43536 | D10: 20.65 | E10: 0.04537037 | F10: 19.97 | G10: 220
A11: 43544 | D11: 15.83 | E11: 0.037824074 | F11: 17.44 | G11: 189
A12: 43545 | D12: 21.18 | E12: 0.043773148 | F12: 20.16 | G12: 219
A13: 43546 | D13: 18.31 | E13: 0.037199074 | F13: 20.51 | G13: 111
A14: 43559 | D14: 20.2 | E14: 0.04068287 | F14: 21.25 | G14: 202
A15: 43560 | D15: 24.59 | E15: 0.049305556 | F15: 20.78 | G15: 229
A16: 43563 | D16: 17.9 | E16: 0.03693287 | F16: 20.2 | G16: 157
A17: 43564 | D17: 20.87 | E17: 0.039826389 | F17: 21.79 | G17: 208
A18: 43567 | D18: 20.74 | E18: 0.042453704 | F18: 20.36 | G18: 216
... A22: 43606 | D22: 21.07 | E22: 0.040960648 | F22: 21.44 | G22: 203
A23: 43610 | D23: 7.4 | E23: 0.027164352 | F23: 11.36 | G23: 133 | H23: e
A24: 43611 | D24: 36.14 | E24: 0.070092593 | F24: 21.48 | G24: 426
A25: 43611 | D25: 7.92 | E25: 0.023773148 | F25: 13.88 | G25: 164 | H25: e
A26: 43612 | D26: 25.23 | E26: 0.052743056 | F26: 19.93 | G26: 332
A27: 43617 | D27: 15.06 | E27: 0.047546296 | F27: 13.2 | G27: 117 | H27: e
A28: 43617 | D28: 42.97 | E28: 0.080775463 | F28: 22.6 | G28: 466
A29: 43618 | D29: 37.93 | E29: 0.083252315 | F29: 18.98 | G29: 741
A30: 43619 | D30: 20.89 | E30: 0.043715278 | F30: 19.91 | G30: 199
A31: 43619 | D31: 6.93 | E31: 0.020277778 | F31: 14.25 | G31: 129 | H31: e
A32: 43620 | D32: 20.95 | E32: 0.040752315 | F32: 21.42 | G32: 201
A33: 43621 | D33: 60.04 | E33: 0.12274306 | F33: 20.38 | G33: 566
A34: 43622 | D34: 13.77 | E34: 0.023668981 | F34: 24.24 | G34: 84
A35: 43623 | D35: 7.8 | E35: 0.019189815 | F35: 16.94 | G35: 117
A36: 43624 | B36: Ztracené kobylky 2019 | C36: 20 | D36: 75.6 | E36: 0.20023148 | F36: 15.73 | G36: 1363
A37: 43625 | D37: 18.53 | E37: 0.072268519 | F37: 10.68 | G37: 385 | H37: e
A38: 43627 | D38: 17.7 | E38: 0.037523148 | F38: 19.65 | G38: 150
A39: 43628 | D39: 41.45 | E39: 0.083194444 | F39: 20.76 | G39: 227
A40: 43629 | D40: 18.39 | E40: 0.038657407 | F40: 19.83 | G40: 155
A41: 43629 | D41: 7.58 | E41: 0.020960648 | F41: 15.07 | G41: 142 | H41: e
A42: 43634 | D42: 17.72 | E42: 0.037083333 | F42: 19.91 | G42: 152
A43: 43634 | D43: 7.07 | E43: 0.023796296 | F43: 12.39 | G43: 134 | H43: e
A44: 43635 | D44: 13.86 | E44: 0.024131944 | F44: 23.93 | G44: 87
A45: 43640 | D45: 19.7 | E45: 0.039016204 | F45: 21.05 | G45: 273 | H45: z navigace
A46: 43641 | D46: 19.4 | E46: 0.038611111 | F46: 20.9 | G46: 271 | H46: z navigace
A47: 43642 | D47: 22.16 | E47: 0.044375 | F47: 20.8 | G47: 231
A48: 43646 | D48: 7.07 | E48: 0.023796296 | F48: 12.39 | G48: 134 | H48: e
A49: 43646 | D49: 20.74 | E49: 0.042418981 | F49: 20.4 | G49: 148
A50: 43647 | D50: 10.94 | E50: 0.026956019 | F50: 16.91 | G50: 90 | H50: e
A51: 43648 | D51: 14.04 | E51: 0.043310185 | F51: 13.51 | G51: 97 | H51: e
A52: 43649 | B52: Tour de Krušné Hory (Okořín, Boží Dar, nejzápadnější pod ČR, Aš, Karlovy Vary, Žatec Most) | D52: 81.06 | E52: 0.22178241 | F52: 15.23 | G52: 1469
A53: 43650 | D53: 116.99 | E53: 0.34060185 | F53: 14.31 | G53: 1828
A54: 43651 | D54: 93.12 | E54: 0.22155093 | F54: 17.51 | G54: 563
A55: 43652 | D55: 114.57 | E55: 0.29255787 | F55: 16.31 | G55: 1224
A56: 43654 | D56: 20.69 | E56: 0.040844907 | F56: 21.11 | G56: 206
A57: 43655 | D57: 17.89 | E57: 0.035960648 | F57: 20.73 | G57: 161 | H57: =SUM(E52:E55) -> 1.0764931
A58: 43656 | D58: 20.72 | E58: 0.04099537 | F58: 21.06 | G58: 203
A59: 43656 | D59: 8.69 | E59: 0.024965278 | F59: 14.5 | G59: 196 | H59: e
A60: 43657 | D60: 34.89 | E60: 0.070763889 | F60: 20.54 | G60: 324
A61: 43661 | D61: 9.16 | E61: 0.031157407 | F61: 12.2 | G61: 175 | H61: e
A62: 43663 | D62: 7.81 | E62: 0.030138889 | F62: 10.8 | G62: 225 | H62: e
A63: 43668 | D63: 20.63 | E63: 0.039918981 | F63: 21.53 | G63: 199
A64: 43669 | D64: 19.86 | E64: 0.036898148 | F64: 22.42 | G64: 195
A65: 43670 | D65: 21.01 | E65: 0.037303241 | F65: 22.36 | G65: 209
A66: 43671 | D66: 20.01 | E66: 0.037303241 | F66: 22.36 | G66: 194
A67: 43672 | D67: 26.32 | E67: 0.051226852 | F67: 21.41 | G67: 253
A68: 43675 | D68: 13.18 | E68: 0.025381944 | F68: 21.65 | G68: 123
A69: 43676 | D69: 19.96 | E69: 0.036087963 | F69: 23.05 | G69: 166
A70: 43678 | D70: 28.13 | E70: 0.056284722 | F70: 20.82 | G70: 334
A71: 43679 | D71: 20.43 | E71: 0.03962963 | F71: 21.48 | G71: 203
A72: 43681 | D72: 14.58 | E72: 0.035266204 | F72: 17.22 | G72: 227 | H72: e
A73: 43682 | D73: 20.05 | E73: 0.037569444 | F73: 22.23 | G73: 194
A74: 43683 | D74: 20.35 | E74: 0.038356481 | F74: 22.1 | G74: 218
A75: 43685 | D75: 13.17 | E75: 0.029849537 | F75: 18.4 | G75: 178 | H75: e
A76: 43691 | D76: 12.23 | E76: 0.02712963 | F76: 18.8 | G76: 183
A77: 43692 | D77: 17.72 | E77: 0.040266204 | F77: 18.3 | G77: 167
A78: 43697 | D78: 8.1 | E78: 0.017465278 | F78: 19.3 | G78: 61
A79: 43699 | D79: 3.37 | E79: 0.0082060185 | F79: 17.1 | G79: 101
A80: 43700 | D80: 22.08 | E80: 0.041238426 | F80: 22.3 | G80: 205
A81: 43700 | D81: 13.03 | E81: 0.040740741 | F81: 13.3 | G81: 196 | H81: e
A82: 43701 | D82: 13.86 | E82: 0.032407407 | F82: 17.8 | G82: 181 | H82: e
A83: 43703 | D83: 22.13 | E83: 0.046284722 | F83: 19.92 | G83: 246
A84: 43704 | D84: 20.28 | E84: 0.037581019 | F84: 22.5 | G84: 199
A85: 43704 | D85: 25.8 | E85: 0.066851852 | F85: 16.1 | G85: 155 | H85: e
A86: 43705 | D86: 18.39 | E86: 0.03537037 | F86: 20.7 | G86: 182
A87: 43706 | D87: 25.63 | E87: 0.053888889 | F87: 19.8 | G87: 162 | H87: e
A88: 43707 | D88: 20.85 | E88: 0.039814815 | F88: 21.8 | G88: 194
A89: 43708 | D89: 38.77 | E89: 0.080104167 | F89: 20.2 | G89: 343
A90: 43709 | D90: 19.2 | E90: 0.043217593 | F90: 18.5 | G90: 202 | H90: e
A91: 43711 | D91: 18.66 | E91: 0.037951389 | F91: 20.5 | G91: 176
A92: 43712 | D92: 20.2 | E92: 0.039270833 | F92: 21.4 | G92: 202
A93: 43713 | D93: =48.4+5.59 -> 53.99 | E93: 0.10306713 | F93: 19.6 | G93: 260 | H93: e
A94: 43714 | D94: 20.34 | E94: 0.06337963 | F94: 13.4 | G94: 124 | H94: e
A95: 43718 | D95: 17.12 | E95: 0.035474537 | F95: 20.1 | G95: 169
A96: 43719 | D96: 20.22 | E96: 0.036377315 | F96: 23.2 | G96: 200
A97: 43720 | D97: 20.37 | E97: 0.037685185 | F97: 22.5 | G97: 192
A98: 43720 | D98: 13.2 | E98: 0.031770833 | F98: 17.2 | G98: 188 | H98: e
A99: 43721 | D99: 21.35 | E99: 0.040173611 | F99: 22.1 | G99: 210
A100: 43723 | D100: 22.15 | E100: 0.044409722 | F100: 20.8 | G100: 266
A101: 43723 | B101: Transbrody 2019 (58:05 oficiální čas, 11 v kategorii M19) | C101: 27 | D101: 20.58 | E101: 0.040219907 | F101: 21.3 | G101: 307
A102: 43723 | D102: 24.72 | E102: 0.046921296 | F102: 24.72 | G102: 226
A103: 43725 | D103: 14.09 | E103: 0.030578704 | F103: 19.62 | G103: 144
...

Sheet 2018
A1: Datum | B1: Popis | C1: Umístění | D1: vzdálenost | E1: čas | F1: průměrná rychlost | G1: nastoupané metry | H1: Za co | I1: Cena opravy atd.
A2: 43105 | B2: práce-->domů | D2: 12.83 | E2: 0.02943287 | F2: 18.44 | G2: 193 | H2: servis | I2: 650
A3: 43109 | B3: práce-->domů | C3: 2. | D3: 12.87 | E3: 0.027048611 | F3: 20.165 | G3: 163 | H3: čistící přípravek | I3: 235
A4: 43110 | B4: práce-->domů | D4: 12.63 | E4: 0.029895833 | F4: 17.6 | G4: 135 | H4: servis | I4: 2346
A5: 43124 | B5: práce-->domů | D5: 13.02 | E5: 0.030208333 | F5: 17.96 | G5: 138 | H5: 44 zubů převodník | I5: 1070
A6: 43125 | B6: práce-->domů | D6: 13.2 | E6: 0.03025463 | F6: 18.26 | G6: 142 | H6: přesmykač | I6: 1350
A7: 43130 | B7: práce-->domů | D7: 13.46 | E7: 0.03125 | F7: 17.95 | G7: 144 | H7: servis | I7: 1100
A8: 43131 | B8: práce-->domů | D8: 13.41 | E8: 0.03212963 | F8: 17.4 | G8: 147
A9: 43170 | B9: do Chýně | D9: 35.77 | E9: 0.080949074 | F9: 18.41 | G9: 430
A10: 43193 | B10: práce-->domů | D10: 23.74 | E10: 0.052430556 | F10: 18.9 | G10: 266
A11: 43194 | B11: práce-->domů | D11: 17.44 | E11: 0.033090278 | F11: 22 | G11: 190
A12: 43195 | B12: práce-->domů | D12: 20.35 | E12: 0.040393519 | F12: 21 | G12: 198
A13: 43196 | B13: práce-->domů | C13: 1. | D13: 12.8 | E13: 0.026354167 | F13: 20.4 | G13: 166
A14: 43200 | B14: práce-->Zbraslav-->Lochkov-->domů | D14: 49.28 | E14: 0.10353009 | F14: 19.83 | G14: 471
A15: 43201 | B15: práce-->domů | D15: 21.02 | E15: 0.042604167 | F15: 20.56 | G15: 208
A16: 43202 | B16: práce-->domů | D16: 20.53 | E16: 0.041956019 | F16: 20.39 | G16: 218
A17: 43207 | B17: práce-->domů | D17: 13.4 | E17: 0.030208333 | F17: 18.48 | G17: 133
A18: 43208 | B18: práce-->domů | D18: 14.67 | E18: 0.031400463 | F18: 19.47 | G18: 135
A19: 43209 | B19: práce-->domů | D19: 19.96 | E19: 0.037835648 | F19: 21.99 | G19: 204
A20: 43210 | B20: práce-->domů | D20: 20.07 | E20: 0.038391204 | F20: 21.79 | G20: 204
A21: 43215 | B21: práce-->domů | D21: 20.83 | E21: 0.039803241 | F21: 21.8 | G21: 207
A22: 43216 | B22: práce-->domů | D22: 20.82 | E22: 0.037627315 | F22: 23.06 | G22: 208
A23: 43219 | D23: 54.86 | E23: 0.10532407 | F23: 21.7 | G23: 551
A24: 43220 | B24: Výšlap na Jedlovou | D24: 36.72 | E24: 0.08244213 | F24: 18.56 | G24: 761
A25: 43223 | B25: práce-->Vršovice-->rodiče-->domů | D25: 40.25 | E25: 0.07912037 | F25: 21.19 | G25: 460
A26: 43228 | B26: na tenis do Rachotu | D26: 21.61 | E26: 0.040810185 | F26: 22.07 | G26: 132
A27: 43231 | B27: práce-->domů | D27: 20.29 | E27: 0.040474537 | F27: 20.89 | G27: 205
A28: 43234 | B28: práce-->domů | D28: 20.53 | E28: 0.038888889 | F28: 22 | G28: 201
A29: 43235 | B29: práce-->domů | D29: 20.6 | E29: 0.040474537 | F29: 21.21 | G29: 194
A30: 43242 | D30: 40.36 | E30: 0.072291667 | F30: 23.26 | G30: 260
A31: 43245 | D31: 20.11 | E31: 0.0396875 | F31: 21.11 | G31: 203
A32: 43255 | D32: 17.43 | E32: 0.037766204 | F32: 19.23 | G32: 155
A33: 43256 | D33: 54.53 | E33: 0.11706019 | F33: 19.41 | G33: 482
A34: 43258 | D34: 20.82 | E34: 0.041134259 | F34: 21.09 | G34: 201
A35: 43260 | B35: Ztracené kobylky 2018 | C35: 9. | D35: 82.04 | E35: 0.19612269 | F35: 17.43 | G35: 1456
A36: 43261 | D36: 60.82 | E36: 0.15306713 | F36: 16.55 | G36: 1023
A37: 43266 | D37: 17.65 | E37: 0.034398148 | F37: 21.38 | G37: 160
A38: 43269 | D38: 17.77 | E38: 0.034131944 | F38: 21.7 | G38: 153
A39: 43270 | D39: 20.54 | E39: 0.039189815 | F39: 21.84 | G39: 197
A40: 43272 | D40: 39.31 | E40: 0.079247685 | F40: 20.66 | G40: 465
A41: 43276 | D41: 15 | E41: 0.032928241 | F41: 18.98 | G41: 133
A42: 43277 | D42: 13.75 | E42: 0.031631944 | F42: 18.12 | G42: 131
A43: 43278 | D43: 17.5 | E43: 0.036527778 | F43: 19.98 | G43: 154
A44: 43279 | D44: 17.77 | E44: 0.035416667 | F44: 20.58 | G44: 155
A45: 43285 | B45: do práce a z Brněnského nádraží k přehradě | D45: 29.51 | E45: 0.080497685 | F45: 15.27 | G45: 213
A46: 43286 | B46: Brno--> Velká Roudka | D46: 77.91 | E46: 0.21957176 | F46: 14.78 | G46: 1418
A47: 43287 | B47: Velká Roudka -->Žďár nad Sázavou | D47: 93.03 | E47: 0.2537963 | F47: 15.27 | G47: 1477
A48: 43288 | B48: Žďár nad Sázavou -->Ledeč nad Sázavou | D48: 89.99 | E48: 0.23305556 | F48: 16.08 | G48: 983
A49: 43289 | B49: Ledeč nad Sázavou --> Praha | D49: 131.75 | E49: 0.31946759 | F49: 17.18 | G49: 1573
A50: 43294 | D50: 8.36 | E50: 0.016828704 | F50: 20.71 | G50: 21
A51: 43305 | D51: 20.49 | E51: 0.039791667 | F51: 21.46 | G51: 196
A52: 43306 | D52: 19.91 | E52: 0.037974537 | F52: 21.86 | G52: 194
A53: 43307 | D53: 41.86 | E53: 0.096296296 | F53: 18.11 | G53: 378
A54: 43308 | D54: 26.83 | E54: 0.050868056 | F54: 21.98 | G54: 263
A55: 43311 | D55: 20.37 | E55: 0.040798611 | F55: 20.8 | G55: 198
A56: 43312 | D56: 30.67 | E56: 0.059918981 | F56: 21.33 | G56: 284
A57: 43314 | D57: 102.7 | E57: 0.18185185 | F57: 23.53 | G57: 424
A58: 43315 | D58: 21.73 | E58: 0.042974537 | F58: 21.04 | G58: 203
A59: 43318 | D59: 20.58 | E59: 0.040520833 | F59: 21.16 | G59: 198
A60: 43320 | D60: 47.8 | E60: 0.096296296 | F60: 20.68 | G60: 476
A61: 43322 | D61: 18.22 | E61: 0.036226852 | F61: 20.96 | G61: 153
A62: 43325 | D62: 19.84 | E62: 0.037048611 | F62: 22.32 | G62: 183
A63: 43326 | D63: 22.25 | E63: 0.042210648 | F63: 21.96 | G63: 197
A64: 43327 | D64: 21.01 | E64: 0.042083333 | F64: 20.8 | G64: 201
A65: 43328 | D65: 20.77 | E65: 0.039548611 | F65: 21.88 | G65: 200
A66: 43329 | D66: 24.87 | E66: 0.056435185 | F66: 18.36 | G66: 265
... A81: 43359 | D81: 23.91 | E81: 0.04681713 | F81: 21.28 | G81: 145
A82: 43359 | B82: Transbrody 2018 (58:07 oficiální čas, 22 v kategorii M19) | C82: 35 | D82: 20.9 | E82: 0.041215278 | F82: 21.14 | G82: 355
A83: 43359 | D83: 22.73 | E83: 0.038738426 | F83: 24.45 | G83: 155
A84: 43361 | D84: 17.96 | E84: 0.037858796 | F84: 19.77 | G84: 152
A85: 43362 | D85: 20.62 | E85: 0.040509259 | F85: 21.22 | G85: 197
A86: 43363 | D86: 20.73 | E86: 0.040208333 | F86: 21.49 | G86: 200
A87: 43364 | D87: 20.57 | E87: 0.039652778 | F87: 21.63 | G87: 199
A88: 43365 | B88: Zlaťák (1:29:47 oficiální čas, 1. v kategorii nad 100Kg | C88: 29 | D88: 21.16 | E88: 0.063020833 | F88: 13.95 | G88: 1000
A89: 43365 | D89: 20.45 | E89: 0.033090278 | F89: 25.5 | G89: 180
A90: 43370 | D90: 10.71 | E90: 0.041469907 | F90: 10.76 | G90: 204
A91: 43372 | D91: 34.54 | E91: 0.068402778 | F91: 21.04 | G91: 614
A92: 43389 | D92: 14.05 | E92: 0.030324074 | F92: 19.32 | G92: 127
A93: 43390 | D93: 28.88 | E93: 0.057418981 | F93: 20.95 | G93: 258
A94: 43403 | D94: 14.07 | E94: 0.032326389 | F94: 18.14 | G94: 138
A95: 43404 | D95: 15.21 | E95: 0.031909722 | F95: 19.87 | G95: 145
A96: 43405 | D96: 13.97 | E96: 0.030462963 | F96: 19.11 | G96: 132
A97: 43406 | D97: 28.78 | E97: 0.062777778 | F97: 19.1 | G97: 294
A98: 43409 | D98: 20.23 | E98: 0.043078704 | F98: 19.57 | G98: 206
A99: 43410 | D99: 55.43 | E99: 0.1177662 | F99: 19.61 | G99: 496
A100: 43412 | D100: 20.46 | E100: 0.040532407 | F100: 21.04 | G100: 196
... A105: 43419 | D105: 13.72 | E105: 0.029398148 | F105: 19.44 | G105: 141
A112: Celkem | D112: =SUM(D2:D111) -> 2865.69 | E112: =SUM(E2:E111) -> 6.1419329 | F112: =AVERAGE(F2:F111) -> 20.106845 | G112: =SUM(G2:G111) -> 31182 | H112: Celkem | I112: =SUM(I2:I111) -> 6751
I113: =I112/D112 -> 2.3558026
I114: 6
C115: Počet kilometrů | D115: Počet výjezdů
B116: Leden | C116: =SUMIFS($D$2:$D$111,$A$2:$A$111,"<=31.1.2018") -> 91.42 | D116: =COUNTIFS($A$2:$A$111,">=1.1.2018",$A$2:$A$111,"<=31.1.2018") -> 7
B117: Únor | C117: =SUMIFS($D$2:$D$111,$A$2:$A$111,"<1.3.2018")-SUMIFS($D$2:$D$55,$A$2:$A$55,"<1.2.2018") -> 0 | D117: =COUNTIFS($A$2:$A$111,">=1.2.2018",$A$2:$A$111,"<=28.2.2018") -> 0
B118: Březen | C118: =SUMIFS($D$2:$D$111,$A$2:$A$111,"<1.4.2018")-SUMIFS($D$2:$D$55,$A$2:$A$55,"<1.3.2018") -> 35.77 | D118: =COUNTIFS($A$2:$A$111,">=1.3.2018",$A$2:$A$111,"<=31.3.2018") -> 1
B119: Duben | C119: =SUMIFS($D$2:$D$55,$A$2:$A$55,"<1.5.2018")-SUMIFS($D$2:$D$55,$A$2:$A$55,"<1.4.2018") -> 366.49 | D119: =COUNTIFS($A$2:$A$111,">=1.4.2018",$A$2:$A$111,"<=30.4.2018") -> 15
B120: Květen | C120: =SUMIFS($D$2:$D$55,$A$2:$A$55,"<1.6.2018")-SUMIFS($D$2:$D$55,$A$2:$A$55,"<1.5.2018") -> 183.75 | D120: =COUNTIFS($A$2:$A$111,">=1.5.2018",$A$2:$A$111,"<=31.5.2018") -> 7
B121: Červen | C121: =SUMIFS($D$2:$D$55,$A$2:$A$55,"<1.7.2018")-SUMIFS($D$2:$D$55,$A$2:$A$55,"<1.6.2018") -> 394.93 | D121: =COUNTIFS($A$2:$A$111,">=1.6.2018",$A$2:$A$111,"<=30.6.2018") -> 13
B122: Červenec | C122: =SUMIFS($D$2:$D$55,$A$2:$A$55,"<1.8.2018")-SUMIFS($D$2:$D$55,$A$2:$A$55,"<1.7.2018") -> 560.01 | D122: =COUNTIFS($A$2:$A$111,">=1.7.2018",$A$2:$A$111,"<=31.7.2018") -> 12
B123: Srpen | C123: =SUMIFS($D$2:$D$111,$A$2:$A$111,"<1.9.2018")-SUMIFS($D$2:$D$55,$A$2:$A$55,"<1.8.2018") -> 529.03 | D123: =COUNTIFS($A$2:$A$111,">=1.8.2018",$A$2:$A$111,"<=30.8.2018") -> 18
B124: Září | C124: =SUMIFS($D$2:$D$111,$A$2:$A$111,"<1.10.2018")-SUMIFS($D$2:$D$111,$A$2:$A$111,"<1.9.2018") -> 390.39 | D124: =COUNTIFS($A$2:$A$111,">=1.9.2018",$A$2:$A$111,"<=30.9.2018") -> 17
...

Sheet 2017
A1: Datum | B1: Popis | C1: Umístění | D1: vzdálenost | E1: čas | F1: průměrná rychlost | G1: nastoupané metry | H1: Za co | I1: Cena opravy atd.
A2: 42781 | D2: 10.31 | E2: 0.024733796 | F2: 17.4 | G2: 168 | H2: nákup treter | I2: 3609
A3: 42782 | D3: 13.18 | E3: 0.02806713 | F3: 19.6 | G3: 193 | H3: Prasklý drát | I3: 130
A4: 42814 | D4: 11.84 | E4: 0.025740741 | F4: 19.2 | G4: 158 | H4: Zadní kolo + servis | I4: 3480
A5: 42815 | D5: 12.58 | E5: 0.025555556 | F5: 20.5 | G5: 178
A6: 42821 | D6: 24.66 | E6: 0.046770833 | F6: 22 | G6: 241
A7: 42822 | D7: 49.5 | E7: 0.10462963 | F7: 19.7 | G7: 466
A8: 42823 | D8: 11.23 | E8: 0.022118056 | F8: 21.3 | G8: 167
A9: 42849 | D9: 34.68 | E9: 0.068645833 | F9: 20.8 | G9: 303
A10: 42856 | D10: 20.98 | E10: 0.039016204 | F10: 22.4 | G10: 227
A11: 42864 | D11: 12.44 | E11: 0.030069444 | F11: 18.08 | G11: 130
A12: 42865 | D12: 23.38 | E12: 0.05119213 | F12: 19.04 | G12: 235
A13: 42866 | D13: 56.3 | E13: 0.11215278 | F13: 20.91 | G13: 584
A14: 42871 | D14: 43.85 | E14: 0.079085648 | F14: 23.1 | G14: 312
A15: 42873 | D15: 47.01 | E15: 0.097094907 | F15: 20.17 | G15: 563
A16: 42878 | D16: 19.1 | E16: 0.039293981 | F16: 20.25 | G16: 190
... A18: 42882 | D18: 55.47 | E18: 0.10532407 | F18: 21.94 | G18: 593
A19: 42883 | B19: Výšlap na Jedlovou | D19: 35.5 | E19: 0.079849537 | F19: 18.52 | G19: 727
A20: 42884 | D20: 27.12 | E20: 0.055324074 | F20: 20.42 | G20: 239
A21: 42886 | D21: 13.16 | E21: 0.028206019 | F21: 19.44 | G21: 131
A22: 42887 | D22: 13.31 | E22: 0.028946759 | F22: 19.16 | G22: 128
A23: 42888 | D23: 13.26 | E23: 0.030324074 | F23: 18.13 | G23: 125
A24: 42896 | B24: Ztracené kobylky 2017 | C24: 19 | D24: 67.07 | E24: 0.20539352 | F24: 13.6 | G24: 1403
A25: 42897 | D25: 25.52 | E25: 0.095821759 | F25: 11.1 | G25: 621
A26: 42899 | D26: 13.4 | E26: 0.029363426 | F26: 19.01 | G26: 134
A27: 42900 | D27: 20.6 | E27: 2.4065741 | F27: 21.42 | G27: 209
A28: 42905 | D28: 13.13 | E28: 0.028043981 | F28: 19.51 | G28: 125
A29: 42906 | D29: 12.87 | E29: 0.025578704 | F29: 20.96 | G29: 98
A30: 42907 | D30: 13.18 | E30: 0.028229167 | F30: 19.45 | G30: 125
A31: 42916 | D31: 18.83 | E31: 0.045347222 | F31: 17.31 | G31: 64
A32: 42917 | B32: České Budějovice - Frymburk | D32: 72.4 | E32: 0.18694444 | F32: 16.13 | G32: 1068
A33: 42918 | B33: Frymburk - Modrava | D33: 84.02 | E33: 0.21232639 | F33: 16.48 | G33: 1241
A34: 42919 | B34: Modrava - Nýrsko | D34: 90.38 | E34: 0.2550463 | F34: 14.75 | G34: 1603
A35: 42920 | B35: Nýrsko - Plzeň | D35: 83.89 | E35: 0.20744213 | F35: 15.7 | G35: 953
A36: 42929 | D36: 44.55 | E36: 0.099421296 | F36: 18.67 | G36: 540
A37: 42934 | D37: 13.42 | E37: 0.028946759 | F37: 19.31 | G37: 126
A38: 42937 | D38: 27.87 | E38: 0.055763889 | F38: 20.82 | G38: 152
A39: 42942 | D39: 13.62 | E39: 0.029340278 | F39: 19.34 | G39: 130
A40: 42947 | D40: 13.84 | E40: 0.030023148 | F40: 19.21 | G40: 125
A41: 42948 | D41: 33.3 | E41: 0.065324074 | F41: 21.24 | G41: 176
A42: 42949 | D42: 15.17 | E42: 0.032592593 | F42: 19.39 | G42: 133
A43: 42950 | D43: 33.73 | E43: 0.063402778 | F43: 22.16 | G43: 169
A44: 42951 | D44: 13.18 | E44: 0.026550926 | F44: 20.68 | G44: 125
A45: 42952 | D45: 41.01 | E45: 0.11518519 | F45: 14.83 | G45: 657
A46: 42953 | D46: 57.44 | E46: 0.11887731 | F46: 20.13 | G46: 562
A47: 42961 | D47: 13.22 | E47: 0.028611111 | F47: 19.27 | G47: 130
A48: 42964 | D48: 33.01 | E48: 0.062916667 | F48: 21.86 | G48: 161
A49: 42968 | B49: Tour de Morava | D49: 28.13 | E49: 0.054895833 | F49: 21.35 | G49: 264
A50: 42969 | D50: 28.25 | E50: 0.053483796 | F50: 22.01 | G50: 260
A51: 42970 | D51: 33.55 | E51: 0.057766204 | F51: 24.2 | G51: 188
A52: 42975 | D52: 20.97 | E52: 0.043564815 | F52: 20.06 | G52: 196
A53: 42976 | D53: 48.93 | E53: 0.10506944 | F53: 19.4 | G53: 568
A54: 42977 | D54: 29.78 | E54: 0.065659722 | F54: 18.9 | G54: 292
A55: 42978 | D55: 33.34 | E55: 0.065798611 | F55: 21.11 | G55: 174
D67: =SUM(D2:D66) -> 1660.56 | E67: =SUM(E2:E62) -> 6.0966667 | F67: =AVERAGE(F2:F66) -> 19.443333 | G67: =SUM(G2:G66) -> 19000 | H67: Celkem | I67: =SUM(I2:I66) -> 7219
I68: =I67/D67 -> 4.3473286
C70: Počet kilometrů | D70: Počet výjezdů
B71: Leden | C71: =SUMIFS($D$2:$D$55,$A$2:$A$55,"<1.2.2017") -> 0 | D71: =COUNTIFS($A$2:$A$66,">=1.1.2017",$A$2:$A$66,"<=31.1.2017") -> 0
B72: Únor | C72: =SUMIFS($D$2:$D$55,$A$2:$A$55,"<1.3.2017")-SUMIFS($D$2:$D$55,$A$2:$A$55,"<1.2.2017") -> 23.49 | D72: =COUNTIFS($A$2:$A$66,">=1.2.2017",$A$2:$A$66,"<=28.2.2017") -> 2
B73: Březen | C73: =SUMIFS($D$2:$D$55,$A$2:$A$55,"<1.4.2017")-SUMIFS($D$2:$D$55,$A$2:$A$55,"<1.3.2017") -> 109.81 | D73: =COUNTIFS($A$2:$A$66,">=1.3.2017",$A$2:$A$66,"<=31.3.2017") -> 5
B74: Duben | C74: =SUMIFS($D$2:$D$55,$A$2:$A$55,"<1.5.2017")-SUMIFS($D$2:$D$55,$A$2:$A$55,"<1.4.2017") -> 34.68 | D74: =COUNTIFS($A$2:$A$66,">=1.4.2017",$A$2:$A$66,"<=30.4.2017") -> 1
B75: Květen | C75: =SUMIFS($D$2:$D$55,$A$2:$A$55,"<1.6.2017")-SUMIFS($D$2:$D$55,$A$2:$A$55,"<1.5.2017") -> 374.41 | D75: =COUNTIFS($A$2:$A$66,">=1.5.2017",$A$2:$A$66,"<=31.5.2017") -> 12
B76: Červen | C76: =SUMIFS($D$2:$D$55,$A$2:$A$55,"<1.7.2017")-SUMIFS($D$2:$D$55,$A$2:$A$55,"<1.6.2017") -> 211.17 | D76: =COUNTIFS($A$2:$A$66,">=1.6.2017",$A$2:$A$66,"<=30.6.2017") -> 10
B77: Červenec | C77: =SUMIFS($D$2:$D$55,$A$2:$A$55,"<1.8.2017")-SUMIFS($D$2:$D$55,$A$2:$A$55,"<1.7.2017") -> 443.99 | D77: =COUNTIFS($A$2:$A$66,">=1.7.2017",$A$2:$A$66,"<=31.7.2017") -> 9
B78: Srpen | C78: =SUMIFS($D$2:$D$55,$A$2:$A$55,"<1.9.2017")-SUMIFS($D$2:$D$55,$A$2:$A$55,"<1.8.2017") -> 463.01 | D78: =COUNTIFS($A$2:$A$66,">=1.8.2017",$A$2:$A$66,"<=31.8.2017") -> 15
B79: Září | C79: =SUMIFS(D:D,A:A,"<1.10.2017")-SUMIFS(D:D,A:A,"<1.9.2017") -> 0 | D79: =COUNTIFS($A$2:$A$66,">=1.9.2017",$A$2:$A$66,"<=31.9.2017") -> 0
B80: Říjen | C80: =SUMIFS(D:D,A:A,"<1.11.2017")-SUMIFS(D:D,A:A,"<1.10.2017") -> 0 | D80: =COUNTIFS($A$2:$A$66,">=1.10.2017",$A$2:$A$66,"<=31.8.2017") -> 0
B81: Listopad | C81: =SUMIFS(D:D,A:A,"<1.12.2017")-SUMIFS(D:D,A:A,"<1.11.2017") -> 0 | D81: =COUNTIFS($A$2:$A$66,">=1.11.2017",$A$2:$A$66,"<=30.11.2017") -> 0
B82: Prosinec | C82: =SUMIFS(D:D,A:A,"<31.12.2017")-SUMIFS(D:D,A:A,"<1.11.2017") -> 0 | D82: =COUNTIFS($A$2:$A$66,">=1.12.2017",$A$2:$A$66,"<=31.12.2017") -> 0
C83: =SUM(C71:C82) -> 1660.56 | D83: =SUM(D71:D82) -> 54
B87: Pod 500 metrů | C87: =SUMIFS($F$2:$F$66,$G$2:$G$66,"<500")/COUNTIFS($G$2:$G$66,"<500") -> 20.19025
B88: Mezi 500 a 1000 metry | C88: =SUMIFS($F$2:$F$66,$G$2:$G$66,">500",$G$2:$G$66,"<1000")/COUNTIFS($G$2:$G$66,">500",$G$2:$G$66,"<1000") -> 18.137
B89: Nad 1000 metrů | C89: =SUMIFS($F$2:$F$66,$G$2:$G$66,">1000")/COUNTIFS($G$2:$G$66,">1000") -> 15.24
B92: Délka cesty | C92: Počet
B93: do 10 km | C93: =COUNTIFS($D$2:$D$111,"=<10") -> 0
B94: nad 10 km | C94: =COUNTIFS($D$2:$D$66,">=10",$D$2:$D$66,"<=20") -> 21
B95: nad 20 km | C95: =COUNTIFS($D$2:$D$111,">=20",$D$2:$D$111,"<=30") -> 12
B96: nad 30 km | C96: =COUNTIFS($D$2:$D$66,">=30",$D$2:$D$66,"<=40") -> 7
B97: nad 40 km | C97: =COUNTIFS($D$2:$D$111,">=40",$D$2:$D$111,"<=50") -> 6
B98: nad 50 km | C98: =COUNTIFS($D$2:$D$66,">=50",$D$2:$D$66,"<=60") -> 3
B99: nad 60 km | C99: =COUNTIFS($D$2:$D$111,">=60",$D$2:$D$111,"<=70") -> 1
B100: nad 70 km | C100: =COUNTIFS($D$2:$D$111,">=70",$D$2:$D$111,"<=80") -> 1
B101: nad 80 km | C101: =COUNTIFS($D$2:$D$111,">=80",$D$2:$D$111,"<=90") -> 2
B102: nad 90 km | C102: =COUNTIFS($D$2:$D$111,">=90",$D$2:$D$111,"<=100") -> 1
B103: nad 100 km | C103: =COUNTIFS($D$2:$D$111,">=100",$D$2:$D$111,"<=110") -> 0
B104: nad 110 km | C104: =COUNTIFS($D$2:$D$111,">=110",$D$2:$D$111,"<=150") -> 0
C105: =SUM(C93:C104) -> 54

Sheet 2016
A1: Datum | B1: Popis | C1: Umístění | D1: vzdálenost | E1: čas | F1: průměrná rychlost | G1: nastoupané metry | H1: Za co | I1: Cena opravy atd.
A2: 42383 | D2: 20.39 | E2: 0.052210648 | F2: 16.27 | G2: 255 | H2: výplet kola | I2: 13
A3: 42395 | D3: 19.54 | E3: 0.045833333 | F3: 17.76 | G3: 212 | H3: lepení | I3: 49
A4: 42397 | D4: 12.6 | E4: 0.027766204 | F4: 18.92 | G4: 126 | H4: centrovací klíč | I4: 25
A5: 42402 | D5: 11.47 | E5: 0.024537037 | F5: 19.74 | G5: 144 | H5: Servis kola | I5: 3140
A6: 42403 | D6: 5.78 | E6: 0.0099537037 | F6: 26.8 | G6: 39 | H6: Servis kola | I6: 910
A7: 42408 | D7: 12.6 | E7: 0.028275463 | F7: 18.57 | G7: 132 | H7: Servis kola | I7: 2800
A8: 42409 | D8: 12.58 | E8: 0.027777778 | F8: 18.87 | G8: 266
A9: 42410 | D9: 13.86 | E9: 0.030081019 | F9: 19.21 | G9: 146
A10: 42469 | D10: 18.11 | E10: 0.048101852 | F10: 15.69 | G10: 302
A11: 42472 | D11: 12.24 | E11: 0.028414352 | F11: 17.95 | G11: 121
A12: 42472 | D12: 49.88 | E12: 0.10900463 | F12: 18.83 | G12: 571
A13: 42473 | D13: 25.77 | E13: 0.054861111 | F13: 19.44 | G13: 292
A14: 42479 | D14: 12.74 | E14: 0.028298611 | F14: 18.77 | G14: 131
A15: 42480 | D15: 16.32 | E15: 0.039699074 | F15: 17.13 | G15: 262
A16: 42481 | D16: 40.9 | E16: 0.083888889 | F16: 20.31 | G16: 425
A17: 42492 | D17: 11.29 | E17: 0.029143519 | F17: 16.1 | G17: 159
A18: 42493 | D18: 14 | E18: 0.032523148 | F18: 17.94 | G18: 135
A19: 42495 | D19: 17.47 | E19: 0.043935185 | F19: 16.56 | G19: 401
... A24: 42515 | D24: 44.61 | E24: 0.083275463 | F24: 22.32 | G24: 260
A25: 42526 | B25: kolem Okořína s Kristýnou | D25: 32.97 | E25: 0.10466435 | F25: 13.12 | G25: 276
A26: 42529 | B26: Práce, Lužiny,domů | D26: 29.45 | E26: 0.057928241 | F26: 21.18 | G26: 270
A27: 42532 | B27: Ztracené kobylky | C27: 17 | D27: 80.28 | E27: 0.19947917 | F27: 16.77 | G27: 1428
A28: 42535 | B28: Cesta do práce a pak do servisu | D28: 5.63 | E28: 0.0093171296 | F28: 25.2 | G28: 35
A29: 42544 | B29: z práce za strejdou a domů | D29: 34.1 | E29: 0.073587963 | F29: 19.3 | G29: 370
A30: 42545 | D30: 42.18 | E30: 0.083634259 | F30: 21.01 | G30: 224
A31: 42552 | B31: Bratislava | D31: 11.28 | E31: 0.035775463 | F31: 13.13 | G31: 50
A32: 42553 | B32: Bratislava - Vídeň | D32: 90.84 | E32: 0.21584491 | F32: 17.53 | G32: 360
A33: 42554 | B33: Vídeň - Unanov | D33: 112.75 | E33: 0.26960648 | F33: 17.42 | G33: 903
A34: 42555 | B34: Unanov - Český Rudolec | D34: 96.11 | E34: 0.24533565 | F34: 16.32 | G34: 1295
A35: 42556 | B35: Český Rudolec - Prčice | D35: 123.71 | E35: 0.28668981 | F35: 17.97 | G35: 1458
A36: 42557 | B36: Prčice - Praha | D36: 72.09 | E36: 0.16991898 | F36: 17.67 | G36: 1057
A37: 42571 | D37: 36.48 | E37: 0.068564815 | F37: 22.16 | G37: 190
A38: 42573 | D38: 21.36 | E38: 0.042939815 | F38: 20.72 | G38: 229
A39: 42595 | B39: Po okolí Okořína | D39: 24.62 | E39: 0.070335648 | F39: 14.58 | G39: 167
A40: 42596 | B40: Do Vysoké pece | D40: 16.57 | E40: 0.045914352 | F40: 15 | G40: 135
A41: 42596 | B41: Výšlap na Jedlák | D41: 34.74 | E41: 0.09400463 | F41: 15.4 | G41: 708
A42: 42598 | B42: na tenis s Jirkou (3:6;6:1;5:7) | D42: 35.57 | E42: 0.07349537 | F42: 20.16 | G42: 190
A43: 42605 | D43: 15.99 | E43: 0.038101852 | F43: 17.49 | G43: 244
A44: 42606 | D44: 35.19 | E44: 0.068877315 | F44: 21.29 | G44: 184
A45: 42608 | D45: 17.25 | E45: 0.036724537 | F45: 19.58 | G45: 154
A46: 42612 | D46: 16.96 | E46: 0.037962963 | F46: 18.62 | G46: 147 | N46: 0.10393519
A47: 42616 | B47: jen na nákup | D47: 4.84 | E47: 0.011435185 | F47: 17.66 | G47: 119
A48: 42616 | B48: Z Rokytnice do Harrachova a zpět | D48: 30.95 | E48: 0.1116088 | F48: 11.55 | G48: 720
A49: 42620 | D49: 21.61 | E49: 0.047719907 | F49: 18.87 | G49: 174
A50: 42621 | D50: 40.62 | E50: 0.082118056 | F50: 20.61 | G50: 433
A51: 42624 | B51: Cesta ze závodů | D51: 20.84 | E51: 0.040046296 | F51: 21.69 | G51: 138
A52: 42624 | B52: Cesta na Transbrody | D52: 20.76 | E52: 0.041469907 | F52: 20.86 | G52: 218 | J52: 0.0095023148 | K52: cesta do práce
A53: 42624 | B53: Transbrody | C53: 194 (čas: 3:25:57) | D53: 49.95 | E53: 0.13872685 | F53: 15 | G53: 1088
A54: 42626 | D54: 12.57 | E54: 0.028518519 | F54: 18.37 | G54: 117
A55: 42627 | D55: 42.11 | E55: 0.08693287 | F55: 20.18 | G55: 227
A56: 42629 | D56: 49.2 | E56: 0.14583333 | F56: 14.05 | G56: 159
A57: 42637 | B57: Návrat ze Zlaťáku | D57: 7.38 | E57: 0.035428241 | F57: 23.5 | G57: 181
A58: 42637 | B58: Zlaťák | C58: 49 (1:37:54; 1. v kat. nad 100kg) | D58: 21.18 | E58: 0.068506944 | F58: 12.99 | G58: 974
A59: 42639 | B59: Do Lochkova | D59: 34.62 | E59: 0.073576389 | F59: 19.6 | G59: 392
A60: 42640 | D60: 13.1 | E60: 0.030509259 | F60: 17.9 | G60: 122
A61: 42641 | B61: Do chýně a Radotína na tenis | D61: 50.23 | E61: 0.099108796 | F61: 21.12 | G61: 658
A62: 42642 | D62: 12.16 | E62: 0.027002315 | F62: 18.76 | G62: 117
A63: 42651 | B63: Jižní Morava | D63: 46.3 | E63: 0.13865741 | F63: 13.9 | G63: 364 | T63: =65/5 -> 13
A64: 42695 | B64: Do chýně v Mlze | D64: 37.08
D67: =SUM(D2:D66) -> 2001.82 | E67: =SUM(E2:E62) -> 4.4498495 | F67: =SUM(F2:F61)/60 -> 18.589 | H67: Celkem | I67: =SUM(I2:I66) -> 6937
I68: =I67/D67 -> 3.4653465
B71: Leden | C71: =SUMIFS($D$2:$D$55,$A$2:$A$55,"<1.2.2016") -> 52.53 | D71: =COUNTIFS($A$2:$A$66,">=1.1.2016",$A$2:$A$66,"<=31.1.2016") -> 3
B72: Únor | C72: =SUMIFS($D$2:$D$55,$A$2:$A$55,"<1.3.2016")-SUMIFS($D$2:$D$55,$A$2:$A$55,"<1.2.2016") -> 56.29 | D72: =COUNTIFS($A$2:$A$66,">=1.2.2016",$A$2:$A$66,"<=28.2.2016") -> 5
B73: Březen | C73: =SUMIFS($D$2:$D$55,$A$2:$A$55,"<1.4.2016")-SUMIFS($D$2:$D$55,$A$2:$A$55,"<1.3.2016") -> 0 | D73: =COUNTIFS($A$2:$A$66,">=1.3.2016",$A$2:$A$66,"<=31.3.2016") -> 0
B74: Duben | C74: =SUMIFS($D$2:$D$55,$A$2:$A$55,"<1.5.2016")-SUMIFS($D$2:$D$55,$A$2:$A$55,"<1.4.2016") -> 175.96 | D74: =COUNTIFS($A$2:$A$66,">=1.4.2016",$A$2:$A$66,"<=30.4.2016") -> 7
B75: Květen | C75: =SUMIFS($D$2:$D$55,$A$2:$A$55,"<1.6.2016")-SUMIFS($D$2:$D$55,$A$2:$A$55,"<1.5.2016") -> 215.42 | D75: =COUNTIFS($A$2:$A$66,">=1.5.2016",$A$2:$A$66,"<=31.5.2016") -> 8
B76: Červen | C76: =SUMIFS($D$2:$D$55,$A$2:$A$55,"<1.7.2016")-SUMIFS($D$2:$D$55,$A$2:$A$55,"<1.6.2016") -> 224.61 | D76: =COUNTIFS($A$2:$A$66,">=1.6.2016",$A$2:$A$66,"<=30.6.2016") -> 6
B77: Červenec | C77: =SUMIFS($D$2:$D$55,$A$2:$A$55,"<1.8.2016")-SUMIFS($D$2:$D$55,$A$2:$A$55,"<1.7.2016") -> 564.62 | D77: =COUNTIFS($A$2:$A$66,">=1.7.2016",$A$2:$A$66,"<=31.7.2016") -> 8
B78: Srpen | C78: =SUMIFS($D$2:$D$55,$A$2:$A$55,"<1.9.2016")-SUMIFS($D$2:$D$55,$A$2:$A$55,"<1.8.2016") -> 196.89 | D78: =COUNTIFS($A$2:$A$66,">=1.8.2016",$A$2:$A$66,"<=31.8.2016") -> 8
B79: Září | C79: =SUMIFS(D:D,A:A,"<1.10.2016")-SUMIFS(D:D,A:A,"<1.9.2016") -> 432.12 | D79: =COUNTIFS($A$2:$A$66,">=1.9.2016",$A$2:$A$66,"<=30.9.2016") -> 16
B80: Říjen | C80: =SUMIFS(D:D,A:A,"<1.11.2016")-SUMIFS(D:D,A:A,"<1.10.2016") -> 46.3 | D80: =COUNTIFS($A$2:$A$66,">=1.10.2016",$A$2:$A$66,"<=31.10.2016") -> 1
B81: Listopad | C81: =SUMIFS(D:D,A:A,"<1.12.2016")-SUMIFS(D:D,A:A,"<1.11.2016") -> 37.08 | D81: =COUNTIFS($A$2:$A$66,">=1.11.2016",$A$2:$A$66,"<=30.11.2016") -> 1
B82: Prosinec | C82: =SUMIFS(D:D,A:A,"<31.12.2016")-SUMIFS(D:D,A:A,"<1.11.2016") -> 37.08 | D82: =COUNTIFS($A$2:$A$66,">=1.12.2016",$A$2:$A$66,"<=31.12.2016") -> 0
C83: =SUM(C71:C82) -> 2038.9 | D83: =SUM(D71:D82) -> 63
B87: Pod 500 metrů | C87: =SUMIFS($F$2:$F$66,$G$2:$G$66,"<500")/COUNTIFS($G$2:$G$66,"<500") -> 18.9184
B88: Mezi 500 a 1000 metry | C88: =SUMIFS($F$2:$F$66,$G$2:$G$66,">500",$G$2:$G$66,"<1000")/COUNTIFS($G$2:$G$66,">500",$G$2:$G$66,"<1000") -> 16.907143
B89: Nad 1000 metrů | C89: =SUMIFS($F$2:$F$66,$G$2:$G$66,">1000")/COUNTIFS($G$2:$G$66,">1000") -> 16.746
B92: Délka cesty | C92: Počet
B93: do 10 km | C93: =COUNTIFS($D$2:$D$111,"=<10") -> 0
B94: nad 10 km | C94: =COUNTIFS($D$2:$D$111,">=10",$D$2:$D$111,"<=20") -> 23
B95: nad 20 km | C95: =COUNTIFS($D$2:$D$111,">=20",$D$2:$D$111,"<=30") -> 10
B96: nad 30 km | C96: =COUNTIFS($D$2:$D$111,">=30",$D$2:$D$111,"<=40") -> 10
B97: nad 40 km | C97: =COUNTIFS($D$2:$D$111,">=40",$D$2:$D$111,"<=50") -> 9
B98: nad 50 km | C98: =COUNTIFS($D$2:$D$111,">=50",$D$2:$D$111,"<=60") -> 1
B99: nad 60 km | C99: =COUNTIFS($D$2:$D$111,">=60",$D$2:$D$111,"<=70") -> 2
B100: nad 70 km | C100: =COUNTIFS($D$2:$D$111,">=70",$D$2:$D$111,"<=80") -> 1
B101: nad 80 km | C101: =COUNTIFS($D$2:$D$111,">=80",$D$2:$D$111,"<=90") -> 1
B102: nad 90 km | C102: =COUNTIFS($D$2:$D$111,">=90",$D$2:$D$111,"<=100") -> 2
B103: nad 100 km | C103: =COUNTIFS($D$2:$D$111,">=100",$D$2:$D$111,"<=110") -> 0
B104: nad 110 km | C104: =COUNTIFS($D$2:$D$111,">=110",$D$2:$D$111,"<=150") -> 2
C105: =SUM(C93:C104) -> 61

Sheet 2015
A1: Datum | B1: km | C1: čas | D1: průměrná rychlost | E1: nastoupané metry
A2: 42017 | B2: 6.01 | C2: 0.011597222 | D2: 21.59 | E2: 12
A3: 42058 | B3: 36.31 | C3: 0.081851852 | D3: 18.5 | E3: 457
A4: 42067 | B4: 18.4 | C4: 0.048842593 | D4: 17.14 | E4: 234
A5: 42080 | B5: 22.59 | C5: 0.049293981 | D5: 19.09 | E5: 221
A6: 42081 | B6: 37.17 | C6: 0.074513889 | D6: 20.78 | E6: 201
A7: 42083 | B7: 5.75 | C7: 0.011909722 | D7: 20.16 | E7: 11
A8: 42106 | B8: 22 | C8: 0.072916667 | D8: 19.5 | E8: 221
A9: 42107 | B9: 41.91 | C9: 0.081666667 | D9: 21.38 | E9: 345
A10: 42109 | B10: 12.35 | C10: 0.028726852 | D10: 17.83 | E10: 128
A11: 42116 | B11: 13.11 | C11: 0.028055556 | D11: 19.48 | E11: 131
A12: 42117 | B12: 13.22 | C12: 0.030300926 | D12: 18.17 | E12: 146
A13: 42135 | B13: 42.91 | C13: 0.094016204 | D13: 19.01 | E13: 452
A14: 42137 | B14: 49.4 | C14: 0.11487269 | D14: 17.92 | E14: 674
A15: 42141 | B15: 28.55 | C15: 0.054039352 | D15: 22.01 | E15: 377 | L15: =SUM(B2:B20) -> 601.09
A16: 42142 | B16: 32 | C16: 0.085694444 | D16: 15.56 | E16: 181
A17: 42146 | B17: 13.39 | C17: 0.030497685 | D17: 18.3 | E17: 335
A18: 42154 | B18: 120.71 | C18: 0.27217593 | D18: 18.47 | E18: 1236
A19: 42155 | B19: 11.46 | C19: 1.4819444 | D19: 19.3 | E19: 202
A20: 42161 | B20: 73.85 | C20: 0.19123843 | D20: 16.09 | E20: 1360
A21: 42168 | B21: 71.96 | C21: 0.18645833 | D21: 16.08 | E21: 1358 | F21: Ztracené kobylky | G21: 12
A22: 42181 | B22: 27.49 | C22: 0.053090278 | D22: 21.57 | E22: 254
A23: 42184 | B23: 17.63 | C23: 0.039699074 | D23: 18.5 | E23: 136
A24: 42185 | B24: 27.41 | C24: 0.053240741 | D24: 21.45 | E24: 262
A25: 42200 | B25: 13.16 | C25: 0.026122685 | D25: 21 | E25: 128
A26: 42206 | B26: 45.5 | C26: 0.15902778 | D26: 15.4 | E26: 226 | F26: Dovolená s Kristýnou
A27: 42207 | B27: 39.14 | C27: 0.1118287 | D27: 14.58 | E27: 57
A28: 42208 | B28: 54.54 | C28: 0.16072917 | D28: 14.13 | E28: 429
A29: 42209 | B29: 21.45 | C29: 0.063553241 | D29: 14.06 | E29: 278
A30: 42214 | B30: 26.79 | C30: 0.048391204 | D30: 24.9 | E30: 199
A31: 42219 | B31: 47.4 | C31: 0.11640046 | D31: 20.28 | E31: 498
A32: 42220 | B32: 33.26 | C32: 0.059895833 | D32: 23.13 | E32: 163
A33: 42221 | B33: 29.3 | C33: 0.07837963 | D33: 15.58 | E33: 377
A34: 42226 | B34: 11.2 | C34: 0.022048611 | D34: 21.16 | E34: 114
A35: 42227 | B35: 50.23 | C35: 0.096053241 | D35: 21.78 | E35: 499
A36: 42228 | B36: 14.19 | C36: 0.0321875 | D36: 18.37 | E36: 118
A37: 42243 | B37: 12.02 | C37: 0.024386574 | D37: 20.54 | E37: 116
A38: 42247 | B38: 32.6 | C38: 0.063113426 | D38: 21.52 | E38: 174
... A41: 42251 | B41: 12.11 | C41: 0.02369213 | D41: 21.3 | E41: 121
A42: 42252 | B42: 34.92 | C42: 0.10712963 | D42: 13,85 s K. | E42: 400
A43: 42252 | B43: 35.5 | C43: 0.079525463 | D43: 18.6 | E43: 389
A44: 42260 | B44: 49.76 | C44: 0.13597222 | D44: 15.24 | E44: 1135 | F44: Transbrody.cz | G44: 205 | H44: 0.14791667 | I44: defekt
A45: 42260 | B45: =75.51-B44 -> 25.75 | C45: 0.049351852 | D45: 21.8 | E45: =1356-E44 -> 221
A46: 42272 | B46: 12.5 | C46: 0.025925926 | D46: 20.1 | E46: 307
A47: 42273 | B47: 21.09 | C47: 0.063993056 | D47: 13.8 | E47: 1000 | F47: Vocet Cup | G47: 65 | H47: 0.063275463
A48: 42273 | B48: 20.61 | C48: 0.032685185 | D48: 15.91 | E48: 179
A49: 42277 | B49: 25.62 | C49: 0.050416667 | D49: 21.18 | E49: 262
A50: 42280 | B50: 50.31 | C50: 0.1266088 | D50: 16,5 s K. | E50: 230 | F50: Cesta na tandemu na Jižní Moravě
A51: 42283 | B51: 11.71 | C51: 0.026550926 | D51: 18.38 | E51: 117
A52: 42289 | B52: 41.33 | C52: 0.081273148 | D52: 21.9 | E52: 442
A53: 42290 | B53: 11.9 | C53: 0.024803241 | D53: 19.99 | E53: 129
A54: 42309 | B54: 53.09 | C54: 0.13372685 | D54: 16,54 s K. | E54: 296
A55: 42364 | B55: 35.12 | C55: 0.071712963 | D55: 20.4 | E55: 431
A56: 42365 | B56: 49.87 | C56: 0.097546296 | D56: 21.3 | E56: 248
A68: Leden | B68: =SUMIFS($B$2:$B$55,$A$2:$A$55,"<1.2.2015") -> 6.01 | C68: =COUNTIFS($A$2:$A$66,">=1.1.2015",$A$2:$A$66,"<=31.1.2015") -> 1
A69: Únor | B69: =SUMIFS($B$2:$B$56,$A$2:$A$56,"<1.3.2015")-SUMIFS($B$2:$B$56,$A$2:$A$56,"<1.2.2015") -> 36.31 | C69: =COUNTIFS($A$2:$A$66,">=1.2.2015",$A$2:$A$66,"<=28.2.2015") -> 1
A70: Březen | B70: =SUMIFS($B$2:$B$56,$A$2:$A$56,"<1.4.2015")-SUMIFS($B$2:$B$56,$A$2:$A$56,"<1.3.2015") -> 83.91 | C70: =COUNTIFS($A$2:$A$66,">=1.3.2015",$A$2:$A$66,"<=31.3.2015") -> 4
A71: Duben | B71: =SUMIFS($B$2:$B$56,$A$2:$A$56,"<1.5.2015")-SUMIFS($B$2:$B$56,$A$2:$A$56,"<1.4.2015") -> 102.59 | C71: =COUNTIFS($A$2:$A$66,">=1.4.2015",$A$2:$A$66,"<=30.4.2015") -> 5
A72: Květen | B72: =SUMIFS($B$2:$B$56,$A$2:$A$56,"<1.6.2015")-SUMIFS($B$2:$B$56,$A$2:$A$56,"<1.5.2015") -> 298.42 | C72: =COUNTIFS($A$2:$A$66,">=1.5.2015",$A$2:$A$66,"<=31.5.2015") -> 7
A73: Červen | B73: =SUMIFS($B$2:$B$56,$A$2:$A$56,"<1.7.2015")-SUMIFS($B$2:$B$56,$A$2:$A$56,"<1.6.2015") -> 218.34 | C73: =COUNTIFS($A$2:$A$66,">=1.6.2015",$A$2:$A$66,"<=30.6.2015") -> 5
A74: Červenec | B74: =SUMIFS($B$2:$B$56,$A$2:$A$56,"<1.8.2015")-SUMIFS($B$2:$B$56,$A$2:$A$56,"<1.7.2015") -> 200.58 | C74: =COUNTIFS($A$2:$A$66,">=1.7.2015",$A$2:$A$66,"<=31.7.2015") -> 6
A75: Srpen | B75: =SUMIFS($B$2:$B$56,$A$2:$A$56,"<1.9.2015")-SUMIFS($B$2:$B$56,$A$2:$A$56,"<1.8.2015") -> 230.2 | C75: =COUNTIFS($A$2:$A$66,">=1.8.2015",$A$2:$A$66,"<=31.8.2015") -> 8
A76: Září | B76: =SUMIFS($B$2:$B$56,$A$2:$A$56,"<1.10.2015")-SUMIFS($B$2:$B$56,$A$2:$A$56,"<1.9.2015") -> 278.55 | C76: =COUNTIFS($A$2:$A$66,">=1.9.2015",$A$2:$A$66,"<=30.9.2015") -> 11
A77: Říjen | B77: =SUMIFS($B$2:$B$56,$A$2:$A$56,"<1.11.2015")-SUMIFS($B$2:$B$56,$A$2:$A$56,"<1.10.2015") -> 115.25 | C77: =COUNTIFS($A$2:$A$66,">=1.10.2015",$A$2:$A$66,"<=31.10.2015") -> 4
A78: Listopad | B78: =SUMIFS($B$2:$B$56,$A$2:$A$56,"<1.12.2015")-SUMIFS($B$2:$B$56,$A$2:$A$56,"<1.11.2015") -> 53.09 | C78: =COUNTIFS($A$2:$A$66,">=1.11.2015",$A$2:$A$66,"<=30.11.2015") -> 1
A79: Prosinec | B79: =SUMIFS($B$2:$B$56,$A$2:$A$56,"<31.12.2015")-SUMIFS($B$2:$B$56,$A$2:$A$56,"<1.12.2015") -> 84.99 | C79: =COUNTIFS($A$2:$A$66,">=1.12.2015",$A$2:$A$66,"<=31.12.2015") -> 2
B80: =SUM(B68:B79) -> 1708.24 | C80: =SUM(C68:C79) -> 55
A83: Pod 500 metrů | B83: =SUMIFS(D2:D56,E2:E56,"<500")/COUNTIFS(E2:E56,"<500") -> 18.330816
A84: Mezi 500 a 1000 metry | B84: =SUMIFS(D2:D56,E2:E56,">500",E2:E56,"<1000")/COUNTIFS(E2:E56,">500",E2:E56,"<1000") -> 17.92
A85: Nad 1000 metrů | B85: =SUMIFS(D2:D56,E2:E56,">1000")/COUNTIFS(E2:E56,">1000") -> 16.47
A88: Délka cesty | B88: Počet
A89: do 10 km | B89: =COUNTIFS($B$2:$B$66,"<10") -> 2
A90: nad 10 km | B90: =COUNTIFS($B$2:$B$66,">=10",$B$2:$B$66,"<20") -> 16
A91: nad 20 km | B91: =COUNTIFS($B$2:$B$66,">=20",$B$2:$B$66,"<30") -> 13
A92: nad 30 km | B92: =COUNTIFS($B$2:$B$66,">=30",$B$2:$B$66,"<40") -> 9
A93: nad 40 km | B93: =COUNTIFS($B$2:$B$66,">=40",$B$2:$B$66,"<50") -> 8
A94: nad 50 km | B94: =COUNTIFS($B$2:$B$66,">=50",$B$2:$B$66,"<60") -> 4
A95: nad 60 km | B95: =COUNTIFS($B$2:$B$66,">=60",$B$2:$B$66,"<=70") -> 0
A96: nad 70 km | B96: =COUNTIFS($B$2:$B$66,">=70",$B$2:$B$66,"<80") -> 2
A97: nad 80 km | B97: =COUNTIFS($B$2:$B$66,">=80",$B$2:$B$66,"<90") -> 0
A98: nad 90 km | B98: =COUNTIFS($B$2:$B$66,">=90",$B$2:$B$66,"<=100") -> 0
A99: nad 100 km | B99: =COUNTIFS($B$2:$B$66,">=100",$B$2:$B$66,"<110") -> 0
A100: nad 110 km | B100: =COUNTIFS($B$2:$B$66,">=110",$B$2:$B$66,"<=150") -> 1
B101: =SUM(B89:B100) -> 55

Sheet 2014
A1: Datum | B1: km | C1: čas | D1: průměrná rychlost | E1: nastoupané metry
A2: 41646 | B2: 12.68 | C2: 0.028958333 | D2: 18.24 | E2: 129
A3: 41650 | B3: 63.25 | C3: 0.12614583 | D3: 20.89 | E3: 635
A4: 41692 | B4: 88.54 | C4: 0.16605324 | D4: 22.21 | E4: 716
A5: 41712 | B5: 40.63 | C5: 0.081724537 | D5: 20.72 | E5: 425
A6: 41719 | B6: 41.02 | C6: 0.088877315 | D6: 19.23 | E6: 417
A7: 41720 | B7: 89.47 | C7: 0.18384259 | D7: 20.27 | E7: 740 | G7: =SUM(B2:B21) -> 1008.38
A8: 41730 | B8: 15.2 | C8: 0.033402778 | D8: 18.96 | E8: 168
A9: 41733 | B9: 28.04 | C9: 0.056886574 | D9: 20.53 | E9: 257
A10: 41734 | B10: 89.27 | C10: 0.18883102 | D10: 19.69 | E10: 1354
A11: 41754 | B11: 11.65 | C11: 0.025787037 | D11: 18.84 | E11: 117
A12: 41760 | B12: 11.9 | C12: 0.025578704 | D12: 19.39 | E12: 198
A13: 41767 | B13: 76.75 | C13: 0.15774306 | D13: 20.27 | E13: 760
A14: 41769 | B14: 78.45 | C14: 0.16979167 | D14: 19.25 | E14: 1275
A15: 41771 | B15: 27.5 | C15: 0.058171296 | D15: 19.69 | E15: 157
A16: 41780 | B16: 68.76 | C16: 0.14614583 | D16: 19.60 | E16: 606
A17: 41781 | B17: 6.71 | C17: 0.014722222 | D17: 18.69 | E17: 30
A18: 41790 | B18: 89.99 | C18: 0.17168981 | D18: 21.84 | E18: 887 | F18: Pokořen Mt. Everest
A19: 41791 | B19: 36.06 | C19: 0.086585648 | D19: 17.35 | E19: 430
A20: 41797 | B20: 85.4 | C20: 0.17430556 | D20: 18.5 | E20: 1325
A21: 41800 | B21: 47.11 | C21: 0.0965625 | D21: 20.33 | E21: 344
A22: 41804 | B22: 48.29 | C22: 0.14491898 | D22: 13.88 | E22: 1039 | F22: Ztracené Kobylky 2014 | G22: 15
A23: 41805 | B23: 55.33 | C23: 0.17077546 | D23: 11.7 | E23: 950
A24: 41817 | B24: 43.21 | C24: 0.084594907 | D24: 21.28 | E24: 476
A25: 41818 | B25: 35.07 | C25: 0.093912037 | D25: 15.56 | E25: 229
A26: 41824 | B26: 109.26 | C26: 0.22142361 | D26: 19.99 | E26: 790 | F26: Akce Jižní Čechy s Jirkou
A27: 41825 | B27: 114.72 | C27: 0.23266204 | D27: 20.54 | E27: 746
A28: 41826 | B28: 121.73 | C28: 0.2575463 | D28: 19.73 | E28: 979
A29: 41827 | B29: 79.87 | C29: 0.16054398 | D29: 20.73 | E29: 281
A30: 41833 | B30: 47.44 | C30: 0.13400463 | D30: 14.75 | E30: 165 | F30: Dovolená s Kristýnou
A31: 41834 | B31: 46.32 | C31: 0.12638889 | D31: 15.27 | E31: 158
A32: 41835 | B32: 51.31 | C32: 0.13603009 | D32: 15.71 | E32: 159
A33: 41837 | B33: 17.31 | C33: 0.036967593 | D33: 19.51 | E33: 283
A34: 41844 | B34: 11.98 | C34: 0.025092593 | D34: 19.89 | E34: 117
A35: 41852 | B35: 11.95 | C35: 0.026377315 | D35: 18.88 | E35: 118
A36: 41856 | B36: 5.87 | C36: 0.013055556 | D36: 18.7 | E36: 46
A37: 41856 | B37: 5.9 | C37: 0.013831019 | D37: 17.78 | E37: 108
A38: 41859 | B38: 14.12 | C38: 0.024155093 | D38: 18.92 | E38: 130
A39: 41863 | B39: 51.2 | C39: 0.098414352 | D39: 21.67 | E39: 644
A40: 41869 | B40: 34.78 | C40: 0.068657407 | D40: 21.11 | E40: 396
A41: 41870 | B41: 33.29 | C41: 0.058831019 | D41: 23.58 | E41: 229
A42: 41871 | B42: 12.2 | C42: 0.027430556 | D42: 18.9 | E42: 168
... A46: 41892 | B46: 41.09 | C46: 0.075717593 | D46: 23.205 | E46: 392
A47: 41902 | B47: 74.65 | C47: 0.15418981 | D47: 20.17 | E47: 1061 | F47: Trénink na Zlaťák 2014
A48: 41910 | B48: 20.35 | C48: 0.057106481 | D48: 18.07 | E48: 1045 | F48: Zlaťák 2014 | G48: 47
A49: 41910 | B49: 12.86 | C49: 0.02150463 | E49: 0
A50: 41912 | B50: 19.43 | C50: 0.042106481 | D50: 19.23 | E50: 190
A51: 41913 | B51: 16.77 | C51: 0.036435185 | D51: 19.17 | E51: 244
A52: 41922 | B52: 11.87 | C52: 0.024814815 | D52: 19.93 | E52: 117
A53: 41923 | B53: 105.55 | C53: 0.20815972 | D53: 22.12 | E53: 1104
A54: 41933 | B54: 13.34 | C54: 0.031712963 | D54: 20.65 | E54: 136
A55: 41936 | B55: 41.98 | C55: 0.084398148 | D55: 20.72 | E55: 440
A56: 41947 | B56: 12.55 | C56: 0.029421296 | D56: 17.78 | E56: 130
A57: 41948 | B57: 12.54 | C57: 0.027523148 | D57: 18.98 | E57: 126
A58: 41964 | B58: 19.98 | C58: 0.042175926 | D58: 19.74 | E58: 212
A59: 41985 | B59: 39.66 | C59: 0.086203704 | D59: 19.17 | E59: 447
A60: 41987 | B60: 26.03 | C60: 0.058888889 | D60: 18.41 | E60: 361
A61: 41995 | B61: 29.15 | C61: 0.062789352 | D61: 19.34 | E61: 454
A62: - | B62: - | C62: - | D62: - | E62: -
A63: - | B63: - | C63: - | D63: - | E63: -
A64: - | B64: - | C64: - | D64: - | E64: -
A65: - | B65: - | C65: - | D65: - | E65: -
A66: - | B66: - | C66: - | D66: - | E66: -
A70: Leden | B70: =SUMIFS($B$2:$B$61,$A$2:$A$61,"<1.2.2014") -> 75.93 | C70: =COUNTIFS($A$2:$A$66,">=1.1.2014",$A$2:$A$66,"<=31.1.2014") -> 2
A71: Únor | B71: =SUMIFS($B$2:$B$61,$A$2:$A$61,"<1.3.2014")-SUMIFS($B$2:$B$61,$A$2:$A$61,"<1.2.2014") -> 88.54 | C71: =COUNTIFS($A$2:$A$66,">=1.2.2014",$A$2:$A$66,"<=28.2.2014") -> 1
A72: Březen | B72: =SUMIFS($B$2:$B$56,$A$2:$A$56,"<1.4.2014")-SUMIFS($B$2:$B$56,$A$2:$A$56,"<1.3.2014") -> 171.12 | C72: =COUNTIFS($A$2:$A$66,">=1.3.2014",$A$2:$A$66,"<=31.3.2014") -> 3
A73: Duben | B73: =SUMIFS($B$2:$B$61,$A$2:$A$61,"<1.5.2014")-SUMIFS($B$2:$B$61,$A$2:$A$61,"<1.4.2014") -> 144.16 | C73: =COUNTIFS($A$2:$A$66,">=1.4.2014",$A$2:$A$66,"<=30.4.2014") -> 4
A74: Květen | B74: =SUMIFS($B$2:$B$61,$A$2:$A$61,"<1.6.2014")-SUMIFS($B$2:$B$61,$A$2:$A$61,"<1.5.2014") -> 360.06 | C74: =COUNTIFS($A$2:$A$66,">=1.5.2014",$A$2:$A$66,"<=31.5.2014") -> 7
A75: Červen | B75: =SUMIFS($B$2:$B$61,$A$2:$A$61,"<1.7.2014")-SUMIFS($B$2:$B$61,$A$2:$A$61,"<1.6.2014") -> 350.47 | C75: =COUNTIFS($A$2:$A$66,">=1.6.2014",$A$2:$A$66,"<=30.6.2014") -> 7
A76: Červenec | B76: =SUMIFS($B$2:$B$61,$A$2:$A$61,"<1.8.2014")-SUMIFS($B$2:$B$61,$A$2:$A$61,"<1.7.2014") -> 599.94 | C76: =COUNTIFS($A$2:$A$66,">=1.7.2014",$A$2:$A$66,"<=31.7.2014") -> 9
A77: Srpen | B77: =SUMIFS(B:B,A:A,"<1.9.2014")-SUMIFS(B:B,A:A,"<1.8.2014") -> 169.31 | C77: =COUNTIFS($A$2:$A$66,">=1.8.2014",$A$2:$A$66,"<=31.8.2014") -> 8
A78: Září | B78: =SUMIFS(B:B,A:A,"<1.10.2014")-SUMIFS(B:B,A:A,"<1.9.2014") -> 291.6 | C78: =COUNTIFS($A$2:$A$66,">=1.9.2014",$A$2:$A$66,"<=30.9.2014") -> 8
A79: Říjen | B79: =SUMIFS(B:B,A:A,"<1.11.2014")-SUMIFS(B:B,A:A,"<1.10.2014") -> 189.51 | C79: =COUNTIFS($A$2:$A$66,">=1.10.2014",$A$2:$A$66,"<=31.10.2014") -> 5
A80: Listopad | B80: =SUMIFS(B:B,A:A,"<1.12.2014")-SUMIFS(B:B,A:A,"<1.11.2014") -> 45.07 | C80: =COUNTIFS($A$2:$A$66,">=1.11.2014",$A$2:$A$66,"<=30.11.2014") -> 3
A81: Prosinec | B81: =SUMIFS(B:B,A:A,"<31.12.2014")-SUMIFS(B:B,A:A,"<1.12.2014") -> 94.84 | C81: =COUNTIFS($A$2:$A$66,">=1.12.2014",$A$2:$A$66,"<=31.12.2014") -> 3
B82: =SUM(B70:B81) -> 2580.55 | C82: =SUM(C70:C81) -> 60
A85: Pod 500 metrů | B85: =SUMIFS(D2:D61,E2:E61,"<500")/COUNTIFS(E4:E58,"<500") -> 20.836081
A86: Mezi 500 a 1000 metry | B86: =SUMIFS(D2:D61,E2:E61,">500",E2:E61,"<1000")/COUNTIFS(E2:E61,">500",E2:E61,"<1000") -> 18.185833
A87: Nad 1000 metrů | B87: =SUMIFS(D2:D61,E2:E61,">1000")/COUNTIFS(E2:E61,">1000") -> 18.811429
A90: Délka cesty | B90: Počet
A91: do 10 km | B91: =COUNTIFS($B$2:$B$66,"<=10") -> 3
A92: nad 10 km | B92: =COUNTIFS($B$2:$B$66,">=10",$B$2:$B$66,"<20") -> 18
A93: nad 20 km | B93: =COUNTIFS($B$2:$B$66,">=20",$B$2:$B$66,"<30") -> 5
A94: nad 30 km | B94: =COUNTIFS($B$2:$B$66,">=30",$B$2:$B$66,"<40") -> 6
A95: nad 40 km | B95: =COUNTIFS($B$2:$B$66,">=40",$B$2:$B$66,"<50") -> 9
A96: nad 50 km | B96: =COUNTIFS($B$2:$B$66,">=50",$B$2:$B$66,"<60") -> 3
A97: nad 60 km | B97: =COUNTIFS($B$2:$B$66,">=60",$B$2:$B$66,"<70") -> 3
A98: nad 70 km | B98: =COUNTIFS($B$2:$B$66,">=70",$B$2:$B$66,"<80") -> 4
A99: nad 80 km | B99: =COUNTIFS($B$2:$B$66,">=80",$B$2:$B$66,"<90") -> 5
A100: nad 90 km | B100: =COUNTIFS($B$2:$B$66,">=90",$B$2:$B$66,"<100") -> 0
A101: nad 100 km | B101: =COUNTIFS($B$2:$B$66,">=100",$B$2:$B$66,"<110") -> 2
A102: nad 110 km | B102: =COUNTIFS($B$2:$B$66,">=110",$B$2:$B$66,"<150") -> 2
B103: =SUM(B91:B102) -> 60

Sheet 2013
A1: Datum | B1: Popis cesty | C1: Kilometry (údaje z tachometru) | D1: Avg. speed | E1: Time | F1: Max. rychlost | G1: Nastoupáno (m) | H1: Max. výška (m.n.m)
A2: 41349 | B2: Z domova do Chýně. Pravda, byla ještě zima, ale to mě nemohlo odradit | C2: 23.2 | D2: 21.74 | E2: 0.044340278
A3: 41378 | B3: S bandou cyklistů (7) do Berouna a pak zpět do Prahy | C3: 103.08 | D3: 20.38 | E3: 0.21072917
A4: 41379 | B4: Do práce a pak s Jirkou do chýně a domů (nová cesta) | C4: 44.03 | D4: 18.96 | E4: 0.096770833
A5: 41385 | B5: Nedělní pojezd s Rudou a Honzou. Příjemná cesta Chýně, Okoř, Unětice. | C5: 71.51 | D5: 19.14 | E5: 0.15565972
A6: 41386 | B6: Cesta do práce, pak cesta na pivko do Zlých časů a v noci Prokopákem domů, kde jsem píchl a po tmě měnil duši. Zážitek :-) | C6: 31.1 | D6: 20.41 | E6: 0.063483796
A7: 41399 | B7: Cesta do Radotína na pivečko za Honzou a zpět přes Zbraslav na Novodvorskou a pivečko s Jirkou a domů - krásná oslava narozenin | C7: 47.54 | D7: 22.01 | E7: 0.090555556
A8: 41410 | B8: Cesta do práce a pak bohužel metrem domů. Déšť. | C8: 20.85 | D8: 21.62 | E8: 0.040196759
A9: 41413 | B9: Cesta Slaného přes Kladno s Jirkou - zase super den. | C9: 106.75 | D9: 20.83 | E9: 0.21347222 | F9: 72.91
A10: 41436 | B10: Do práce a pak přes Kroupovku domů | C10: 22.25 | D10: 19.65 | E10: 0.047175926
A11: 41437 | B11: Do práce a pak domů (zapsáno z endomonda - ztráta tachometru) | C11: 21.25 | D11: ?
A12: 41440 | B12: Z Rokytnice nad Jizerou výjezd na Luční boudu přes Špindlerův mlýn, Výrovku. Ochutnáno pivečko a pak přes Vrchlabí zpět. Více zde Na dně sil | C12: 92.7 | D12: 17.1 | E12: 0.22577546 | F12: 77.22 | G12: 2052 | H12: 1510
A13: 41443 | B13: Do práce a pak na floorball do Radotína přes Zbraslav | C13: 45.53 | D13: 20.64 | E13: 0.091956019 | G13: 264
A14: 41445 | B14: Do práce a zpět | C14: 34.82 | D14: 21.42 | E14: 0.067743056
A15: 41454 | B15: Ztracené kobylky - můj první MTBO. Bylo to úžasné - nakonec 10. místo v kategorii MM, více zde: Ztracené kobylky 2013 | C15: 63.41 | D15: 15.51 | E15: 0.16922454 | G15: 1385
A16: 41459 | B16: Tour de Morava (Jirka, Štěpka, já)-odjezd do kempu Mars u Nových mlýnů. V Břeclavi jsem si narazil ruku při pádu. Po příjezdu do kempu mi upadla přehazovačka. Dovolená pěkně začala :-) | C16: 43.23 | D16: 18.14 | E16: 0.099270833 | G16: 142
A17: 41460 | B17: Tour de Morava - ráno mě hodili i s kolem dobří lidé do Lednice do servisu, kde mi opravili kolo a vyrazili jsme na cestu. | C17: 59.26 | D17: 17.98 | E17: 0.13730324 | G17: 373
A18: 41461 | B18: Tour de Morava - cesta po pivovarech Jižní Moravy. Bylo to příjemné, ale náročné :-) | C18: 100.27 | D18: 18.51 | E18: 0.225625 | G18: 736
A19: 41462 | B19: Tour de Morava - cesta směr soutok Moravy a Dyje | C19: 106.21 | D19: 17.95 | E19: 0.24650463 | G19: 254
A20: 41463 | B20: Tour de Morava - cesta s bagážema do Brna a pak vlakem do Prahy | C20: 75.9 | D20: 17.33 | E20: 0.1824537 | G20: 684
A21: 41478 | B21: Do práce | C21: 29.42 | D21: 22.04 | E21: 0.055636574 | G21: 175
A22: 41479 | B22: Do práce, floorball a domů | C22: 47.18 | D22: 22.72 | E22: 0.08650463 | G22: 228
A23: Nevím | C23: 12.39 | D23: 19.47 | E23: 0.026631944 | G23: 407
A24: Nevím | B24: Už nevím kam | C24: 86.03 | D24: 21.52 | E24: 0.16652778 | G24: 584
A25: 41482 | B25: Už nevím kam | C25: 64.52 | D25: 21.87 | E25: 0.12304398 | G25: 475
A26: Nevím | B26: Už nevím kam | C26: 34.04 | D26: 18.36 | E26: 0.077256944 | G26: 305
A27: Nevím | B27: Už nevím kam | C27: 32.92 | D27: 20.21 | E27: 0.067858796 | G27: 276
A28: 41501 | B28: Do práce a pak do Chýně a domů | C28: 32.25 | D28: 21.51 | E28: 0.062476852 | G28: 282
A29: Nevím | B29: Už nevím kam | C29: 33.54 | D29: 15.17 | E29: 0.092013889 | G29: 723
A30: 41552 | B30: Vocetcup | C30: 35.26 | D30: 17.82 | E30: 0.082453704 | G30: 1028
A31: Nevím | B31: Už nevím kam | C31: 58.7 | D31: 20.77 | E31: 0.11773148 | G31: 530
A32: Nevím | B32: Už nevím kam | C32: 23.31 | D32: 18.7 | E32: 0.051944444 | G32: 232
A33: 41583 | B33: Do práce a zpět | C33: 12.36 | D33: 16.78 | E33: 0.03068287 | G33: 131
A34: 41586 | B34: Do práce a zpět | C34: 12.12 | D34: 17.49 | E34: 0.028865741 | G34: 119
B35: Celkem | C35: 728,02km | D35: 19.95 | E35: 1.5170833 | G35: 3704

Sheet 2012
A1: 40969 | B1: Do práce a zpět | C1: 32.87 | D1: 21.33 | E1: 0.064212963
A2: 40973 | B2: Do práce a zpět | C2: 32.46 | D2: 23.75 | E2: 0.056956019
A3: 40976 | B3: Do Chýně a zpět | C3: 23.52 | D3: 24.36 | E3: 0.040243056
A4: 40984 | B4: Cesta po darování krvi Radotín -> Zbraslav -> domů | C4: 36.51 | D4: 23.78 | E4: 0.063969907
A5: 40986 | B5: S Káťou do Chýně, kde pár piveček i s Jirkou a pak zpět přes Hostivice a Zličín | C5: 24.27 | D5: 14.51 | E5: 0.069699074
A6: 40994 | B6: Do práce a po práci se Sojčíkem okruh Radotín -> Zbraslav -> Domů | C6: 52.63 | D6: 21.33 | E6: 0.064212963
A7: 40996 | B7: Do práce a pak s Jirkou a Sojčíkem do Chýně a domů | C7: 53.93 | D7: 20.88 | E7: 0.10068287
A8: 41020 | B8: K babičce si něco vyzvednout a zpět | C8: 17.29 | D8: 17.91 | E8: 0.040208333
A9: 41024 | B9: Do práce a pak s Jirkou do Chýně a domů | C9: 52.57 | D9: 20.97 | E9: 0.10443287
A10: 41025 | B10: Do práce a pak do Horních Beřkovic | C10: 61 | D10: 23.43 | E10: 0.10846065
A11: 41026 | B11: Z Beřkovic do Práce a pak domů | C11: 60.16 | D11: 22.34 | E11: 0.11217593
A12: 41029 | B12: Do práce a pak domů | C12: 29.21 | D12: 24.19 | E12: 0.0503125
... A48: 41163 | B48: Z Roudnice nad Labem domů do Prahy | C48: 75.38 | D48: 21.76 | E48: 0.14434028
C50: =SUM(C1:C49) -> 2220.53

Sheet 2011
A1: 40623 | B1: Do Chýně a zpět | C1: 23.5 | D1: - | E1: -
A2: 40625 | B2: Na konec Prokopského údolí | C2: 9.5 | D2: - | E2: -
A3: 40626 | B3: Do Chýně a zpět | C3: 24.5 | D3: - | E3: -
A4: 40630 | B4: Do Chýně a zpět | C4: 22 | D4: - | E4: -
A5: 40634 | B5: Do Chýně a zpět | C5: 22.5 | D5: - | E5: -
A6: 40640 | B6: Do Chýně a zpět přes Sobín | C6: 28 | D6: - | E6: -
A7: 40649 | B7: Cesta na závody do Uhříněvsi | C7: 54 | D7: - | E7: -
A8: 40651 | B8: Cesta do práce a zpátky přes Zbraslav | C8: 45 | D8: - | E8: -
A9: 40652 | B9: Cesta do práce, na angličtinu a k babičce | C9: 41 | D9: - | E9: -
A10: 40660 | B10: Cesta do práce a po práci se Sojkou po nábřezí směr Modřanské kino a domů | C10: 38 | D10: - | E10: -
A11: 40661 | B11: Cesta do práce a po práci po nábřezí směr Modřanské kino a domů | C11: 37.5 | D11: - | E11: -
A12: 40662 | B12: Cesta do práce a po práci po nábřezí do Hostivic pak do Chýně a domů, cestou pár zastávek na dobré pivečko s Jirkou (mimochodem je v závodním týmu beerteam na akci na kole do práce :-) | C12: 54.6 | D12: - | E12: -
A13: 40672 | B13: Cesta do práce a později směr Lety, kde byla návštěva pivovaru MMX s křidélkami a pak návrat domů kvůli hokeji. | C13: 73.1 | D13: 21.45 | E13: 0.14200231
A14: 40673 | B14: Cesta do práce, směrem na angličtinu na Nové Butovice a pak domů. Ráno píchlá duše na Národní třídě | C14: 26 | D14: 19.7 | E14: 0.056215278
A15: 40674 | B15: Cesta do práce bohužel na pár dní konečná s cyklo - nutno dát do servisu | C15: 14.56 | D15: 25,49* | E15: 0.023831019
A16: 40679 | B16: Cesta z práce na opraveném kole, sraz se Sojčíkem na Karláku později zjištěno, že servis nebyl zase tak super | C16: 12.49 | D16: 19.55 | E16: 0.026377315
A17: 40680 | B17: Cesta do práce, abych dal kolo znovu do servisu. Nakonec rychlá oprava a návrat přes angličtinu domů | C17: 25.78 | D17: 21.38 | E17: 0.050231481
A18: 40681 | B18: Cesta do práce, kde nechávám kolo do čtvrtka, protože jedu do Beřkovic | C18: 14.62 | D18: 27,43* | E18: 0.022222222
A19: 40687 | B19: Cesta do práce, pak angličtina a vyjížďka směr Hostivice a Chýně a domů. Moc příjemná:-) | C19: 48.49 | D19: 20.76 | E19: 0.097222222
A20: 40689 | B20: Cesta do práce a po práci se přibližuji vlakem do stanice Libčice nad Vltavou a dále pokračuji na kole do Horních Beřkovic. Několik nepříjemností a hlavně zajížděk. S cyklostezkou to mělo pramálo společného, ale bylo to super | C20: 58.89 | D20: 21.37 | E20: 0.11478009
A21: 40690 | B21: Cesta z práce domů | C21: 15.35 | D21: 20.29 | E21: 0.031585648
A22: 40693 | B22: Cesta do práce po práci na náplavce pivečko, směr anděl (předání materiálů Honzovi) pokračování na Charitas tour (cesta za babičkou), pak za tetou a domů | C22: 30.57 | D22: 20.68 | E22: 0.061597222
A23: 40694 | B23: Cesta do práce, pak angličtina a domů. | C23: 26.45 | D23: 21.02 | E23: 0.052453704
A24: 40697 | B24: Cesta do práce a pak domů. | C24: 30.16 | D24: 21.1 | E24: 0.059560185
A25: 40698 | B25: Cesta do Stiřína, která začínala za krásného cyklistického počasí a končila bouřkou, která samozřejmě nikomu a ničemu nevadila. Fotky k vidění zde (až budou tak budou) | C25: 76.14 | D25: 20.85 | E25: 0.15217593
A26: 40699 | B26: Cesta s mámou na Karlštejn přes Řevnice, Lety do Černošic, kde nástup na vlak a domů už jen MHD. Výlet moc hezký a máma spokojená :-) | C26: 39.72 | D26: 16.7 | E26: 0.099085648
A27: 40700 | B27: Cesta do práce (kolo nechaný v práci, protože přišla odpolední bouřka) Vsadil jsem se se šéfem o pivo, že nebude pršet a prohrál sem :-( | C27: 14.64 | D27: 23.68 | E27: 0.025775463
A28: 40705 | B28: Cesta do práce. Odpoledne cesta metrem i s kolem (přijela Káťa na koncert Lanuga) | C28: 17.99 | D28: 22.02 | E28: 0.034039352
A29: 40707 | B29: Cesta do práce a pak domů. | C29: 29.33 | D29: 23.86 | E29: 0.051226852
A30: 40709 | B30: Cesta do práce po práci na náplavce pivečka pokračování na Charitas tour (cesta za babičkou)a pak do intersportu a domů | C30: 35.48 | D30: 19.89 | E30: 0.074305556
... A32: 40714 | B32: Cesta do práce po práci směr Anděl, kde mám za úkol vytisknout fotku na svatbu. Vylezl jsem z copycentra a kolo nikde. Ano je to tak!!! Cikáni mi ukradli mé zlaté kolo. Jak se to stalo se dočtete zde | C32: 17.6 | D32: 24.08 | E32: 0.030462963
A33: 40722 | B33: Cesta do práce po práci na náplavce Dudák, se Štěpánem a Jirkou na Zbraslav a pak domů | C33: 47.2
A34: 40724 | B34: Cesta do práce a domů | C34: 29.3
A35: 40726 | B35: Dovolená První výlet naší dovolené s Káťou. Bylo to hezké, ale asi na začátek trochu náročnější terén. Myslím, že se to ale nakonec celkem povedlo :-) | C35: 32.3
A36: 40728 | B36: Dovolená Krátká vyjížďka kvůli špatnému počasí. | C36: 10.2
A37: 40730 | B37: Dovolená Projížďka směr Lipno nad Vltavou a zpět - udělalo se hezky tak jsme toho využili | C37: 22.5
A38: 40730 | B38: Dovolená Na začátku výletu bylo hezky a v půlce přišla taková průtrž mračen, že jsme se museli schovat v Lipně do restaurace | C38: 25
A39: 40731 | B39: Dovolená Krásná vyjížďka okolo Třeboně | C39: 31.5
A40: 40732 | B40: Dovolená Krásná vyjížďka okolo Třeboně 2 | C40: 42.4
A41: 40732 | B41: Dovolená Ráno pro pečivo do Třeboně a zpět - myslím, že to byl super počin | C41: 8
A42: 40735 | B42: Cesta do práce pak s kolem na garančku kola, dále do pivovaru v Uněticích a přes město za babičkou a domů | C42: 69.83 | D42: 23.39 | E42: 0.124375
A43: 40736 | B43: Cesta do práce a domů | C43: 31.76 | D43: 22.4 | E43: 0.059074074
A44: 40738 | B44: Cesta do práce a potom do Horních Beřkovic | C44: 79.91 | D44: 25,78* | E44: 0.12912037
A45: 40739 | B45: Cesta do práce z Horních Beřkovic | C45: 48.8 | D45: 23.18 | E45: 0.087731481
A46: 40799 | B46: Do Chýně a zpět | C46: 23.6 | D46: 23.19 | E46: 0.042488426
A47: 40807 | B47: Cesta do práce a potom do Horních Beřkovic | C47: 65.65 | D47: 23.64 | E47: 0.11569444
A48: 40808 | B48: Cesta do práce z Horních Beřkovic | C48: 63.26 | D48: 22.37 | E48: 0.1178125
C50: =SUM(C1:C49) -> 1690.22

Sheet Ztracené kobylky
B1: 2013 | C1: 2014 | D1: 2015 | E1: 2016 | F1: 2017 | G1: 2018 | H1: 2019 | I1: 2021 | J1: 2022 | K1: 2023 | L1: 2024 (MD) | M1: 2025 (MD)
A2: Vzdálenost | B2: 63.41 | C2: 48.29 | D2: 71.96 | E2: 80.28 | F2: 67.07 | G2: 82.04 | H2: 75.6 | I2: 74.16 | J2: 73.25 | K2: 69.23 | L2: ='2024'!D40 -> 51.93 | M2: ='2025'!D41 -> 58.34
A3: Nastoupané metry | B3: 1385 | C3: 1039 | D3: 1358 | E3: 1428 | F3: 1403 | G3: 1456 | H3: 1363 | I3: 1349 | J3: 1095 | K3: 1643 | L3: ='2024'!G40 -> 1154 | M3: ='2025'!G41 -> 1184
A4: Čas pohybu | B4: 0.16922454 | C4: 0.14491898 | D4: 0.18645833 | E4: 0.19947917 | F4: 0.20539352 | G4: 0.19612269 | H4: 0.20023148 | I4: 0.2112963 | J4: 0.19586806 | K4: 0.18554398 | L4: ='2024'!E40 -> 0.18028935 | M4: 0.1815162
A5: Průměrná rychlost | B5: 15.51 | C5: 13.88 | D5: 16.08 | E5: 16.77 | F5: 13.6 | G5: 17.43 | H5: 15.73 | I5: 14.6 | J5: 15.4 | K5: 15.5 | L5: ='2024'!F40 -> 12.04 | M5: 13.4
A6: Umístění v kategorii | B6: 10 | C6: 15 | D6: 12 | E6: 17 | F6: 19 | G6: 9 | H6: 20 | I6: 12 | J6: 15 | K6: 12 | L6: 10 | M6: 7
A7: Počet týmů v kategorii | B7: 19 | C7: 23 | D7: 25 | E7: 32 | F7: 24 | G7: 18 | H7: 29 | I7: 32 | J7: 35 | K7: 19 | L7: 25 | M7: 18
A8: Umístění celkové | B8: 43 | C8: 46 | D8: 42 | E8: 57 | F8: 57 | G8: 45 | H8: 62 | I8: 44 | J8: 59 | K8: 50 | L8: 69 | M8: 93
A9: Body celkově | B9: 490 | C9: 440 | D9: 500 | E9: 690 | F9: 440 | G9: 510 | H9: 360 | I9: 509 | J9: 484 | K9: 484 | L9: 552 | M9: 453

Sheet Zlaťák
A1: Rok | B1: 2000 | C1: 2001 | D1: 2002 | E1: 2003 | F1: 2004 | G1: 2005 | H1: 2006 | I1: 2007 | J1: 2008 | K1: 2009 | L1: 2010 | M1: 2011 | N1: 2012 | O1: 2013 | P1: 2014 | Q1: 2015 | R1: 2016 | S1: 2017 | T1: 2018 | U1: 2019 | V1: 2020 | W1: 2021
A2: čas | E2: 0.061909722 | F2: 0.059108796 | G2: 0.057013889 | H2: 0.05818287 | J2: 0.060162037 | K2: 0.062256944 | N2: 0.061828704 | O2: 0.062719907 | P2: 0.057106481 | Q2: 0.063275463 | R2: 0.067986111 | T2: 0.062349537 | U2: 0.059560185 | V2: 0.061377315 | W2: 0.062627315
A3: pořadí | E3: 37 | F3: 22 | G3: 30 | H3: 28 | J3: 29 | K3: 57 | N3: 71 | O3: 65 | P3: 47 | Q3: 65 | R3: 49 | T3: 29 | U3: 19 | V3: 31 | W3: 34

Sheet Srovnání červencových cest
B1: 13_Morava | C1: 14_J. Čechy | D1: 16_Bratislava | E1: 17_Šumava | F1: 18_Brno | G1: 19_Krušné | H1: 20_Krkonoše | I1: 21_Jeseníky | J1: 22_Sever | K1: 23_Východ | L1: 24_Drážďany
A2: Počet dnů | B2: 5 | C2: 4 | D2: 5 | E2: 4 | F2: 4 | G2: 4 | H2: 3 | I2: 4 | J2: 4 | K2: 4 | L2: 3
A3: Celkem km | B3: =SUM('2013'!C16:C20) -> 384.87 | C3: =SUM('2014'!B26:B29) -> 425.58 | D3: 495.5 | E3: 330.69 | F3: =SUM('2018'!D45:D49)-29.51 -> 392.68 | G3: 405.74 | H3: =SUM('2020'!D49:D51) -> 228.73 | I3: 322.24 | J3: 330.5 | K3: 336.47 | L3: 210.93
A4: nastoupáno metrů | B4: =SUM('2013'!G16:G20) -> 2189 | C4: =SUM('2014'!E26:E29) -> 2796 | D4: 5073 | E4: =SUM('2017'!G32:G35) -> 4865 | F4: =SUM('2018'!G45:G49)-213 -> 5451 | G4: 5084 | H4: =SUM('2020'!G49:G51) -> 4999 | I4: 4642 | J4: 5527 | K4: 5066 | L4: 1379
A5: celkový čas | B5: =SUM('2013'!E16:E20) -> 0.89115741 | C5: =SUM('2014'!C26:C29) -> 0.87217593 | D5: 1.1873958 | E5: =SUM('2017'!E32:E35) -> 0.86175926 | F5: 1.0265856 | G5: 1.0764815 | H5: =SUM('2020'!E49:E51) -> 0.7134375 | I5: 0.92604167 | J5: 0.93144676 | K5: 0.92340278 | L5: 0.48680556
A6: průměrná rychlost | B6: =AVERAGE('2013'!D16:D20) -> 17.982 | C6: =AVERAGE('2014'!D26:D29) -> 20.2475 | D6: =AVERAGE('2016'!F31:F36) -> 16.673333 | E6: =AVERAGE('2017'!F32:F35) -> 15.765 | F6: =AVERAGE('2018'!F46:F49) -> 15.8275 | G6: 15.84 | H6: =AVERAGE('2020'!F49:F51) -> 13.6 | I6: 14.52 | J6: 14.78 | K6: 15.31 | L6: 18.02
A9: přepočteno na 1 den | B9: 2013 | C9: 2014 | D9: 2016 | E9: 2017 | F9: 2018 | G9: 2019 | H9: 2020 | I9: 2021 | J9: 2022 | K9: 2023 | L9: 2024
A10: Počet dnů | B10: 5 | C10: 4 | D10: 5 | E10: 4 | F10: 4 | G10: 4 | H10: 3 | I10: 4 | J10: 4 | K10: 4 | L10: 3
A11: km na den | B11: =B3/B2 -> 76.974 | C11: =C3/C2 -> 106.395 | D11: =D3/D2 -> 99.1 | E11: =E3/E2 -> 82.6725 | F11: =F3/F2 -> 98.17 | G11: =G3/G2 -> 101.435 | H11: =H3/H2 -> 76.243333 | I11: =I3/I2 -> 80.56 | ... L11: =L3/L2 -> 70.31
A12: nastoupáno metrů | B12: =B4/B$2 -> 437.8 | C12: =C4/C$2 -> 699 | D12: =D4/D$2 -> 1014.6 | E12: =E4/E$2 -> 1216.25 | F12: =F4/F$2 -> 1362.75 | G12: =G4/G$2 -> 1271 | H12: =H4/H$2 -> 1666.3333 | I12: =I4/I$2 -> 1160.5 | ... L12: =L4/L$2 -> 459.66667
A13: celkový čas | B13: =B5/B$2 -> 0.17823148 | C13: =C5/C$2 -> 0.21804398 | D13: =D5/D$2 -> 0.23747917 | E13: =E5/E$2 -> 0.21543981 | F13: =F5/F$2 -> 0.25664641 | G13: =G5/G$2 -> 0.26912037 | H13: =H5/H$2 -> 0.2378125 | I13: =I5/I$2 -> 0.23151042 | ... L13: =L5/L$2 -> 0.16226852

Sheet Moje kolo
A2: Značka | B2: Giant
A3: Model | B3: Terrago
A5: Barva | B5: Metallic Black / Neon Orange / Black
A6: Rám | B6: ALUXX Aluminum
A7: Vidlice | B7: RockShox Recon RL Remote Solo Air 29, zdvih 100 mm, zamykání z řídítek, Boost 15x110 mm, sloupek OverDrive
A8: Řídítka | B8: Giant Connect Trail, 780 x 31,8 mm
A9: Představec | B9: Giant Connect, úhel 8°
A10: Sedlovka | B10: Giant Connect, 30,9 mm
A11: Sedlo | B11: Giant Connect (Upright)
A12: Pedály | B12: SHIMANO XT PLATFORM
A13: Řazení | B13: Shimano XT, převody 2x11 ++
A14: Přesmykač | B14: Shimano XT 8025 ++
... A24: Pláště | B24: Maxxis Ikon, 29x2.2, 60 TPI
A26: Brzdové kotouče | B26: Shimano SM-RT66 (160mm) | C26: 399
B27: Shimano SM-RT66 (180mm) | C27: 399
